BEGIN:VCALENDAR
VERSION:2.0
PRODID:-//Moveable Feast - ECPv6.15.13//NONSGML v1.0//EN
CALSCALE:GREGORIAN
METHOD:PUBLISH
X-ORIGINAL-URL:https://mvblfeast.com
X-WR-CALDESC:Events for Moveable Feast
REFRESH-INTERVAL;VALUE=DURATION:PT1H
X-Robots-Tag:noindex
X-PUBLISHED-TTL:PT1H
BEGIN:VTIMEZONE
TZID:America/Los_Angeles
BEGIN:DAYLIGHT
TZOFFSETFROM:-0800
TZOFFSETTO:-0700
TZNAME:PDT
DTSTART:20240310T100000
END:DAYLIGHT
BEGIN:STANDARD
TZOFFSETFROM:-0700
TZOFFSETTO:-0800
TZNAME:PST
DTSTART:20241103T090000
END:STANDARD
BEGIN:DAYLIGHT
TZOFFSETFROM:-0800
TZOFFSETTO:-0700
TZNAME:PDT
DTSTART:20250309T100000
END:DAYLIGHT
BEGIN:STANDARD
TZOFFSETFROM:-0700
TZOFFSETTO:-0800
TZNAME:PST
DTSTART:20251102T090000
END:STANDARD
BEGIN:DAYLIGHT
TZOFFSETFROM:-0800
TZOFFSETTO:-0700
TZNAME:PDT
DTSTART:20260308T100000
END:DAYLIGHT
BEGIN:STANDARD
TZOFFSETFROM:-0700
TZOFFSETTO:-0800
TZNAME:PST
DTSTART:20261101T090000
END:STANDARD
END:VTIMEZONE
BEGIN:VEVENT
DTSTART;TZID=America/Los_Angeles:20250227T113000
DTEND;TZID=America/Los_Angeles:20250227T133000
DTSTAMP:20260423T194347
CREATED:20250226T004756Z
LAST-MODIFIED:20250226T004756Z
UID:82969-1740655800-1740663000@mvblfeast.com
SUMMARY:Stanford Research Park
DESCRIPTION:3 Brothers Kitchen
URL:https://mvblfeast.com/event/scu-8/2025-02-27/
LOCATION:Stanford Research Park\, 3215 Porter Dr\, Palo Alto\, CA\, 94304\, United States
END:VEVENT
BEGIN:VEVENT
DTSTART;TZID=America/Los_Angeles:20250227T113000
DTEND;TZID=America/Los_Angeles:20250227T133000
DTSTAMP:20260423T194347
CREATED:20250204T002022Z
LAST-MODIFIED:20250204T002022Z
UID:82895-1740655800-1740663000@mvblfeast.com
SUMMARY:Stanford Research Park
DESCRIPTION:Thai Thai
URL:https://mvblfeast.com/event/scu-8/2025-02-27/
LOCATION:Stanford Research Park\, 3215 Porter Dr\, Palo Alto\, CA\, 94304\, United States
END:VEVENT
BEGIN:VEVENT
DTSTART;TZID=America/Los_Angeles:20250220T113000
DTEND;TZID=America/Los_Angeles:20250220T133000
DTSTAMP:20260423T194347
CREATED:20250204T001946Z
LAST-MODIFIED:20250204T001946Z
UID:82893-1740051000-1740058200@mvblfeast.com
SUMMARY:Stanford Research Park
DESCRIPTION:Akita
URL:https://mvblfeast.com/event/scu-8/2025-02-20/
LOCATION:Stanford Research Park\, 3215 Porter Dr\, Palo Alto\, CA\, 94304\, United States
END:VEVENT
END:VCALENDAR