BEGIN:VCALENDAR
VERSION:2.0
PRODID:-//Moveable Feast - ECPv6.15.13//NONSGML v1.0//EN
CALSCALE:GREGORIAN
METHOD:PUBLISH
X-WR-CALNAME:Moveable Feast
X-ORIGINAL-URL:https://mvblfeast.com
X-WR-CALDESC:Events for Moveable Feast
REFRESH-INTERVAL;VALUE=DURATION:PT1H
X-Robots-Tag:noindex
X-PUBLISHED-TTL:PT1H
BEGIN:VTIMEZONE
TZID:America/Los_Angeles
BEGIN:DAYLIGHT
TZOFFSETFROM:-0800
TZOFFSETTO:-0700
TZNAME:PDT
DTSTART:20220313T100000
END:DAYLIGHT
BEGIN:STANDARD
TZOFFSETFROM:-0700
TZOFFSETTO:-0800
TZNAME:PST
DTSTART:20221106T090000
END:STANDARD
BEGIN:DAYLIGHT
TZOFFSETFROM:-0800
TZOFFSETTO:-0700
TZNAME:PDT
DTSTART:20230312T100000
END:DAYLIGHT
BEGIN:STANDARD
TZOFFSETFROM:-0700
TZOFFSETTO:-0800
TZNAME:PST
DTSTART:20231105T090000
END:STANDARD
BEGIN:DAYLIGHT
TZOFFSETFROM:-0800
TZOFFSETTO:-0700
TZNAME:PDT
DTSTART:20240310T100000
END:DAYLIGHT
BEGIN:STANDARD
TZOFFSETFROM:-0700
TZOFFSETTO:-0800
TZNAME:PST
DTSTART:20241103T090000
END:STANDARD
BEGIN:DAYLIGHT
TZOFFSETFROM:-0800
TZOFFSETTO:-0700
TZNAME:PDT
DTSTART:20250309T100000
END:DAYLIGHT
BEGIN:STANDARD
TZOFFSETFROM:-0700
TZOFFSETTO:-0800
TZNAME:PST
DTSTART:20251102T090000
END:STANDARD
END:VTIMEZONE
BEGIN:VEVENT
DTSTART;TZID=America/Los_Angeles:20240417T100000
DTEND;TZID=America/Los_Angeles:20240417T140000
DTSTAMP:20260423T202106
CREATED:20240329T030730Z
LAST-MODIFIED:20240329T030834Z
UID:81611-1713348000-1713362400@mvblfeast.com
SUMMARY:SCU Pod
DESCRIPTION:Fire and Rice
URL:https://mvblfeast.com/event/scu-pod-7-2024-04-17/
LOCATION:Santa Clara University\, 500 El Camino Real\, Santa Clara\, CA\, 95050\, United States
END:VEVENT
BEGIN:VEVENT
DTSTART;TZID=America/Los_Angeles:20240410T100000
DTEND;TZID=America/Los_Angeles:20240410T140000
DTSTAMP:20260423T202106
CREATED:20240329T030730Z
LAST-MODIFIED:20240329T030822Z
UID:81610-1712743200-1712757600@mvblfeast.com
SUMMARY:SCU Pod
DESCRIPTION:Waffle Amore
URL:https://mvblfeast.com/event/scu-pod-7-2024-04-10/
LOCATION:Santa Clara University\, 500 El Camino Real\, Santa Clara\, CA\, 95050\, United States
END:VEVENT
BEGIN:VEVENT
DTSTART;TZID=America/Los_Angeles:20240403T100000
DTEND;TZID=America/Los_Angeles:20240403T140000
DTSTAMP:20260423T202106
CREATED:20240329T030730Z
LAST-MODIFIED:20240329T030814Z
UID:81609-1712138400-1712152800@mvblfeast.com
SUMMARY:SCU Pod
DESCRIPTION:Akita
URL:https://mvblfeast.com/event/scu-pod-7/
LOCATION:Santa Clara University\, 500 El Camino Real\, Santa Clara\, CA\, 95050\, United States
END:VEVENT
BEGIN:VEVENT
DTSTART;TZID=America/Los_Angeles:20240313T100000
DTEND;TZID=America/Los_Angeles:20240313T140000
DTSTAMP:20260423T202106
CREATED:20240221T011348Z
LAST-MODIFIED:20240221T011348Z
UID:81524-1710324000-1710338400@mvblfeast.com
SUMMARY:SCU POD
DESCRIPTION:I Love Cheesesteak
URL:https://mvblfeast.com/event/scu-pod-6/
LOCATION:Santa Clara University\, 500 El Camino Real\, Santa Clara\, CA\, 95050\, United States
END:VEVENT
BEGIN:VEVENT
DTSTART;TZID=America/Los_Angeles:20240306T100000
DTEND;TZID=America/Los_Angeles:20240306T140000
DTSTAMP:20260423T202106
CREATED:20240221T011247Z
LAST-MODIFIED:20240221T011247Z
UID:81522-1709719200-1709733600@mvblfeast.com
SUMMARY:SCU POD
DESCRIPTION:Oaxacan Kitchen
URL:https://mvblfeast.com/event/scu-pod-5/
LOCATION:Santa Clara University\, 500 El Camino Real\, Santa Clara\, CA\, 95050\, United States
END:VEVENT
BEGIN:VEVENT
DTSTART;TZID=America/Los_Angeles:20240228T100000
DTEND;TZID=America/Los_Angeles:20240228T140000
DTSTAMP:20260423T202106
CREATED:20240124T234819Z
LAST-MODIFIED:20240124T235009Z
UID:81418-1709114400-1709128800@mvblfeast.com
SUMMARY:SCU Pod
DESCRIPTION:Akita Sushi
URL:https://mvblfeast.com/event/scu-pod-4-2024-02-28/
LOCATION:Santa Clara University\, 500 El Camino Real\, Santa Clara\, CA\, 95050\, United States
END:VEVENT
BEGIN:VEVENT
DTSTART;TZID=America/Los_Angeles:20240221T100000
DTEND;TZID=America/Los_Angeles:20240221T140000
DTSTAMP:20260423T202106
CREATED:20240124T234819Z
LAST-MODIFIED:20240124T234957Z
UID:81417-1708509600-1708524000@mvblfeast.com
SUMMARY:SCU Pod
DESCRIPTION:Fire & Rice
URL:https://mvblfeast.com/event/scu-pod-4-2024-02-21/
LOCATION:Santa Clara University\, 500 El Camino Real\, Santa Clara\, CA\, 95050\, United States
END:VEVENT
BEGIN:VEVENT
DTSTART;TZID=America/Los_Angeles:20240214T100000
DTEND;TZID=America/Los_Angeles:20240214T140000
DTSTAMP:20260423T202106
CREATED:20240124T234819Z
LAST-MODIFIED:20240124T234948Z
UID:81416-1707904800-1707919200@mvblfeast.com
SUMMARY:SCU Pod
DESCRIPTION:I Love Cheesesteak
URL:https://mvblfeast.com/event/scu-pod-4-2024-02-14/
LOCATION:Santa Clara University\, 500 El Camino Real\, Santa Clara\, CA\, 95050\, United States
END:VEVENT
BEGIN:VEVENT
DTSTART;TZID=America/Los_Angeles:20240207T100000
DTEND;TZID=America/Los_Angeles:20240207T140000
DTSTAMP:20260423T202106
CREATED:20240124T234819Z
LAST-MODIFIED:20240124T234912Z
UID:81415-1707300000-1707314400@mvblfeast.com
SUMMARY:SCU Pod
DESCRIPTION:Oaxacan Kitchen
URL:https://mvblfeast.com/event/scu-pod-4/
LOCATION:Santa Clara University\, 500 El Camino Real\, Santa Clara\, CA\, 95050\, United States
END:VEVENT
BEGIN:VEVENT
DTSTART;TZID=America/Los_Angeles:20240131T100000
DTEND;TZID=America/Los_Angeles:20240131T140000
DTSTAMP:20260423T202106
CREATED:20231219T013501Z
LAST-MODIFIED:20231220T004223Z
UID:81093-1706695200-1706709600@mvblfeast.com
SUMMARY:SCU Pod
DESCRIPTION:Akita Sushi
URL:https://mvblfeast.com/event/scu-pod-4-2024-01-31/
LOCATION:Santa Clara University\, 500 El Camino Real\, Santa Clara\, CA\, 95050\, United States
END:VEVENT
BEGIN:VEVENT
DTSTART;TZID=America/Los_Angeles:20240124T100000
DTEND;TZID=America/Los_Angeles:20240124T140000
DTSTAMP:20260423T202106
CREATED:20231219T013501Z
LAST-MODIFIED:20231220T004209Z
UID:81092-1706090400-1706104800@mvblfeast.com
SUMMARY:SCU Pod
DESCRIPTION:Fire & Rice
URL:https://mvblfeast.com/event/scu-pod-4-2024-01-24/
LOCATION:Santa Clara University\, 500 El Camino Real\, Santa Clara\, CA\, 95050\, United States
END:VEVENT
BEGIN:VEVENT
DTSTART;TZID=America/Los_Angeles:20240117T100000
DTEND;TZID=America/Los_Angeles:20240117T140000
DTSTAMP:20260423T202106
CREATED:20231219T013501Z
LAST-MODIFIED:20231220T004158Z
UID:81091-1705485600-1705500000@mvblfeast.com
SUMMARY:SCU Pod
DESCRIPTION:I Love Cheesesteak
URL:https://mvblfeast.com/event/scu-pod-4-2024-01-17/
LOCATION:Santa Clara University\, 500 El Camino Real\, Santa Clara\, CA\, 95050\, United States
END:VEVENT
BEGIN:VEVENT
DTSTART;TZID=America/Los_Angeles:20240110T100000
DTEND;TZID=America/Los_Angeles:20240110T140000
DTSTAMP:20260423T202106
CREATED:20231219T013501Z
LAST-MODIFIED:20231220T004125Z
UID:81090-1704880800-1704895200@mvblfeast.com
SUMMARY:SCU Pod
DESCRIPTION:Oaxacan Kitchen
URL:https://mvblfeast.com/event/scu-pod-4-2024-01-10/
LOCATION:Santa Clara University\, 500 El Camino Real\, Santa Clara\, CA\, 95050\, United States
END:VEVENT
BEGIN:VEVENT
DTSTART;TZID=America/Los_Angeles:20231206T100000
DTEND;TZID=America/Los_Angeles:20231206T140000
DTSTAMP:20260423T202106
CREATED:20231026T011457Z
LAST-MODIFIED:20231128T192523Z
UID:80961-1701856800-1701871200@mvblfeast.com
SUMMARY:SCU Pod
DESCRIPTION:Oaxacan Kitchen
URL:https://mvblfeast.com/event/scu-pod-3-2023-12-06/
LOCATION:Santa Clara University\, 500 El Camino Real\, Santa Clara\, CA\, 95050\, United States
END:VEVENT
BEGIN:VEVENT
DTSTART;TZID=America/Los_Angeles:20231129T100000
DTEND;TZID=America/Los_Angeles:20231129T140000
DTSTAMP:20260423T202106
CREATED:20231026T011457Z
LAST-MODIFIED:20231026T011655Z
UID:80960-1701252000-1701266400@mvblfeast.com
SUMMARY:SCU Pod
DESCRIPTION:Akita Sushi
URL:https://mvblfeast.com/event/scu-pod-3-2023-11-29/
LOCATION:Santa Clara University\, 500 El Camino Real\, Santa Clara\, CA\, 95050\, United States
END:VEVENT
BEGIN:VEVENT
DTSTART;TZID=America/Los_Angeles:20231115T100000
DTEND;TZID=America/Los_Angeles:20231115T140000
DTSTAMP:20260423T202106
CREATED:20231026T011457Z
LAST-MODIFIED:20231026T011627Z
UID:80958-1700042400-1700056800@mvblfeast.com
SUMMARY:SCU Pod
DESCRIPTION:I Love Cheesesteak
URL:https://mvblfeast.com/event/scu-pod-3-2023-11-15/
LOCATION:Santa Clara University\, 500 El Camino Real\, Santa Clara\, CA\, 95050\, United States
END:VEVENT
BEGIN:VEVENT
DTSTART;TZID=America/Los_Angeles:20231108T100000
DTEND;TZID=America/Los_Angeles:20231108T140000
DTSTAMP:20260423T202106
CREATED:20231026T011457Z
LAST-MODIFIED:20231026T011608Z
UID:80957-1699437600-1699452000@mvblfeast.com
SUMMARY:SCU Pod
DESCRIPTION:Fire & Rice
URL:https://mvblfeast.com/event/scu-pod-3-2023-11-08/
LOCATION:Santa Clara University\, 500 El Camino Real\, Santa Clara\, CA\, 95050\, United States
END:VEVENT
BEGIN:VEVENT
DTSTART;TZID=America/Los_Angeles:20231101T100000
DTEND;TZID=America/Los_Angeles:20231101T140000
DTSTAMP:20260423T202106
CREATED:20231026T011457Z
LAST-MODIFIED:20231026T011559Z
UID:80955-1698832800-1698847200@mvblfeast.com
SUMMARY:SCU Pod
DESCRIPTION:Oaxacan Kitchen
URL:https://mvblfeast.com/event/scu-pod-3/
LOCATION:Santa Clara University\, 500 El Camino Real\, Santa Clara\, CA\, 95050\, United States
END:VEVENT
BEGIN:VEVENT
DTSTART;TZID=America/Los_Angeles:20231025T100000
DTEND;TZID=America/Los_Angeles:20231025T140000
DTSTAMP:20260423T202106
CREATED:20231010T005053Z
LAST-MODIFIED:20231010T005217Z
UID:80923-1698228000-1698242400@mvblfeast.com
SUMMARY:SCU Pod
DESCRIPTION:Akita Sushi
URL:https://mvblfeast.com/event/scu-pod-2-2023-10-25/
LOCATION:Santa Clara University\, 500 El Camino Real\, Santa Clara\, CA\, 95050\, United States
END:VEVENT
BEGIN:VEVENT
DTSTART;TZID=America/Los_Angeles:20231018T100000
DTEND;TZID=America/Los_Angeles:20231018T140000
DTSTAMP:20260423T202106
CREATED:20231010T005053Z
LAST-MODIFIED:20231010T005155Z
UID:80922-1697623200-1697637600@mvblfeast.com
SUMMARY:SCU Pod
DESCRIPTION:I Love Cheesesteak
URL:https://mvblfeast.com/event/scu-pod-2-2023-10-18/
LOCATION:Santa Clara University\, 500 El Camino Real\, Santa Clara\, CA\, 95050\, United States
END:VEVENT
BEGIN:VEVENT
DTSTART;TZID=America/Los_Angeles:20231011T100000
DTEND;TZID=America/Los_Angeles:20231011T140000
DTSTAMP:20260423T202106
CREATED:20231010T005053Z
LAST-MODIFIED:20231010T005201Z
UID:80920-1697018400-1697032800@mvblfeast.com
SUMMARY:SCU Pod
DESCRIPTION:Fire & Rice
URL:https://mvblfeast.com/event/scu-pod-2/
LOCATION:Santa Clara University\, 500 El Camino Real\, Santa Clara\, CA\, 95050\, United States
END:VEVENT
BEGIN:VEVENT
DTSTART;TZID=America/Los_Angeles:20230927T100000
DTEND;TZID=America/Los_Angeles:20230927T140000
DTSTAMP:20260423T202106
CREATED:20230831T050404Z
LAST-MODIFIED:20230831T050452Z
UID:80837-1695808800-1695823200@mvblfeast.com
SUMMARY:SCU Pod
DESCRIPTION:Akita Sushi
URL:https://mvblfeast.com/event/scu-pod/
LOCATION:Santa Clara University\, 500 El Camino Real\, Santa Clara\, CA\, 95050\, United States
END:VEVENT
BEGIN:VEVENT
DTSTART;TZID=America/Los_Angeles:20230607T100000
DTEND;TZID=America/Los_Angeles:20230607T140000
DTSTAMP:20260423T202106
CREATED:20230606T225627Z
LAST-MODIFIED:20230606T225728Z
UID:80413-1686132000-1686146400@mvblfeast.com
SUMMARY:SCU
DESCRIPTION:Oaxacan Kitchen
URL:https://mvblfeast.com/event/scu/
LOCATION:Santa Clara University\, 500 El Camino Real\, Santa Clara\, CA\, 95050\, United States
END:VEVENT
END:VCALENDAR