BEGIN:VCALENDAR
VERSION:2.0
PRODID:-//Moveable Feast - ECPv6.15.13//NONSGML v1.0//EN
CALSCALE:GREGORIAN
METHOD:PUBLISH
X-ORIGINAL-URL:https://mvblfeast.com
X-WR-CALDESC:Events for Moveable Feast
REFRESH-INTERVAL;VALUE=DURATION:PT1H
X-Robots-Tag:noindex
X-PUBLISHED-TTL:PT1H
BEGIN:VTIMEZONE
TZID:America/Los_Angeles
BEGIN:DAYLIGHT
TZOFFSETFROM:-0800
TZOFFSETTO:-0700
TZNAME:PDT
DTSTART:20240310T100000
END:DAYLIGHT
BEGIN:STANDARD
TZOFFSETFROM:-0700
TZOFFSETTO:-0800
TZNAME:PST
DTSTART:20241103T090000
END:STANDARD
BEGIN:DAYLIGHT
TZOFFSETFROM:-0800
TZOFFSETTO:-0700
TZNAME:PDT
DTSTART:20250309T100000
END:DAYLIGHT
BEGIN:STANDARD
TZOFFSETFROM:-0700
TZOFFSETTO:-0800
TZNAME:PST
DTSTART:20251102T090000
END:STANDARD
BEGIN:DAYLIGHT
TZOFFSETFROM:-0800
TZOFFSETTO:-0700
TZNAME:PDT
DTSTART:20260308T100000
END:DAYLIGHT
BEGIN:STANDARD
TZOFFSETFROM:-0700
TZOFFSETTO:-0800
TZNAME:PST
DTSTART:20261101T090000
END:STANDARD
BEGIN:DAYLIGHT
TZOFFSETFROM:-0800
TZOFFSETTO:-0700
TZNAME:PDT
DTSTART:20270314T100000
END:DAYLIGHT
BEGIN:STANDARD
TZOFFSETFROM:-0700
TZOFFSETTO:-0800
TZNAME:PST
DTSTART:20271107T090000
END:STANDARD
END:VTIMEZONE
BEGIN:VEVENT
DTSTART;TZID=America/Los_Angeles:20260422T100000
DTEND;TZID=America/Los_Angeles:20260422T140000
DTSTAMP:20260423T131843
CREATED:20260403T014656Z
LAST-MODIFIED:20260403T014656Z
UID:84267-1776852000-1776866400@mvblfeast.com
SUMMARY:SCU
DESCRIPTION:Fire and Rice
URL:https://mvblfeast.com/event/scu-26/
LOCATION:Santa Clara University\, 500 El Camino Real\, Santa Clara\, CA\, 95050\, United States
END:VEVENT
BEGIN:VEVENT
DTSTART;TZID=America/Los_Angeles:20260415T100000
DTEND;TZID=America/Los_Angeles:20260415T140000
DTSTAMP:20260423T131843
CREATED:20260403T014627Z
LAST-MODIFIED:20260403T014627Z
UID:84266-1776247200-1776261600@mvblfeast.com
SUMMARY:SCU
DESCRIPTION:Oaxacan Kitchen
URL:https://mvblfeast.com/event/scu-25/
LOCATION:Santa Clara University\, 500 El Camino Real\, Santa Clara\, CA\, 95050\, United States
END:VEVENT
BEGIN:VEVENT
DTSTART;TZID=America/Los_Angeles:20260408T100000
DTEND;TZID=America/Los_Angeles:20260408T140000
DTSTAMP:20260423T131843
CREATED:20260403T014607Z
LAST-MODIFIED:20260403T014607Z
UID:84265-1775642400-1775656800@mvblfeast.com
SUMMARY:SCU
DESCRIPTION:Grillzillas
URL:https://mvblfeast.com/event/scu-24/
LOCATION:Santa Clara University\, 500 El Camino Real\, Santa Clara\, CA\, 95050\, United States
END:VEVENT
BEGIN:VEVENT
DTSTART;TZID=America/Los_Angeles:20260311T100000
DTEND;TZID=America/Los_Angeles:20260311T140000
DTSTAMP:20260423T131843
CREATED:20260315T051030Z
LAST-MODIFIED:20260315T051030Z
UID:84084-1773223200-1773237600@mvblfeast.com
SUMMARY:SCU
DESCRIPTION:Chick N’ Bros
URL:https://mvblfeast.com/event/scu-23/
LOCATION:Santa Clara University\, 500 El Camino Real\, Santa Clara\, CA\, 95050\, United States
END:VEVENT
BEGIN:VEVENT
DTSTART;TZID=America/Los_Angeles:20260304T100000
DTEND;TZID=America/Los_Angeles:20260304T140000
DTSTAMP:20260423T131843
CREATED:20260315T051013Z
LAST-MODIFIED:20260315T051013Z
UID:84083-1772618400-1772632800@mvblfeast.com
SUMMARY:SCU
DESCRIPTION:Akita Sushi
URL:https://mvblfeast.com/event/scu-22/
LOCATION:Santa Clara University\, 500 El Camino Real\, Santa Clara\, CA\, 95050\, United States
END:VEVENT
BEGIN:VEVENT
DTSTART;TZID=America/Los_Angeles:20260225T100000
DTEND;TZID=America/Los_Angeles:20260225T140000
DTSTAMP:20260423T131843
CREATED:20260130T015416Z
LAST-MODIFIED:20260130T015416Z
UID:84019-1772013600-1772028000@mvblfeast.com
SUMMARY:SCU
DESCRIPTION:Grillzillas
URL:https://mvblfeast.com/event/scu-17/
LOCATION:Santa Clara University\, 500 El Camino Real\, Santa Clara\, CA\, 95050\, United States
END:VEVENT
BEGIN:VEVENT
DTSTART;TZID=America/Los_Angeles:20260218T100000
DTEND;TZID=America/Los_Angeles:20260218T140000
DTSTAMP:20260423T131843
CREATED:20260130T015357Z
LAST-MODIFIED:20260130T015357Z
UID:84017-1771408800-1771423200@mvblfeast.com
SUMMARY:SCU
DESCRIPTION:Oaxacan Kitchen
URL:https://mvblfeast.com/event/scu-16/
LOCATION:Santa Clara University\, 500 El Camino Real\, Santa Clara\, CA\, 95050\, United States
END:VEVENT
BEGIN:VEVENT
DTSTART;TZID=America/Los_Angeles:20260211T100000
DTEND;TZID=America/Los_Angeles:20260211T140000
DTSTAMP:20260423T131843
CREATED:20260130T015343Z
LAST-MODIFIED:20260130T015343Z
UID:84016-1770804000-1770818400@mvblfeast.com
SUMMARY:SCU
DESCRIPTION:Fire and Rice
URL:https://mvblfeast.com/event/scu-15/
LOCATION:Santa Clara University\, 500 El Camino Real\, Santa Clara\, CA\, 95050\, United States
END:VEVENT
BEGIN:VEVENT
DTSTART;TZID=America/Los_Angeles:20260204T100000
DTEND;TZID=America/Los_Angeles:20260204T140000
DTSTAMP:20260423T131843
CREATED:20260130T015134Z
LAST-MODIFIED:20260130T015134Z
UID:84014-1770199200-1770213600@mvblfeast.com
SUMMARY:SCU
DESCRIPTION:Chick N’ Bros
URL:https://mvblfeast.com/event/scu-14/
LOCATION:Santa Clara University\, 500 El Camino Real\, Santa Clara\, CA\, 95050\, United States
END:VEVENT
BEGIN:VEVENT
DTSTART;TZID=America/Los_Angeles:20260128T100000
DTEND;TZID=America/Los_Angeles:20260128T140000
DTSTAMP:20260423T131843
CREATED:20260130T015542Z
LAST-MODIFIED:20260130T015542Z
UID:84021-1769594400-1769608800@mvblfeast.com
SUMMARY:SCU
DESCRIPTION:Akita Sushi
URL:https://mvblfeast.com/event/scu-21/
LOCATION:Santa Clara University\, 500 El Camino Real\, Santa Clara\, CA\, 95050\, United States
END:VEVENT
BEGIN:VEVENT
DTSTART;TZID=America/Los_Angeles:20260121T100000
DTEND;TZID=America/Los_Angeles:20260121T140000
DTSTAMP:20260423T131843
CREATED:20260130T015527Z
LAST-MODIFIED:20260130T015527Z
UID:84022-1768989600-1769004000@mvblfeast.com
SUMMARY:SCU
DESCRIPTION:Grillzillas
URL:https://mvblfeast.com/event/scu-20/
LOCATION:Santa Clara University\, 500 El Camino Real\, Santa Clara\, CA\, 95050\, United States
END:VEVENT
BEGIN:VEVENT
DTSTART;TZID=America/Los_Angeles:20260114T100000
DTEND;TZID=America/Los_Angeles:20260114T140000
DTSTAMP:20260423T131843
CREATED:20260130T015510Z
LAST-MODIFIED:20260130T015510Z
UID:84020-1768384800-1768399200@mvblfeast.com
SUMMARY:SCU
DESCRIPTION:Oaxacan Kitchen
URL:https://mvblfeast.com/event/scu-19/
LOCATION:Santa Clara University\, 500 El Camino Real\, Santa Clara\, CA\, 95050\, United States
END:VEVENT
BEGIN:VEVENT
DTSTART;TZID=America/Los_Angeles:20260107T100000
DTEND;TZID=America/Los_Angeles:20260107T140000
DTSTAMP:20260423T131843
CREATED:20260130T015447Z
LAST-MODIFIED:20260130T015447Z
UID:84018-1767780000-1767794400@mvblfeast.com
SUMMARY:SCU
DESCRIPTION:Fire and Rice
URL:https://mvblfeast.com/event/scu-18/
LOCATION:Santa Clara University\, 500 El Camino Real\, Santa Clara\, CA\, 95050\, United States
END:VEVENT
BEGIN:VEVENT
DTSTART;TZID=America/Los_Angeles:20250604T100000
DTEND;TZID=America/Los_Angeles:20250604T140000
DTSTAMP:20260423T131843
CREATED:20250520T215701Z
LAST-MODIFIED:20250520T215701Z
UID:83226-1749031200-1749045600@mvblfeast.com
SUMMARY:SCU
DESCRIPTION:Chick N’ Bros
URL:https://mvblfeast.com/event/scu-8/2025-06-04/
LOCATION:Santa Clara University\, 500 El Camino Real\, Santa Clara\, CA\, 95050\, United States
END:VEVENT
BEGIN:VEVENT
DTSTART;TZID=America/Los_Angeles:20250528T100000
DTEND;TZID=America/Los_Angeles:20250528T140000
DTSTAMP:20260423T131843
CREATED:20250520T215644Z
LAST-MODIFIED:20250520T215644Z
UID:83224-1748426400-1748440800@mvblfeast.com
SUMMARY:SCU
DESCRIPTION:Akita Sushi
URL:https://mvblfeast.com/event/scu-8/2025-05-28/
LOCATION:Santa Clara University\, 500 El Camino Real\, Santa Clara\, CA\, 95050\, United States
END:VEVENT
BEGIN:VEVENT
DTSTART;TZID=America/Los_Angeles:20250521T100000
DTEND;TZID=America/Los_Angeles:20250521T140000
DTSTAMP:20260423T131843
CREATED:20250520T215622Z
LAST-MODIFIED:20250520T215622Z
UID:83225-1747821600-1747836000@mvblfeast.com
SUMMARY:SCU
DESCRIPTION:I Love Cheesesteak
URL:https://mvblfeast.com/event/scu-8/2025-05-21/
LOCATION:Santa Clara University\, 500 El Camino Real\, Santa Clara\, CA\, 95050\, United States
END:VEVENT
BEGIN:VEVENT
DTSTART;TZID=America/Los_Angeles:20250430T100000
DTEND;TZID=America/Los_Angeles:20250430T140000
DTSTAMP:20260423T131843
CREATED:20250327T223359Z
LAST-MODIFIED:20250327T223359Z
UID:83072-1746007200-1746021600@mvblfeast.com
SUMMARY:SCU
DESCRIPTION:Chick N’ Bros
URL:https://mvblfeast.com/event/scu-8/2025-04-30/
LOCATION:Santa Clara University\, 500 El Camino Real\, Santa Clara\, CA\, 95050\, United States
END:VEVENT
BEGIN:VEVENT
DTSTART;TZID=America/Los_Angeles:20250423T100000
DTEND;TZID=America/Los_Angeles:20250423T140000
DTSTAMP:20260423T131843
CREATED:20250327T223346Z
LAST-MODIFIED:20250327T223346Z
UID:83071-1745402400-1745416800@mvblfeast.com
SUMMARY:SCU
DESCRIPTION:Akita Sushi
URL:https://mvblfeast.com/event/scu-8/2025-04-23/
LOCATION:Santa Clara University\, 500 El Camino Real\, Santa Clara\, CA\, 95050\, United States
END:VEVENT
BEGIN:VEVENT
DTSTART;TZID=America/Los_Angeles:20250416T100000
DTEND;TZID=America/Los_Angeles:20250416T140000
DTSTAMP:20260423T131843
CREATED:20241220T001518Z
LAST-MODIFIED:20250327T223632Z
UID:82748-1744797600-1744812000@mvblfeast.com
SUMMARY:SCU
DESCRIPTION:I Love Cheesesteak
URL:https://mvblfeast.com/event/scu-8/2025-04-16/
LOCATION:Santa Clara University\, 500 El Camino Real\, Santa Clara\, CA\, 95050\, United States
END:VEVENT
BEGIN:VEVENT
DTSTART;TZID=America/Los_Angeles:20250409T100000
DTEND;TZID=America/Los_Angeles:20250409T140000
DTSTAMP:20260423T131843
CREATED:20241220T001518Z
LAST-MODIFIED:20250327T223447Z
UID:82747-1744192800-1744207200@mvblfeast.com
SUMMARY:SCU
DESCRIPTION:Oaxacan Kitchen
URL:https://mvblfeast.com/event/scu-8/2025-04-09/
LOCATION:Santa Clara University\, 500 El Camino Real\, Santa Clara\, CA\, 95050\, United States
END:VEVENT
BEGIN:VEVENT
DTSTART;TZID=America/Los_Angeles:20250402T100000
DTEND;TZID=America/Los_Angeles:20250402T140000
DTSTAMP:20260423T131843
CREATED:20241220T001518Z
LAST-MODIFIED:20250327T223436Z
UID:82746-1743588000-1743602400@mvblfeast.com
SUMMARY:SCU
DESCRIPTION:Fire and Rice
URL:https://mvblfeast.com/event/scu-8/2025-04-02/
LOCATION:Santa Clara University\, 500 El Camino Real\, Santa Clara\, CA\, 95050\, United States
END:VEVENT
BEGIN:VEVENT
DTSTART;TZID=America/Los_Angeles:20250326T100000
DTEND;TZID=America/Los_Angeles:20250326T140000
DTSTAMP:20260423T131843
CREATED:20241220T001518Z
LAST-MODIFIED:20241220T001518Z
UID:82745-1742983200-1742997600@mvblfeast.com
SUMMARY:SCU
DESCRIPTION:
URL:https://mvblfeast.com/event/scu-8/2025-03-26/
LOCATION:Santa Clara University\, 500 El Camino Real\, Santa Clara\, CA\, 95050\, United States
END:VEVENT
BEGIN:VEVENT
DTSTART;TZID=America/Los_Angeles:20250319T100000
DTEND;TZID=America/Los_Angeles:20250319T140000
DTSTAMP:20260423T131843
CREATED:20241220T001518Z
LAST-MODIFIED:20241220T001518Z
UID:82744-1742378400-1742392800@mvblfeast.com
SUMMARY:SCU
DESCRIPTION:
URL:https://mvblfeast.com/event/scu-8/2025-03-19/
LOCATION:Santa Clara University\, 500 El Camino Real\, Santa Clara\, CA\, 95050\, United States
END:VEVENT
BEGIN:VEVENT
DTSTART;TZID=America/Los_Angeles:20250312T100000
DTEND;TZID=America/Los_Angeles:20250312T140000
DTSTAMP:20260423T131843
CREATED:20241220T001518Z
LAST-MODIFIED:20250226T002958Z
UID:82743-1741773600-1741788000@mvblfeast.com
SUMMARY:SCU
DESCRIPTION:I Love Cheesesteak
URL:https://mvblfeast.com/event/scu-8/2025-03-12/
LOCATION:Santa Clara University\, 500 El Camino Real\, Santa Clara\, CA\, 95050\, United States
END:VEVENT
BEGIN:VEVENT
DTSTART;TZID=America/Los_Angeles:20250305T100000
DTEND;TZID=America/Los_Angeles:20250305T140000
DTSTAMP:20260423T131843
CREATED:20241220T001518Z
LAST-MODIFIED:20250226T002644Z
UID:82742-1741168800-1741183200@mvblfeast.com
SUMMARY:SCU
DESCRIPTION:Akita
URL:https://mvblfeast.com/event/scu-8/2025-03-05/
LOCATION:Santa Clara University\, 500 El Camino Real\, Santa Clara\, CA\, 95050\, United States
END:VEVENT
BEGIN:VEVENT
DTSTART;TZID=America/Los_Angeles:20250226T100000
DTEND;TZID=America/Los_Angeles:20250226T140000
DTSTAMP:20260423T131843
CREATED:20241220T001518Z
LAST-MODIFIED:20250129T001921Z
UID:82741-1740564000-1740578400@mvblfeast.com
SUMMARY:SCU
DESCRIPTION:Fire & Rice
URL:https://mvblfeast.com/event/scu-8/2025-02-26/
LOCATION:Santa Clara University\, 500 El Camino Real\, Santa Clara\, CA\, 95050\, United States
END:VEVENT
BEGIN:VEVENT
DTSTART;TZID=America/Los_Angeles:20250219T100000
DTEND;TZID=America/Los_Angeles:20250219T140000
DTSTAMP:20260423T131843
CREATED:20241220T001518Z
LAST-MODIFIED:20250129T001907Z
UID:82740-1739959200-1739973600@mvblfeast.com
SUMMARY:SCU
DESCRIPTION:Oaxacan Kitchen
URL:https://mvblfeast.com/event/scu-8/2025-02-19/
LOCATION:Santa Clara University\, 500 El Camino Real\, Santa Clara\, CA\, 95050\, United States
END:VEVENT
BEGIN:VEVENT
DTSTART;TZID=America/Los_Angeles:20250212T100000
DTEND;TZID=America/Los_Angeles:20250212T140000
DTSTAMP:20260423T131843
CREATED:20241220T001518Z
LAST-MODIFIED:20250129T001857Z
UID:82739-1739354400-1739368800@mvblfeast.com
SUMMARY:SCU
DESCRIPTION:Chick N’ Bros
URL:https://mvblfeast.com/event/scu-8/2025-02-12/
LOCATION:Santa Clara University\, 500 El Camino Real\, Santa Clara\, CA\, 95050\, United States
END:VEVENT
BEGIN:VEVENT
DTSTART;TZID=America/Los_Angeles:20250205T100000
DTEND;TZID=America/Los_Angeles:20250205T140000
DTSTAMP:20260423T131843
CREATED:20241220T001518Z
LAST-MODIFIED:20250129T001847Z
UID:82738-1738749600-1738764000@mvblfeast.com
SUMMARY:SCU
DESCRIPTION:I Love Cheesesteak
URL:https://mvblfeast.com/event/scu-8/
LOCATION:Santa Clara University\, 500 El Camino Real\, Santa Clara\, CA\, 95050\, United States
END:VEVENT
BEGIN:VEVENT
DTSTART;TZID=America/Los_Angeles:20250129T100000
DTEND;TZID=America/Los_Angeles:20250129T140000
DTSTAMP:20260423T131843
CREATED:20241219T011719Z
LAST-MODIFIED:20241219T011843Z
UID:82642-1738144800-1738159200@mvblfeast.com
SUMMARY:SCU
DESCRIPTION:Akita Sushi
URL:https://mvblfeast.com/event/scu-7-2025-01-29/
LOCATION:Santa Clara University\, 500 El Camino Real\, Santa Clara\, CA\, 95050\, United States
END:VEVENT
END:VCALENDAR