BEGIN:VCALENDAR
VERSION:2.0
PRODID:-//Moveable Feast - ECPv6.15.13//NONSGML v1.0//EN
CALSCALE:GREGORIAN
METHOD:PUBLISH
X-ORIGINAL-URL:https://mvblfeast.com
X-WR-CALDESC:Events for Moveable Feast
REFRESH-INTERVAL;VALUE=DURATION:PT1H
X-Robots-Tag:noindex
X-PUBLISHED-TTL:PT1H
BEGIN:VTIMEZONE
TZID:America/Los_Angeles
BEGIN:DAYLIGHT
TZOFFSETFROM:-0800
TZOFFSETTO:-0700
TZNAME:PDT
DTSTART:20230312T100000
END:DAYLIGHT
BEGIN:STANDARD
TZOFFSETFROM:-0700
TZOFFSETTO:-0800
TZNAME:PST
DTSTART:20231105T090000
END:STANDARD
BEGIN:DAYLIGHT
TZOFFSETFROM:-0800
TZOFFSETTO:-0700
TZNAME:PDT
DTSTART:20240310T100000
END:DAYLIGHT
BEGIN:STANDARD
TZOFFSETFROM:-0700
TZOFFSETTO:-0800
TZNAME:PST
DTSTART:20241103T090000
END:STANDARD
BEGIN:DAYLIGHT
TZOFFSETFROM:-0800
TZOFFSETTO:-0700
TZNAME:PDT
DTSTART:20250309T100000
END:DAYLIGHT
BEGIN:STANDARD
TZOFFSETFROM:-0700
TZOFFSETTO:-0800
TZNAME:PST
DTSTART:20251102T090000
END:STANDARD
BEGIN:DAYLIGHT
TZOFFSETFROM:-0800
TZOFFSETTO:-0700
TZNAME:PDT
DTSTART:20260308T100000
END:DAYLIGHT
BEGIN:STANDARD
TZOFFSETFROM:-0700
TZOFFSETTO:-0800
TZNAME:PST
DTSTART:20261101T090000
END:STANDARD
BEGIN:DAYLIGHT
TZOFFSETFROM:-0800
TZOFFSETTO:-0700
TZNAME:PDT
DTSTART:20270314T100000
END:DAYLIGHT
BEGIN:STANDARD
TZOFFSETFROM:-0700
TZOFFSETTO:-0800
TZNAME:PST
DTSTART:20271107T090000
END:STANDARD
END:VTIMEZONE
BEGIN:VEVENT
DTSTART;TZID=America/Los_Angeles:20260416T113000
DTEND;TZID=America/Los_Angeles:20260416T133000
DTSTAMP:20260423T131741
CREATED:20260403T014400Z
LAST-MODIFIED:20260403T014400Z
UID:84258-1776339000-1776346200@mvblfeast.com
SUMMARY:Quad POD
DESCRIPTION:I Love Cheesesteak
URL:https://mvblfeast.com/event/quad-pod-41/
LOCATION:Quad POD\, 3005 Tasman Dr\, Santa Clara\, CA\, 95054\, United States
END:VEVENT
BEGIN:VEVENT
DTSTART;TZID=America/Los_Angeles:20260409T113000
DTEND;TZID=America/Los_Angeles:20260409T133000
DTSTAMP:20260423T131741
CREATED:20260403T014336Z
LAST-MODIFIED:20260403T014336Z
UID:84256-1775734200-1775741400@mvblfeast.com
SUMMARY:Quad POD
DESCRIPTION:Akita Sushi
URL:https://mvblfeast.com/event/quad-pod-40/
LOCATION:Quad POD\, 3005 Tasman Dr\, Santa Clara\, CA\, 95054\, United States
END:VEVENT
BEGIN:VEVENT
DTSTART;TZID=America/Los_Angeles:20260402T113000
DTEND;TZID=America/Los_Angeles:20260402T133000
DTSTAMP:20260423T131741
CREATED:20260403T014319Z
LAST-MODIFIED:20260403T014319Z
UID:84255-1775129400-1775136600@mvblfeast.com
SUMMARY:Quad POD
DESCRIPTION:Tlaxiaco’s Pizza
URL:https://mvblfeast.com/event/quad-pod-39/
LOCATION:Quad POD\, 3005 Tasman Dr\, Santa Clara\, CA\, 95054\, United States
END:VEVENT
BEGIN:VEVENT
DTSTART;TZID=America/Los_Angeles:20260326T113000
DTEND;TZID=America/Los_Angeles:20260326T133000
DTSTAMP:20260423T131741
CREATED:20260315T050938Z
LAST-MODIFIED:20260315T050938Z
UID:84078-1774524600-1774531800@mvblfeast.com
SUMMARY:Quad POD
DESCRIPTION:Picnic Basket
URL:https://mvblfeast.com/event/quad-pod-38/
LOCATION:Quad POD\, 3005 Tasman Dr\, Santa Clara\, CA\, 95054\, United States
END:VEVENT
BEGIN:VEVENT
DTSTART;TZID=America/Los_Angeles:20260319T113000
DTEND;TZID=America/Los_Angeles:20260319T133000
DTSTAMP:20260423T131741
CREATED:20260315T050923Z
LAST-MODIFIED:20260315T050923Z
UID:84076-1773919800-1773927000@mvblfeast.com
SUMMARY:Quad POD
DESCRIPTION:Chick N’ Bros
URL:https://mvblfeast.com/event/quad-pod-37/
LOCATION:Quad POD\, 3005 Tasman Dr\, Santa Clara\, CA\, 95054\, United States
END:VEVENT
BEGIN:VEVENT
DTSTART;TZID=America/Los_Angeles:20260312T113000
DTEND;TZID=America/Los_Angeles:20260312T133000
DTSTAMP:20260423T131741
CREATED:20260315T050857Z
LAST-MODIFIED:20260315T050857Z
UID:84077-1773315000-1773322200@mvblfeast.com
SUMMARY:Quad POD
DESCRIPTION:Kaizoku Sushi
URL:https://mvblfeast.com/event/quad-pod-36/
LOCATION:Quad POD\, 3005 Tasman Dr\, Santa Clara\, CA\, 95054\, United States
END:VEVENT
BEGIN:VEVENT
DTSTART;TZID=America/Los_Angeles:20260305T113000
DTEND;TZID=America/Los_Angeles:20260305T133000
DTSTAMP:20260423T131741
CREATED:20260315T050838Z
LAST-MODIFIED:20260315T050838Z
UID:84075-1772710200-1772717400@mvblfeast.com
SUMMARY:Quad POD
DESCRIPTION:Chula Puebla
URL:https://mvblfeast.com/event/quad-pod-35/
LOCATION:Quad POD\, 3005 Tasman Dr\, Santa Clara\, CA\, 95054\, United States
END:VEVENT
BEGIN:VEVENT
DTSTART;TZID=America/Los_Angeles:20260226T113000
DTEND;TZID=America/Los_Angeles:20260226T133000
DTSTAMP:20260423T131741
CREATED:20241219T011950Z
LAST-MODIFIED:20260130T014907Z
UID:82658-1772105400-1772112600@mvblfeast.com
SUMMARY:Quad POD
DESCRIPTION:Grillzillas
URL:https://mvblfeast.com/event/quad-pod-27/
LOCATION:Quad POD\, 3005 Tasman Dr\, Santa Clara\, CA\, 95054\, United States
END:VEVENT
BEGIN:VEVENT
DTSTART;TZID=America/Los_Angeles:20260219T113000
DTEND;TZID=America/Los_Angeles:20260219T133000
DTSTAMP:20260423T131741
CREATED:20260130T014826Z
LAST-MODIFIED:20260130T014826Z
UID:84004-1771500600-1771507800@mvblfeast.com
SUMMARY:Quad POD
DESCRIPTION:Akita Sushi
URL:https://mvblfeast.com/event/quad-pod-34/
LOCATION:Quad POD\, 3005 Tasman Dr\, Santa Clara\, CA\, 95054\, United States
END:VEVENT
BEGIN:VEVENT
DTSTART;TZID=America/Los_Angeles:20260212T113000
DTEND;TZID=America/Los_Angeles:20260212T133000
DTSTAMP:20260423T131741
CREATED:20260130T014806Z
LAST-MODIFIED:20260130T014806Z
UID:84003-1770895800-1770903000@mvblfeast.com
SUMMARY:Quad POD
DESCRIPTION:Picnic Basket
URL:https://mvblfeast.com/event/quad-pod-33/
LOCATION:Quad POD\, 3005 Tasman Dr\, Santa Clara\, CA\, 95054\, United States
END:VEVENT
BEGIN:VEVENT
DTSTART;TZID=America/Los_Angeles:20260205T113000
DTEND;TZID=America/Los_Angeles:20260205T133000
DTSTAMP:20260423T131741
CREATED:20260130T014717Z
LAST-MODIFIED:20260130T014717Z
UID:84002-1770291000-1770298200@mvblfeast.com
SUMMARY:Quad POD
DESCRIPTION:Tlaxiaco’s Pizza
URL:https://mvblfeast.com/event/quad-pod-32/
LOCATION:Quad POD\, 3005 Tasman Dr\, Santa Clara\, CA\, 95054\, United States
END:VEVENT
BEGIN:VEVENT
DTSTART;TZID=America/Los_Angeles:20260129T113000
DTEND;TZID=America/Los_Angeles:20260129T133000
DTSTAMP:20260423T131741
CREATED:20260130T014638Z
LAST-MODIFIED:20260130T014638Z
UID:84001-1769686200-1769693400@mvblfeast.com
SUMMARY:Quad POD
DESCRIPTION:I Love Cheesesteak
URL:https://mvblfeast.com/event/quad-pod-31/
LOCATION:Quad POD\, 3005 Tasman Dr\, Santa Clara\, CA\, 95054\, United States
END:VEVENT
BEGIN:VEVENT
DTSTART;TZID=America/Los_Angeles:20260122T113000
DTEND;TZID=America/Los_Angeles:20260122T133000
DTSTAMP:20260423T131741
CREATED:20260130T014614Z
LAST-MODIFIED:20260130T014614Z
UID:84000-1769081400-1769088600@mvblfeast.com
SUMMARY:Quad POD
DESCRIPTION:Chick N’ Bros
URL:https://mvblfeast.com/event/quad-pod-30/
LOCATION:Quad POD\, 3005 Tasman Dr\, Santa Clara\, CA\, 95054\, United States
END:VEVENT
BEGIN:VEVENT
DTSTART;TZID=America/Los_Angeles:20260115T113000
DTEND;TZID=America/Los_Angeles:20260115T133000
DTSTAMP:20260423T131741
CREATED:20260130T014517Z
LAST-MODIFIED:20260130T014517Z
UID:83999-1768476600-1768483800@mvblfeast.com
SUMMARY:Quad POD
DESCRIPTION:Kaizoku Sushi
URL:https://mvblfeast.com/event/quad-pod-29/
LOCATION:Quad POD\, 3005 Tasman Dr\, Santa Clara\, CA\, 95054\, United States
END:VEVENT
BEGIN:VEVENT
DTSTART;TZID=America/Los_Angeles:20260108T113000
DTEND;TZID=America/Los_Angeles:20260108T133000
DTSTAMP:20260423T131741
CREATED:20260130T014456Z
LAST-MODIFIED:20260130T014456Z
UID:83998-1767871800-1767879000@mvblfeast.com
SUMMARY:Quad POD
DESCRIPTION:Chula Puebla
URL:https://mvblfeast.com/event/quad-pod-28/
LOCATION:Quad POD\, 3005 Tasman Dr\, Santa Clara\, CA\, 95054\, United States
END:VEVENT
BEGIN:VEVENT
DTSTART;TZID=America/Los_Angeles:20250130T113000
DTEND;TZID=America/Los_Angeles:20250130T133000
DTSTAMP:20260423T131741
CREATED:20241219T011221Z
LAST-MODIFIED:20241219T011221Z
UID:82617-1738236600-1738243800@mvblfeast.com
SUMMARY:Quad POD
DESCRIPTION:Picnic Basket
URL:https://mvblfeast.com/event/quad-pod-26/
LOCATION:Quad POD\, 3005 Tasman Dr\, Santa Clara\, CA\, 95054\, United States
END:VEVENT
BEGIN:VEVENT
DTSTART;TZID=America/Los_Angeles:20250123T113000
DTEND;TZID=America/Los_Angeles:20250123T133000
DTSTAMP:20260423T131741
CREATED:20241219T010907Z
LAST-MODIFIED:20241219T011037Z
UID:82611-1737631800-1737639000@mvblfeast.com
SUMMARY:Quad POD
DESCRIPTION:Chula Puebla
URL:https://mvblfeast.com/event/quad-pod-25/
LOCATION:Quad POD\, 3005 Tasman Dr\, Santa Clara\, CA\, 95054\, United States
END:VEVENT
BEGIN:VEVENT
DTSTART;TZID=America/Los_Angeles:20250116T113000
DTEND;TZID=America/Los_Angeles:20250116T133000
DTSTAMP:20260423T131741
CREATED:20241219T010830Z
LAST-MODIFIED:20241219T011144Z
UID:82609-1737027000-1737034200@mvblfeast.com
SUMMARY:Quad POD
DESCRIPTION:Tlaxiaco’s Pizza
URL:https://mvblfeast.com/event/quad-pod-24/
LOCATION:Quad POD\, 3005 Tasman Dr\, Santa Clara\, CA\, 95054\, United States
END:VEVENT
BEGIN:VEVENT
DTSTART;TZID=America/Los_Angeles:20250109T113000
DTEND;TZID=America/Los_Angeles:20250109T133000
DTSTAMP:20260423T131741
CREATED:20241219T010619Z
LAST-MODIFIED:20241219T011136Z
UID:82596-1736422200-1736429400@mvblfeast.com
SUMMARY:Quad POD
DESCRIPTION:Akita
URL:https://mvblfeast.com/event/quad-pod-23/
LOCATION:Quad POD\, 3005 Tasman Dr\, Santa Clara\, CA\, 95054\, United States
END:VEVENT
BEGIN:VEVENT
DTSTART;TZID=America/Los_Angeles:20241212T113000
DTEND;TZID=America/Los_Angeles:20241212T133000
DTSTAMP:20260423T131741
CREATED:20241211T024106Z
LAST-MODIFIED:20241211T024209Z
UID:82573-1734003000-1734010200@mvblfeast.com
SUMMARY:QUAD Pod
DESCRIPTION:I Love Cheesesteak
URL:https://mvblfeast.com/event/quad-pod-22/
LOCATION:Quad POD\, 3005 Tasman Dr\, Santa Clara\, CA\, 95054\, United States
END:VEVENT
BEGIN:VEVENT
DTSTART;TZID=America/Los_Angeles:20241121T113000
DTEND;TZID=America/Los_Angeles:20241121T133000
DTSTAMP:20260423T131741
CREATED:20241022T002611Z
LAST-MODIFIED:20241022T002611Z
UID:82533-1732188600-1732195800@mvblfeast.com
SUMMARY:Quad POD
DESCRIPTION:Picnic Basket
URL:https://mvblfeast.com/event/quad-pod-21/
LOCATION:Quad POD\, 3005 Tasman Dr\, Santa Clara\, CA\, 95054\, United States
END:VEVENT
BEGIN:VEVENT
DTSTART;TZID=America/Los_Angeles:20241114T113000
DTEND;TZID=America/Los_Angeles:20241114T133000
DTSTAMP:20260423T131741
CREATED:20241022T002545Z
LAST-MODIFIED:20241022T002545Z
UID:82532-1731583800-1731591000@mvblfeast.com
SUMMARY:Quad POD
DESCRIPTION:Chula Puebla
URL:https://mvblfeast.com/event/quad-pod-20/
LOCATION:Quad POD\, 3005 Tasman Dr\, Santa Clara\, CA\, 95054\, United States
END:VEVENT
BEGIN:VEVENT
DTSTART;TZID=America/Los_Angeles:20241107T113000
DTEND;TZID=America/Los_Angeles:20241107T133000
DTSTAMP:20260423T131741
CREATED:20241022T002503Z
LAST-MODIFIED:20241022T002503Z
UID:82530-1730979000-1730986200@mvblfeast.com
SUMMARY:Quad POD
DESCRIPTION:Tlaxiaco’s Pizza
URL:https://mvblfeast.com/event/quad-pod-19/
LOCATION:Quad POD\, 3005 Tasman Dr\, Santa Clara\, CA\, 95054\, United States
END:VEVENT
BEGIN:VEVENT
DTSTART;TZID=America/Los_Angeles:20241031T113000
DTEND;TZID=America/Los_Angeles:20241031T133000
DTSTAMP:20260423T131741
CREATED:20240909T224710Z
LAST-MODIFIED:20240909T224848Z
UID:82464-1730374200-1730381400@mvblfeast.com
SUMMARY:Quad POD
DESCRIPTION:Akita Sushi
URL:https://mvblfeast.com/event/quad-pod-18-2024-10-31/
LOCATION:Quad POD\, 3005 Tasman Dr\, Santa Clara\, CA\, 95054\, United States
END:VEVENT
BEGIN:VEVENT
DTSTART;TZID=America/Los_Angeles:20241024T113000
DTEND;TZID=America/Los_Angeles:20241024T133000
DTSTAMP:20260423T131741
CREATED:20240909T224710Z
LAST-MODIFIED:20240909T224841Z
UID:82463-1729769400-1729776600@mvblfeast.com
SUMMARY:Quad POD
DESCRIPTION:Chick N’ Bros
URL:https://mvblfeast.com/event/quad-pod-18-2024-10-24/
LOCATION:Quad POD\, 3005 Tasman Dr\, Santa Clara\, CA\, 95054\, United States
END:VEVENT
BEGIN:VEVENT
DTSTART;TZID=America/Los_Angeles:20241017T113000
DTEND;TZID=America/Los_Angeles:20241017T133000
DTSTAMP:20260423T131741
CREATED:20240909T224710Z
LAST-MODIFIED:20240909T224828Z
UID:82462-1729164600-1729171800@mvblfeast.com
SUMMARY:Quad POD
DESCRIPTION:I Love Cheesesteak
URL:https://mvblfeast.com/event/quad-pod-18-2024-10-17/
LOCATION:Quad POD\, 3005 Tasman Dr\, Santa Clara\, CA\, 95054\, United States
END:VEVENT
BEGIN:VEVENT
DTSTART;TZID=America/Los_Angeles:20241010T113000
DTEND;TZID=America/Los_Angeles:20241010T133000
DTSTAMP:20260423T131741
CREATED:20240909T224710Z
LAST-MODIFIED:20240909T224817Z
UID:82461-1728559800-1728567000@mvblfeast.com
SUMMARY:Quad POD
DESCRIPTION:Picnic Basket
URL:https://mvblfeast.com/event/quad-pod-18/
LOCATION:Quad POD\, 3005 Tasman Dr\, Santa Clara\, CA\, 95054\, United States
END:VEVENT
BEGIN:VEVENT
DTSTART;TZID=America/Los_Angeles:20241003T113000
DTEND;TZID=America/Los_Angeles:20241003T133000
DTSTAMP:20260423T131741
CREATED:20240909T224331Z
LAST-MODIFIED:20240909T224623Z
UID:82448-1727955000-1727962200@mvblfeast.com
SUMMARY:Quad POD
DESCRIPTION:Chula Puebla
URL:https://mvblfeast.com/event/quad-pod-17-2024-10-03/
LOCATION:Quad POD\, 3005 Tasman Dr\, Santa Clara\, CA\, 95054\, United States
END:VEVENT
BEGIN:VEVENT
DTSTART;TZID=America/Los_Angeles:20240926T113000
DTEND;TZID=America/Los_Angeles:20240926T133000
DTSTAMP:20260423T131741
CREATED:20240909T224331Z
LAST-MODIFIED:20240909T224606Z
UID:82447-1727350200-1727357400@mvblfeast.com
SUMMARY:Quad POD
DESCRIPTION:Tlaxiaco’s Pizza
URL:https://mvblfeast.com/event/quad-pod-17-2024-09-26/
LOCATION:Quad POD\, 3005 Tasman Dr\, Santa Clara\, CA\, 95054\, United States
END:VEVENT
BEGIN:VEVENT
DTSTART;TZID=America/Los_Angeles:20240919T113000
DTEND;TZID=America/Los_Angeles:20240919T133000
DTSTAMP:20260423T131741
CREATED:20240909T224331Z
LAST-MODIFIED:20240909T224544Z
UID:82446-1726745400-1726752600@mvblfeast.com
SUMMARY:Quad POD
DESCRIPTION:Akita Sushi
URL:https://mvblfeast.com/event/quad-pod-17-2024-09-19/
LOCATION:Quad POD\, 3005 Tasman Dr\, Santa Clara\, CA\, 95054\, United States
END:VEVENT
END:VCALENDAR