BEGIN:VCALENDAR
VERSION:2.0
PRODID:-//Moveable Feast - ECPv6.15.13//NONSGML v1.0//EN
CALSCALE:GREGORIAN
METHOD:PUBLISH
X-WR-CALNAME:Moveable Feast
X-ORIGINAL-URL:https://mvblfeast.com
X-WR-CALDESC:Events for Moveable Feast
REFRESH-INTERVAL;VALUE=DURATION:PT1H
X-Robots-Tag:noindex
X-PUBLISHED-TTL:PT1H
BEGIN:VTIMEZONE
TZID:America/Los_Angeles
BEGIN:DAYLIGHT
TZOFFSETFROM:-0800
TZOFFSETTO:-0700
TZNAME:PDT
DTSTART:20220313T100000
END:DAYLIGHT
BEGIN:STANDARD
TZOFFSETFROM:-0700
TZOFFSETTO:-0800
TZNAME:PST
DTSTART:20221106T090000
END:STANDARD
BEGIN:DAYLIGHT
TZOFFSETFROM:-0800
TZOFFSETTO:-0700
TZNAME:PDT
DTSTART:20230312T100000
END:DAYLIGHT
BEGIN:STANDARD
TZOFFSETFROM:-0700
TZOFFSETTO:-0800
TZNAME:PST
DTSTART:20231105T090000
END:STANDARD
BEGIN:DAYLIGHT
TZOFFSETFROM:-0800
TZOFFSETTO:-0700
TZNAME:PDT
DTSTART:20240310T100000
END:DAYLIGHT
BEGIN:STANDARD
TZOFFSETFROM:-0700
TZOFFSETTO:-0800
TZNAME:PST
DTSTART:20241103T090000
END:STANDARD
END:VTIMEZONE
BEGIN:VEVENT
DTSTART;TZID=America/Los_Angeles:20230919T113000
DTEND;TZID=America/Los_Angeles:20230919T133000
DTSTAMP:20260423T220433
CREATED:20230831T045127Z
LAST-MODIFIED:20230831T045301Z
UID:80810-1695123000-1695130200@mvblfeast.com
SUMMARY:Parkside Towers
DESCRIPTION:Waffle Roost
URL:https://mvblfeast.com/event/parkside-towers-10-2023-09-19/
LOCATION:Parkside Towers\, 1031 E Hillsdale Blvd\, Foster City\, CA\, 94404\, United States
END:VEVENT
BEGIN:VEVENT
DTSTART;TZID=America/Los_Angeles:20230914T080000
DTEND;TZID=America/Los_Angeles:20230914T170000
DTSTAMP:20260423T220433
CREATED:20230831T045511Z
LAST-MODIFIED:20230831T045511Z
UID:80821-1694678400-1694710800@mvblfeast.com
SUMMARY:Parkside Towers
DESCRIPTION:Fresh Catch Poke
URL:https://mvblfeast.com/event/parkside-towers-12/
LOCATION:Parkside Towers\, 1031 E Hillsdale Blvd\, Foster City\, CA\, 94404\, United States
END:VEVENT
BEGIN:VEVENT
DTSTART;TZID=America/Los_Angeles:20230912T113000
DTEND;TZID=America/Los_Angeles:20230912T133000
DTSTAMP:20260423T220433
CREATED:20230831T045127Z
LAST-MODIFIED:20230831T045240Z
UID:80809-1694518200-1694525400@mvblfeast.com
SUMMARY:Parkside Towers
DESCRIPTION:Bobcha
URL:https://mvblfeast.com/event/parkside-towers-10-2023-09-12/
LOCATION:Parkside Towers\, 1031 E Hillsdale Blvd\, Foster City\, CA\, 94404\, United States
END:VEVENT
BEGIN:VEVENT
DTSTART;TZID=America/Los_Angeles:20230907T113000
DTEND;TZID=America/Los_Angeles:20230907T133000
DTSTAMP:20260423T220433
CREATED:20230831T045428Z
LAST-MODIFIED:20230831T045428Z
UID:80819-1694086200-1694093400@mvblfeast.com
SUMMARY:Parkside Towers
DESCRIPTION:Twister/Rolling Duck
URL:https://mvblfeast.com/event/parkside-towers-11/
LOCATION:Parkside Towers\, 1031 E Hillsdale Blvd\, Foster City\, CA\, 94404\, United States
END:VEVENT
BEGIN:VEVENT
DTSTART;TZID=America/Los_Angeles:20230905T113000
DTEND;TZID=America/Los_Angeles:20230905T133000
DTSTAMP:20260423T220433
CREATED:20230831T045127Z
LAST-MODIFIED:20230831T045225Z
UID:80807-1693913400-1693920600@mvblfeast.com
SUMMARY:Parkside Towers
DESCRIPTION:Old Greenwood BBQ
URL:https://mvblfeast.com/event/parkside-towers-10/
LOCATION:Parkside Towers\, 1031 E Hillsdale Blvd\, Foster City\, CA\, 94404\, United States
END:VEVENT
BEGIN:VEVENT
DTSTART;TZID=America/Los_Angeles:20230831T080000
DTEND;TZID=America/Los_Angeles:20230831T170000
DTSTAMP:20260423T220433
CREATED:20230802T012604Z
LAST-MODIFIED:20230802T012604Z
UID:80737-1693468800-1693501200@mvblfeast.com
SUMMARY:Parkside Towers
DESCRIPTION:Akita Sushi
URL:https://mvblfeast.com/event/parkside-towers-9/
LOCATION:Parkside Towers\, 1031 E Hillsdale Blvd\, Foster City\, CA\, 94404\, United States
END:VEVENT
BEGIN:VEVENT
DTSTART;TZID=America/Los_Angeles:20230829T113000
DTEND;TZID=America/Los_Angeles:20230829T133000
DTSTAMP:20260423T220433
CREATED:20230802T012417Z
LAST-MODIFIED:20230802T012512Z
UID:80729-1693308600-1693315800@mvblfeast.com
SUMMARY:Parkside Towers
DESCRIPTION:Rincon del Cielo
URL:https://mvblfeast.com/event/parkside-towers-8-2023-08-29/
LOCATION:Parkside Towers\, 1031 E Hillsdale Blvd\, Foster City\, CA\, 94404\, United States
END:VEVENT
BEGIN:VEVENT
DTSTART;TZID=America/Los_Angeles:20230824T113000
DTEND;TZID=America/Los_Angeles:20230824T133000
DTSTAMP:20260423T220433
CREATED:20230802T012417Z
LAST-MODIFIED:20230802T012503Z
UID:80728-1692876600-1692883800@mvblfeast.com
SUMMARY:Parkside Towers
DESCRIPTION:WoKitchen
URL:https://mvblfeast.com/event/parkside-towers-8-2023-08-24/
LOCATION:Parkside Towers\, 1031 E Hillsdale Blvd\, Foster City\, CA\, 94404\, United States
END:VEVENT
BEGIN:VEVENT
DTSTART;TZID=America/Los_Angeles:20230822T113000
DTEND;TZID=America/Los_Angeles:20230822T133000
DTSTAMP:20260423T220433
CREATED:20230802T012417Z
LAST-MODIFIED:20230802T012452Z
UID:80726-1692703800-1692711000@mvblfeast.com
SUMMARY:Parkside Towers
DESCRIPTION:Grillzillas
URL:https://mvblfeast.com/event/parkside-towers-8/
LOCATION:Parkside Towers\, 1031 E Hillsdale Blvd\, Foster City\, CA\, 94404\, United States
END:VEVENT
BEGIN:VEVENT
DTSTART;TZID=America/Los_Angeles:20230817T113000
DTEND;TZID=America/Los_Angeles:20230817T133000
DTSTAMP:20260423T220433
CREATED:20230802T012321Z
LAST-MODIFIED:20230802T012321Z
UID:80724-1692271800-1692279000@mvblfeast.com
SUMMARY:Parkside Towers
DESCRIPTION:Mr. Andrew’s Catering
URL:https://mvblfeast.com/event/parkside-towers-7/
LOCATION:Parkside Towers\, 1031 E Hillsdale Blvd\, Foster City\, CA\, 94404\, United States
END:VEVENT
BEGIN:VEVENT
DTSTART;TZID=America/Los_Angeles:20230815T113000
DTEND;TZID=America/Los_Angeles:20230815T133000
DTSTAMP:20260423T220433
CREATED:20230802T012014Z
LAST-MODIFIED:20230802T012014Z
UID:80722-1692099000-1692106200@mvblfeast.com
SUMMARY:Parkside Towers
DESCRIPTION:
URL:https://mvblfeast.com/event/parkside-towers-6/
LOCATION:Parkside Towers\, 1031 E Hillsdale Blvd\, Foster City\, CA\, 94404\, United States
END:VEVENT
BEGIN:VEVENT
DTSTART;TZID=America/Los_Angeles:20230810T113000
DTEND;TZID=America/Los_Angeles:20230810T133000
DTSTAMP:20260423T220433
CREATED:20230802T011617Z
LAST-MODIFIED:20230802T011858Z
UID:80703-1691667000-1691674200@mvblfeast.com
SUMMARY:Parkside Towers
DESCRIPTION:Miss Subi
URL:https://mvblfeast.com/event/parkside-towers-5-2023-08-10/
LOCATION:Parkside Towers\, 1031 E Hillsdale Blvd\, Foster City\, CA\, 94404\, United States
END:VEVENT
BEGIN:VEVENT
DTSTART;TZID=America/Los_Angeles:20230808T113000
DTEND;TZID=America/Los_Angeles:20230808T133000
DTSTAMP:20260423T220433
CREATED:20230802T011617Z
LAST-MODIFIED:20230802T011840Z
UID:80702-1691494200-1691501400@mvblfeast.com
SUMMARY:Parkside Towers
DESCRIPTION:Melina’s Kitchen
URL:https://mvblfeast.com/event/parkside-towers-5-2023-08-08/
LOCATION:Parkside Towers\, 1031 E Hillsdale Blvd\, Foster City\, CA\, 94404\, United States
END:VEVENT
BEGIN:VEVENT
DTSTART;TZID=America/Los_Angeles:20230803T113000
DTEND;TZID=America/Los_Angeles:20230803T133000
DTSTAMP:20260423T220433
CREATED:20230802T011617Z
LAST-MODIFIED:20230802T011814Z
UID:80701-1691062200-1691069400@mvblfeast.com
SUMMARY:Parkside Towers
DESCRIPTION:Mr. Rice Kebab
URL:https://mvblfeast.com/event/parkside-towers-5-2023-08-03/
LOCATION:Parkside Towers\, 1031 E Hillsdale Blvd\, Foster City\, CA\, 94404\, United States
END:VEVENT
BEGIN:VEVENT
DTSTART;TZID=America/Los_Angeles:20230727T113000
DTEND;TZID=America/Los_Angeles:20230727T133000
DTSTAMP:20260423T220433
CREATED:20230628T203608Z
LAST-MODIFIED:20230628T203608Z
UID:80610-1690457400-1690464600@mvblfeast.com
SUMMARY:Parkside Towers
DESCRIPTION:BunBao
URL:https://mvblfeast.com/event/parkside-towers-4/
LOCATION:Parkside Towers\, 1031 E Hillsdale Blvd\, Foster City\, CA\, 94404\, United States
END:VEVENT
BEGIN:VEVENT
DTSTART;TZID=America/Los_Angeles:20230725T113000
DTEND;TZID=America/Los_Angeles:20230725T133000
DTSTAMP:20260423T220433
CREATED:20230628T202228Z
LAST-MODIFIED:20230711T230152Z
UID:80549-1690284600-1690291800@mvblfeast.com
SUMMARY:Parkside Towers
DESCRIPTION:Bobcha
URL:https://mvblfeast.com/event/parkside-towers-2-2023-07-25/
LOCATION:Parkside Towers\, 1031 E Hillsdale Blvd\, Foster City\, CA\, 94404\, United States
END:VEVENT
BEGIN:VEVENT
DTSTART;TZID=America/Los_Angeles:20230720T113000
DTEND;TZID=America/Los_Angeles:20230720T233000
DTSTAMP:20260423T220433
CREATED:20230628T203504Z
LAST-MODIFIED:20230628T203504Z
UID:80608-1689852600-1689895800@mvblfeast.com
SUMMARY:Parkside Towers
DESCRIPTION:Fresh Catch Poke
URL:https://mvblfeast.com/event/parkside-towers-3/
LOCATION:Parkside Towers\, 1031 E Hillsdale Blvd\, Foster City\, CA\, 94404\, United States
END:VEVENT
BEGIN:VEVENT
DTSTART;TZID=America/Los_Angeles:20230718T113000
DTEND;TZID=America/Los_Angeles:20230718T133000
DTSTAMP:20260423T220433
CREATED:20230628T202228Z
LAST-MODIFIED:20230711T225621Z
UID:80548-1689679800-1689687000@mvblfeast.com
SUMMARY:Parkside Towers
DESCRIPTION:Old Greenwood BBQ
URL:https://mvblfeast.com/event/parkside-towers-2-2023-07-18/
LOCATION:Parkside Towers\, 1031 E Hillsdale Blvd\, Foster City\, CA\, 94404\, United States
END:VEVENT
BEGIN:VEVENT
DTSTART;TZID=America/Los_Angeles:20230713T113000
DTEND;TZID=America/Los_Angeles:20230713T133000
DTSTAMP:20260423T220433
CREATED:20230628T202814Z
LAST-MODIFIED:20230628T203317Z
UID:80597-1689247800-1689255000@mvblfeast.com
SUMMARY:Parkside Towers
DESCRIPTION:Mozzeria
URL:https://mvblfeast.com/event/parkside-towers-2-2023-07-13/
LOCATION:Parkside Towers\, 1031 E Hillsdale Blvd\, Foster City\, CA\, 94404\, United States
END:VEVENT
BEGIN:VEVENT
DTSTART;TZID=America/Los_Angeles:20230711T113000
DTEND;TZID=America/Los_Angeles:20230711T133000
DTSTAMP:20260423T220433
CREATED:20230628T202228Z
LAST-MODIFIED:20230711T225558Z
UID:80547-1689075000-1689082200@mvblfeast.com
SUMMARY:Parkside Towers
DESCRIPTION:Sam’s Chowdermobile
URL:https://mvblfeast.com/event/parkside-towers-2-2023-07-11/
LOCATION:Parkside Towers\, 1031 E Hillsdale Blvd\, Foster City\, CA\, 94404\, United States
END:VEVENT
BEGIN:VEVENT
DTSTART;TZID=America/Los_Angeles:20230706T113000
DTEND;TZID=America/Los_Angeles:20230706T133000
DTSTAMP:20260423T220433
CREATED:20230628T202814Z
LAST-MODIFIED:20230628T203301Z
UID:80595-1688643000-1688650200@mvblfeast.com
SUMMARY:Parkside Towers
DESCRIPTION:Lilo’s Kitchen
URL:https://mvblfeast.com/event/parkside-towers-2/
LOCATION:Parkside Towers\, 1031 E Hillsdale Blvd\, Foster City\, CA\, 94404\, United States
END:VEVENT
BEGIN:VEVENT
DTSTART;TZID=America/Los_Angeles:20230627T113000
DTEND;TZID=America/Los_Angeles:20230627T133000
DTSTAMP:20260423T220433
CREATED:20230503T005922Z
LAST-MODIFIED:20230606T223439Z
UID:79782-1687865400-1687872600@mvblfeast.com
SUMMARY:Parkside Towers
DESCRIPTION:Hongry Kong
URL:https://mvblfeast.com/event/parkside-towers-2023-06-27/
LOCATION:Parkside Towers\, 1031 E Hillsdale Blvd\, Foster City\, CA\, 94404\, United States
END:VEVENT
BEGIN:VEVENT
DTSTART;TZID=America/Los_Angeles:20230620T113000
DTEND;TZID=America/Los_Angeles:20230620T133000
DTSTAMP:20260423T220433
CREATED:20230503T005922Z
LAST-MODIFIED:20230606T223418Z
UID:79781-1687260600-1687267800@mvblfeast.com
SUMMARY:Parkside Towers
DESCRIPTION:Curveball
URL:https://mvblfeast.com/event/parkside-towers-2023-06-20/
LOCATION:Parkside Towers\, 1031 E Hillsdale Blvd\, Foster City\, CA\, 94404\, United States
END:VEVENT
BEGIN:VEVENT
DTSTART;TZID=America/Los_Angeles:20230613T113000
DTEND;TZID=America/Los_Angeles:20230613T133000
DTSTAMP:20260423T220433
CREATED:20230503T005922Z
LAST-MODIFIED:20230606T223359Z
UID:79780-1686655800-1686663000@mvblfeast.com
SUMMARY:Parkside Towers
DESCRIPTION:Golden Gate Gyro
URL:https://mvblfeast.com/event/parkside-towers-2023-06-13/
LOCATION:Parkside Towers\, 1031 E Hillsdale Blvd\, Foster City\, CA\, 94404\, United States
END:VEVENT
BEGIN:VEVENT
DTSTART;TZID=America/Los_Angeles:20230606T113000
DTEND;TZID=America/Los_Angeles:20230606T133000
DTSTAMP:20260423T220433
CREATED:20230503T005922Z
LAST-MODIFIED:20230509T233334Z
UID:79779-1686051000-1686058200@mvblfeast.com
SUMMARY:Parkside Towers
DESCRIPTION:
URL:https://mvblfeast.com/event/parkside-towers-2023-06-06/2023-06-06/
LOCATION:Parkside Towers\, 1031 E Hillsdale Blvd\, Foster City\, CA\, 94404\, United States
END:VEVENT
BEGIN:VEVENT
DTSTART;TZID=America/Los_Angeles:20230530T113000
DTEND;TZID=America/Los_Angeles:20230530T133000
DTSTAMP:20260423T220433
CREATED:20230503T005922Z
LAST-MODIFIED:20230509T233521Z
UID:79778-1685446200-1685453400@mvblfeast.com
SUMMARY:Parkside Towers
DESCRIPTION:Akita Sushi
URL:https://mvblfeast.com/event/parkside-towers-2023-05-30/
LOCATION:Parkside Towers\, 1031 E Hillsdale Blvd\, Foster City\, CA\, 94404\, United States
END:VEVENT
BEGIN:VEVENT
DTSTART;TZID=America/Los_Angeles:20230523T113000
DTEND;TZID=America/Los_Angeles:20230523T133000
DTSTAMP:20260423T220433
CREATED:20230503T005922Z
LAST-MODIFIED:20230509T233503Z
UID:79777-1684841400-1684848600@mvblfeast.com
SUMMARY:Parkside Towers
DESCRIPTION:Picnic Basket
URL:https://mvblfeast.com/event/parkside-towers-2023-05-23/
LOCATION:Parkside Towers\, 1031 E Hillsdale Blvd\, Foster City\, CA\, 94404\, United States
END:VEVENT
BEGIN:VEVENT
DTSTART;TZID=America/Los_Angeles:20230516T113000
DTEND;TZID=America/Los_Angeles:20230516T133000
DTSTAMP:20260423T220433
CREATED:20230503T005922Z
LAST-MODIFIED:20230509T233454Z
UID:79776-1684236600-1684243800@mvblfeast.com
SUMMARY:Parkside Towers
DESCRIPTION:BunBao
URL:https://mvblfeast.com/event/parkside-towers-2023-05-16/
LOCATION:Parkside Towers\, 1031 E Hillsdale Blvd\, Foster City\, CA\, 94404\, United States
END:VEVENT
BEGIN:VEVENT
DTSTART;TZID=America/Los_Angeles:20230509T113000
DTEND;TZID=America/Los_Angeles:20230509T133000
DTSTAMP:20260423T220433
CREATED:20230503T005922Z
LAST-MODIFIED:20230509T233445Z
UID:79774-1683631800-1683639000@mvblfeast.com
SUMMARY:Parkside Towers
DESCRIPTION:Sam’s Chowdermobile
URL:https://mvblfeast.com/event/parkside-towers/
LOCATION:Parkside Towers\, 1031 E Hillsdale Blvd\, Foster City\, CA\, 94404\, United States
END:VEVENT
END:VCALENDAR