BEGIN:VCALENDAR
VERSION:2.0
PRODID:-//Moveable Feast - ECPv6.15.13//NONSGML v1.0//EN
CALSCALE:GREGORIAN
METHOD:PUBLISH
X-ORIGINAL-URL:https://mvblfeast.com
X-WR-CALDESC:Events for Moveable Feast
REFRESH-INTERVAL;VALUE=DURATION:PT1H
X-Robots-Tag:noindex
X-PUBLISHED-TTL:PT1H
BEGIN:VTIMEZONE
TZID:America/Los_Angeles
BEGIN:DAYLIGHT
TZOFFSETFROM:-0800
TZOFFSETTO:-0700
TZNAME:PDT
DTSTART:20240310T100000
END:DAYLIGHT
BEGIN:STANDARD
TZOFFSETFROM:-0700
TZOFFSETTO:-0800
TZNAME:PST
DTSTART:20241103T090000
END:STANDARD
BEGIN:DAYLIGHT
TZOFFSETFROM:-0800
TZOFFSETTO:-0700
TZNAME:PDT
DTSTART:20250309T100000
END:DAYLIGHT
BEGIN:STANDARD
TZOFFSETFROM:-0700
TZOFFSETTO:-0800
TZNAME:PST
DTSTART:20251102T090000
END:STANDARD
BEGIN:DAYLIGHT
TZOFFSETFROM:-0800
TZOFFSETTO:-0700
TZNAME:PDT
DTSTART:20260308T100000
END:DAYLIGHT
BEGIN:STANDARD
TZOFFSETFROM:-0700
TZOFFSETTO:-0800
TZNAME:PST
DTSTART:20261101T090000
END:STANDARD
BEGIN:DAYLIGHT
TZOFFSETFROM:-0800
TZOFFSETTO:-0700
TZNAME:PDT
DTSTART:20270314T100000
END:DAYLIGHT
BEGIN:STANDARD
TZOFFSETFROM:-0700
TZOFFSETTO:-0800
TZNAME:PST
DTSTART:20271107T090000
END:STANDARD
END:VTIMEZONE
BEGIN:VEVENT
DTSTART;TZID=America/Los_Angeles:20260310T113000
DTEND;TZID=America/Los_Angeles:20260310T133000
DTSTAMP:20260423T150906
CREATED:20260315T050420Z
LAST-MODIFIED:20260315T050420Z
UID:84057-1773142200-1773149400@mvblfeast.com
SUMMARY:Pacific Shores
DESCRIPTION:Grillzillas
URL:https://mvblfeast.com/event/pacific-shores-107/
LOCATION:Pacific Shores\, 1100 Seaport Blvd\, Redwood City\, CA\, 94063\, United States
END:VEVENT
BEGIN:VEVENT
DTSTART;TZID=America/Los_Angeles:20260305T113000
DTEND;TZID=America/Los_Angeles:20260305T133000
DTSTAMP:20260423T150906
CREATED:20260315T050358Z
LAST-MODIFIED:20260315T050358Z
UID:84058-1772710200-1772717400@mvblfeast.com
SUMMARY:Pacific Shores
DESCRIPTION:Twister/Rolling Duck
URL:https://mvblfeast.com/event/pacific-shores-106/
LOCATION:Pacific Shores\, 1100 Seaport Blvd\, Redwood City\, CA\, 94063\, United States
END:VEVENT
BEGIN:VEVENT
DTSTART;TZID=America/Los_Angeles:20260303T113000
DTEND;TZID=America/Los_Angeles:20260303T133000
DTSTAMP:20260423T150906
CREATED:20260315T050333Z
LAST-MODIFIED:20260315T050333Z
UID:84056-1772537400-1772544600@mvblfeast.com
SUMMARY:Pacific Shores
DESCRIPTION:Sam’s Chowdermobile
URL:https://mvblfeast.com/event/pacific-shores-105/
LOCATION:Pacific Shores\, 1100 Seaport Blvd\, Redwood City\, CA\, 94063\, United States
END:VEVENT
BEGIN:VEVENT
DTSTART;TZID=America/Los_Angeles:20260226T113000
DTEND;TZID=America/Los_Angeles:20260226T133000
DTSTAMP:20260423T150906
CREATED:20260128T004602Z
LAST-MODIFIED:20260128T004602Z
UID:83956-1772105400-1772112600@mvblfeast.com
SUMMARY:Pacific Shores
DESCRIPTION:Fresh Catch
URL:https://mvblfeast.com/event/pacific-shores-103/
LOCATION:Pacific Shores\, 1100 Seaport Blvd\, Redwood City\, CA\, 94063\, United States
END:VEVENT
BEGIN:VEVENT
DTSTART;TZID=America/Los_Angeles:20260224T113000
DTEND;TZID=America/Los_Angeles:20260224T133000
DTSTAMP:20260423T150906
CREATED:20260128T004449Z
LAST-MODIFIED:20260128T004449Z
UID:83940-1771932600-1771939800@mvblfeast.com
SUMMARY:Pacific Shores
DESCRIPTION:WoKitchen
URL:https://mvblfeast.com/event/pacific-shores-102/
LOCATION:Pacific Shores\, 1100 Seaport Blvd\, Redwood City\, CA\, 94063\, United States
END:VEVENT
BEGIN:VEVENT
DTSTART;TZID=America/Los_Angeles:20260219T113000
DTEND;TZID=America/Los_Angeles:20260219T133000
DTSTAMP:20260423T150906
CREATED:20260128T004432Z
LAST-MODIFIED:20260128T004432Z
UID:83939-1771500600-1771507800@mvblfeast.com
SUMMARY:Pacific Shores
DESCRIPTION:El Paisa by Los Alegres
URL:https://mvblfeast.com/event/pacific-shores-101/
LOCATION:Pacific Shores\, 1100 Seaport Blvd\, Redwood City\, CA\, 94063\, United States
END:VEVENT
BEGIN:VEVENT
DTSTART;TZID=America/Los_Angeles:20260217T113000
DTEND;TZID=America/Los_Angeles:20260217T133000
DTSTAMP:20260423T150906
CREATED:20260128T004416Z
LAST-MODIFIED:20260128T004416Z
UID:83938-1771327800-1771335000@mvblfeast.com
SUMMARY:Pacific Shores
DESCRIPTION:I Love Cheesesteak
URL:https://mvblfeast.com/event/pacific-shores-100/
LOCATION:Pacific Shores\, 1100 Seaport Blvd\, Redwood City\, CA\, 94063\, United States
END:VEVENT
BEGIN:VEVENT
DTSTART;TZID=America/Los_Angeles:20260212T113000
DTEND;TZID=America/Los_Angeles:20260212T133000
DTSTAMP:20260423T150906
CREATED:20260128T004354Z
LAST-MODIFIED:20260128T004354Z
UID:83936-1770895800-1770903000@mvblfeast.com
SUMMARY:Pacific Shores
DESCRIPTION:Los Kuyas
URL:https://mvblfeast.com/event/pacific-shores-99/
LOCATION:Pacific Shores\, 1100 Seaport Blvd\, Redwood City\, CA\, 94063\, United States
END:VEVENT
BEGIN:VEVENT
DTSTART;TZID=America/Los_Angeles:20260210T113000
DTEND;TZID=America/Los_Angeles:20260210T133000
DTSTAMP:20260423T150906
CREATED:20260128T004335Z
LAST-MODIFIED:20260128T004335Z
UID:83937-1770723000-1770730200@mvblfeast.com
SUMMARY:Pacific Shores
DESCRIPTION:Akita
URL:https://mvblfeast.com/event/pacific-shores-98/
LOCATION:Pacific Shores\, 1100 Seaport Blvd\, Redwood City\, CA\, 94063\, United States
END:VEVENT
BEGIN:VEVENT
DTSTART;TZID=America/Los_Angeles:20260205T113000
DTEND;TZID=America/Los_Angeles:20260205T133000
DTSTAMP:20260423T150906
CREATED:20260128T004311Z
LAST-MODIFIED:20260128T004311Z
UID:83935-1770291000-1770298200@mvblfeast.com
SUMMARY:Pacific Shores
DESCRIPTION:Bobcha
URL:https://mvblfeast.com/event/pacific-shores-97/
LOCATION:Pacific Shores\, 1100 Seaport Blvd\, Redwood City\, CA\, 94063\, United States
END:VEVENT
BEGIN:VEVENT
DTSTART;TZID=America/Los_Angeles:20260203T113000
DTEND;TZID=America/Los_Angeles:20260203T133000
DTSTAMP:20260423T150906
CREATED:20260128T004253Z
LAST-MODIFIED:20260128T004253Z
UID:83934-1770118200-1770125400@mvblfeast.com
SUMMARY:Pacific Shores
DESCRIPTION:Chick N’ Bros
URL:https://mvblfeast.com/event/pacific-shores-96/
LOCATION:Pacific Shores\, 1100 Seaport Blvd\, Redwood City\, CA\, 94063\, United States
END:VEVENT
BEGIN:VEVENT
DTSTART;TZID=America/Los_Angeles:20260129T113000
DTEND;TZID=America/Los_Angeles:20260129T133000
DTSTAMP:20260423T150906
CREATED:20260128T004220Z
LAST-MODIFIED:20260128T004220Z
UID:83932-1769686200-1769693400@mvblfeast.com
SUMMARY:Pacific Shores
DESCRIPTION:Lion Tea & Dragon Bites
URL:https://mvblfeast.com/event/pacific-shores-95/
LOCATION:Pacific Shores\, 1100 Seaport Blvd\, Redwood City\, CA\, 94063\, United States
END:VEVENT
BEGIN:VEVENT
DTSTART;TZID=America/Los_Angeles:20260127T113000
DTEND;TZID=America/Los_Angeles:20260127T133000
DTSTAMP:20260423T150906
CREATED:20260128T004152Z
LAST-MODIFIED:20260128T004152Z
UID:83933-1769513400-1769520600@mvblfeast.com
SUMMARY:Pacific Shores
DESCRIPTION:Picnic Basket
URL:https://mvblfeast.com/event/pacific-shores-94/
LOCATION:Pacific Shores\, 1100 Seaport Blvd\, Redwood City\, CA\, 94063\, United States
END:VEVENT
BEGIN:VEVENT
DTSTART;TZID=America/Los_Angeles:20260122T113000
DTEND;TZID=America/Los_Angeles:20260122T133000
DTSTAMP:20260423T150906
CREATED:20260128T004029Z
LAST-MODIFIED:20260128T004029Z
UID:83931-1769081400-1769088600@mvblfeast.com
SUMMARY:Pacific Shores
DESCRIPTION:Mozzeria
URL:https://mvblfeast.com/event/pacific-shores-93/
LOCATION:Pacific Shores\, 1100 Seaport Blvd\, Redwood City\, CA\, 94063\, United States
END:VEVENT
BEGIN:VEVENT
DTSTART;TZID=America/Los_Angeles:20260120T113000
DTEND;TZID=America/Los_Angeles:20260120T133000
DTSTAMP:20260423T150906
CREATED:20260128T004004Z
LAST-MODIFIED:20260128T004004Z
UID:83930-1768908600-1768915800@mvblfeast.com
SUMMARY:Pacific Shores
DESCRIPTION:Mr. Rice Kebab
URL:https://mvblfeast.com/event/pacific-shores-92/
LOCATION:Pacific Shores\, 1100 Seaport Blvd\, Redwood City\, CA\, 94063\, United States
END:VEVENT
BEGIN:VEVENT
DTSTART;TZID=America/Los_Angeles:20260115T113000
DTEND;TZID=America/Los_Angeles:20260115T133000
DTSTAMP:20260423T150906
CREATED:20260128T004649Z
LAST-MODIFIED:20260128T004649Z
UID:83957-1768476600-1768483800@mvblfeast.com
SUMMARY:Pacific Shores
DESCRIPTION:Rincon del Cielo
URL:https://mvblfeast.com/event/pacific-shores-104/
LOCATION:Pacific Shores\, 1100 Seaport Blvd\, Redwood City\, CA\, 94063\, United States
END:VEVENT
BEGIN:VEVENT
DTSTART;TZID=America/Los_Angeles:20260113T113000
DTEND;TZID=America/Los_Angeles:20260113T133000
DTSTAMP:20260423T150906
CREATED:20260128T002012Z
LAST-MODIFIED:20260128T002012Z
UID:83928-1768303800-1768311000@mvblfeast.com
SUMMARY:Pacific Shores
DESCRIPTION:Szn N’ Spice
URL:https://mvblfeast.com/event/pacific-shores-90/
LOCATION:Pacific Shores\, 1100 Seaport Blvd\, Redwood City\, CA\, 94063\, United States
END:VEVENT
BEGIN:VEVENT
DTSTART;TZID=America/Los_Angeles:20260108T113000
DTEND;TZID=America/Los_Angeles:20260108T133000
DTSTAMP:20260423T150906
CREATED:20260128T001944Z
LAST-MODIFIED:20260128T001944Z
UID:83927-1767871800-1767879000@mvblfeast.com
SUMMARY:Pacific Shores
DESCRIPTION:Curveball
URL:https://mvblfeast.com/event/pacific-shores-89/
LOCATION:Pacific Shores\, 1100 Seaport Blvd\, Redwood City\, CA\, 94063\, United States
END:VEVENT
BEGIN:VEVENT
DTSTART;TZID=America/Los_Angeles:20260106T113000
DTEND;TZID=America/Los_Angeles:20260106T133000
DTSTAMP:20260423T150906
CREATED:20260128T001922Z
LAST-MODIFIED:20260128T001922Z
UID:83926-1767699000-1767706200@mvblfeast.com
SUMMARY:Pacific Shores
DESCRIPTION:Twister/Rolling Duck
URL:https://mvblfeast.com/event/pacific-shores-88/
LOCATION:Pacific Shores\, 1100 Seaport Blvd\, Redwood City\, CA\, 94063\, United States
END:VEVENT
BEGIN:VEVENT
DTSTART;TZID=America/Los_Angeles:20251218T113000
DTEND;TZID=America/Los_Angeles:20251218T133000
DTSTAMP:20260423T150906
CREATED:20251205T030514Z
LAST-MODIFIED:20251205T030514Z
UID:83906-1766057400-1766064600@mvblfeast.com
SUMMARY:Pacific Shores
DESCRIPTION:Tacos El Cowboy
URL:https://mvblfeast.com/event/pacific-shores-87/
LOCATION:Pacific Shores\, 1100 Seaport Blvd\, Redwood City\, CA\, 94063\, United States
END:VEVENT
BEGIN:VEVENT
DTSTART;TZID=America/Los_Angeles:20251216T113000
DTEND;TZID=America/Los_Angeles:20251216T133000
DTSTAMP:20260423T150906
CREATED:20251205T030446Z
LAST-MODIFIED:20251205T030446Z
UID:83905-1765884600-1765891800@mvblfeast.com
SUMMARY:Pacific Shores
DESCRIPTION:Grillzillas
URL:https://mvblfeast.com/event/pacific-shores-86/
LOCATION:Pacific Shores\, 1100 Seaport Blvd\, Redwood City\, CA\, 94063\, United States
END:VEVENT
BEGIN:VEVENT
DTSTART;TZID=America/Los_Angeles:20251211T113000
DTEND;TZID=America/Los_Angeles:20251211T133000
DTSTAMP:20260423T150906
CREATED:20251205T030433Z
LAST-MODIFIED:20251205T030433Z
UID:83904-1765452600-1765459800@mvblfeast.com
SUMMARY:Pacific Shores
DESCRIPTION:WoKitchen
URL:https://mvblfeast.com/event/pacific-shores-85/
LOCATION:Pacific Shores\, 1100 Seaport Blvd\, Redwood City\, CA\, 94063\, United States
END:VEVENT
BEGIN:VEVENT
DTSTART;TZID=America/Los_Angeles:20251209T113000
DTEND;TZID=America/Los_Angeles:20251209T133000
DTSTAMP:20260423T150906
CREATED:20251205T024154Z
LAST-MODIFIED:20251205T024154Z
UID:83903-1765279800-1765287000@mvblfeast.com
SUMMARY:Pacific Shores
DESCRIPTION:I Love Cheesesteak
URL:https://mvblfeast.com/event/pacific-shores-84/
LOCATION:Pacific Shores\, 1100 Seaport Blvd\, Redwood City\, CA\, 94063\, United States
END:VEVENT
BEGIN:VEVENT
DTSTART;TZID=America/Los_Angeles:20251204T113000
DTEND;TZID=America/Los_Angeles:20251204T133000
DTSTAMP:20260423T150906
CREATED:20251205T024056Z
LAST-MODIFIED:20251205T024056Z
UID:83902-1764847800-1764855000@mvblfeast.com
SUMMARY:Pacific Shores
DESCRIPTION:Mr. Andrew’s Catering
URL:https://mvblfeast.com/event/pacific-shores-83/
LOCATION:Pacific Shores\, 1100 Seaport Blvd\, Redwood City\, CA\, 94063\, United States
END:VEVENT
BEGIN:VEVENT
DTSTART;TZID=America/Los_Angeles:20251202T113000
DTEND;TZID=America/Los_Angeles:20251202T133000
DTSTAMP:20260423T150906
CREATED:20260128T002036Z
LAST-MODIFIED:20260128T002036Z
UID:83929-1764675000-1764682200@mvblfeast.com
SUMMARY:Pacific Shores
DESCRIPTION:Rincon del Cielo
URL:https://mvblfeast.com/event/pacific-shores-91/
LOCATION:Pacific Shores\, 1100 Seaport Blvd\, Redwood City\, CA\, 94063\, United States
END:VEVENT
BEGIN:VEVENT
DTSTART;TZID=America/Los_Angeles:20251202T113000
DTEND;TZID=America/Los_Angeles:20251202T133000
DTSTAMP:20260423T150906
CREATED:20251205T024033Z
LAST-MODIFIED:20251205T024033Z
UID:83901-1764675000-1764682200@mvblfeast.com
SUMMARY:Pacific Shores
DESCRIPTION:Waffle Roost
URL:https://mvblfeast.com/event/pacific-shores-82/
LOCATION:Pacific Shores\, 1100 Seaport Blvd\, Redwood City\, CA\, 94063\, United States
END:VEVENT
BEGIN:VEVENT
DTSTART;TZID=America/Los_Angeles:20251120T113000
DTEND;TZID=America/Los_Angeles:20251120T133000
DTSTAMP:20260423T150906
CREATED:20251022T231245Z
LAST-MODIFIED:20251022T231245Z
UID:83696-1763638200-1763645400@mvblfeast.com
SUMMARY:Pacific Shores
DESCRIPTION:El Paisa by Los Alegres
URL:https://mvblfeast.com/event/pacific-shores-76/
LOCATION:Pacific Shores\, 1100 Seaport Blvd\, Redwood City\, CA\, 94063\, United States
END:VEVENT
BEGIN:VEVENT
DTSTART;TZID=America/Los_Angeles:20251118T113000
DTEND;TZID=America/Los_Angeles:20251118T133000
DTSTAMP:20260423T150906
CREATED:20251022T231145Z
LAST-MODIFIED:20251022T231145Z
UID:83695-1763465400-1763472600@mvblfeast.com
SUMMARY:Pacific Shores
DESCRIPTION:Yakitori Harue
URL:https://mvblfeast.com/event/pacific-shores-75/
LOCATION:Pacific Shores\, 1100 Seaport Blvd\, Redwood City\, CA\, 94063\, United States
END:VEVENT
BEGIN:VEVENT
DTSTART;TZID=America/Los_Angeles:20251113T113000
DTEND;TZID=America/Los_Angeles:20251113T133000
DTSTAMP:20260423T150906
CREATED:20251022T231129Z
LAST-MODIFIED:20251022T231129Z
UID:83694-1763033400-1763040600@mvblfeast.com
SUMMARY:Pacific Shores
DESCRIPTION:Rincon del Cielo
URL:https://mvblfeast.com/event/pacific-shores-74/
LOCATION:Pacific Shores\, 1100 Seaport Blvd\, Redwood City\, CA\, 94063\, United States
END:VEVENT
BEGIN:VEVENT
DTSTART;TZID=America/Los_Angeles:20251111T113000
DTEND;TZID=America/Los_Angeles:20251111T133000
DTSTAMP:20260423T150906
CREATED:20251022T231106Z
LAST-MODIFIED:20251022T231106Z
UID:83693-1762860600-1762867800@mvblfeast.com
SUMMARY:Pacific Shores
DESCRIPTION:Picnic Basket
URL:https://mvblfeast.com/event/pacific-shores-73/
LOCATION:Pacific Shores\, 1100 Seaport Blvd\, Redwood City\, CA\, 94063\, United States
END:VEVENT
END:VCALENDAR