BEGIN:VCALENDAR
VERSION:2.0
PRODID:-//Moveable Feast - ECPv6.15.13//NONSGML v1.0//EN
CALSCALE:GREGORIAN
METHOD:PUBLISH
X-ORIGINAL-URL:https://mvblfeast.com
X-WR-CALDESC:Events for Moveable Feast
REFRESH-INTERVAL;VALUE=DURATION:PT1H
X-Robots-Tag:noindex
X-PUBLISHED-TTL:PT1H
BEGIN:VTIMEZONE
TZID:America/Los_Angeles
BEGIN:DAYLIGHT
TZOFFSETFROM:-0800
TZOFFSETTO:-0700
TZNAME:PDT
DTSTART:20220313T100000
END:DAYLIGHT
BEGIN:STANDARD
TZOFFSETFROM:-0700
TZOFFSETTO:-0800
TZNAME:PST
DTSTART:20221106T090000
END:STANDARD
BEGIN:DAYLIGHT
TZOFFSETFROM:-0800
TZOFFSETTO:-0700
TZNAME:PDT
DTSTART:20230312T100000
END:DAYLIGHT
BEGIN:STANDARD
TZOFFSETFROM:-0700
TZOFFSETTO:-0800
TZNAME:PST
DTSTART:20231105T090000
END:STANDARD
BEGIN:DAYLIGHT
TZOFFSETFROM:-0800
TZOFFSETTO:-0700
TZNAME:PDT
DTSTART:20240310T100000
END:DAYLIGHT
BEGIN:STANDARD
TZOFFSETFROM:-0700
TZOFFSETTO:-0800
TZNAME:PST
DTSTART:20241103T090000
END:STANDARD
BEGIN:DAYLIGHT
TZOFFSETFROM:-0800
TZOFFSETTO:-0700
TZNAME:PDT
DTSTART:20250309T100000
END:DAYLIGHT
BEGIN:STANDARD
TZOFFSETFROM:-0700
TZOFFSETTO:-0800
TZNAME:PST
DTSTART:20251102T090000
END:STANDARD
END:VTIMEZONE
BEGIN:VEVENT
DTSTART;TZID=America/Los_Angeles:20240314T113000
DTEND;TZID=America/Los_Angeles:20240314T133000
DTSTAMP:20260424T160121
CREATED:20240221T005754Z
LAST-MODIFIED:20240221T010411Z
UID:81480-1710415800-1710423000@mvblfeast.com
SUMMARY:Pacific Shores
DESCRIPTION:Mr. Andrew’s Catering
URL:https://mvblfeast.com/event/pacific-shores-6-2024-03-14/
LOCATION:Pacific Shores\, 1100 Seaport Blvd\, Redwood City\, CA\, 94063\, United States
END:VEVENT
BEGIN:VEVENT
DTSTART;TZID=America/Los_Angeles:20240312T113000
DTEND;TZID=America/Los_Angeles:20240312T133000
DTSTAMP:20260424T160121
CREATED:20240221T005944Z
LAST-MODIFIED:20240221T010127Z
UID:81486-1710243000-1710250200@mvblfeast.com
SUMMARY:Pacific Shores
DESCRIPTION:Lilo’s Kitchen
URL:https://mvblfeast.com/event/pacific-shores-5-2024-03-12/
LOCATION:Pacific Shores\, 1100 Seaport Blvd\, Redwood City\, CA\, 94063\, United States
END:VEVENT
BEGIN:VEVENT
DTSTART;TZID=America/Los_Angeles:20240307T113000
DTEND;TZID=America/Los_Angeles:20240307T133000
DTSTAMP:20260424T160121
CREATED:20240221T005754Z
LAST-MODIFIED:20240221T010354Z
UID:81479-1709811000-1709818200@mvblfeast.com
SUMMARY:Pacific Shores
DESCRIPTION:Akita Sushi
URL:https://mvblfeast.com/event/pacific-shores-6/
LOCATION:Pacific Shores\, 1100 Seaport Blvd\, Redwood City\, CA\, 94063\, United States
END:VEVENT
BEGIN:VEVENT
DTSTART;TZID=America/Los_Angeles:20240305T113000
DTEND;TZID=America/Los_Angeles:20240305T133000
DTSTAMP:20260424T160121
CREATED:20240221T005944Z
LAST-MODIFIED:20240221T010107Z
UID:81485-1709638200-1709645400@mvblfeast.com
SUMMARY:Pacific Shores
DESCRIPTION:Curveball
URL:https://mvblfeast.com/event/pacific-shores-5/
LOCATION:Pacific Shores\, 1100 Seaport Blvd\, Redwood City\, CA\, 94063\, United States
END:VEVENT
BEGIN:VEVENT
DTSTART;TZID=America/Los_Angeles:20240229T113000
DTEND;TZID=America/Los_Angeles:20240229T133000
DTSTAMP:20260424T160121
CREATED:20240124T003644Z
LAST-MODIFIED:20240124T003804Z
UID:81396-1709206200-1709213400@mvblfeast.com
SUMMARY:Pacific Shores
DESCRIPTION:Mozzeria
URL:https://mvblfeast.com/event/pacific-shores-4-2024-02-29/
LOCATION:Pacific Shores\, 1100 Seaport Blvd\, Redwood City\, CA\, 94063\, United States
END:VEVENT
BEGIN:VEVENT
DTSTART;TZID=America/Los_Angeles:20240227T113000
DTEND;TZID=America/Los_Angeles:20240227T133000
DTSTAMP:20260424T160121
CREATED:20240124T003310Z
LAST-MODIFIED:20240124T003445Z
UID:81378-1709033400-1709040600@mvblfeast.com
SUMMARY:Pacific Shores
DESCRIPTION:Buri Buri
URL:https://mvblfeast.com/event/pacific-shores-3-2024-02-27/
LOCATION:Pacific Shores\, 1100 Seaport Blvd\, Redwood City\, CA\, 94063\, United States
END:VEVENT
BEGIN:VEVENT
DTSTART;TZID=America/Los_Angeles:20240222T113000
DTEND;TZID=America/Los_Angeles:20240222T133000
DTSTAMP:20260424T160121
CREATED:20240124T003644Z
LAST-MODIFIED:20240124T003753Z
UID:81395-1708601400-1708608600@mvblfeast.com
SUMMARY:Pacific Shores
DESCRIPTION:I Love Cheesesteak
URL:https://mvblfeast.com/event/pacific-shores-4-2024-02-22/
LOCATION:Pacific Shores\, 1100 Seaport Blvd\, Redwood City\, CA\, 94063\, United States
END:VEVENT
BEGIN:VEVENT
DTSTART;TZID=America/Los_Angeles:20240220T113000
DTEND;TZID=America/Los_Angeles:20240220T133000
DTSTAMP:20260424T160121
CREATED:20240124T003310Z
LAST-MODIFIED:20240124T003501Z
UID:81377-1708428600-1708435800@mvblfeast.com
SUMMARY:Pacific Shores
DESCRIPTION:WoKitchen
URL:https://mvblfeast.com/event/pacific-shores-3-2024-02-20/
LOCATION:Pacific Shores\, 1100 Seaport Blvd\, Redwood City\, CA\, 94063\, United States
END:VEVENT
BEGIN:VEVENT
DTSTART;TZID=America/Los_Angeles:20240215T113000
DTEND;TZID=America/Los_Angeles:20240215T133000
DTSTAMP:20260424T160121
CREATED:20240124T003644Z
LAST-MODIFIED:20240124T003733Z
UID:81394-1707996600-1708003800@mvblfeast.com
SUMMARY:Pacific Shores
DESCRIPTION:Grillzillas
URL:https://mvblfeast.com/event/pacific-shores-4/
LOCATION:Pacific Shores\, 1100 Seaport Blvd\, Redwood City\, CA\, 94063\, United States
END:VEVENT
BEGIN:VEVENT
DTSTART;TZID=America/Los_Angeles:20240213T113000
DTEND;TZID=America/Los_Angeles:20240213T133000
DTSTAMP:20260424T160121
CREATED:20240124T003310Z
LAST-MODIFIED:20240124T003403Z
UID:81376-1707823800-1707831000@mvblfeast.com
SUMMARY:Pacific Shores
DESCRIPTION:Golden Gate Gyro
URL:https://mvblfeast.com/event/pacific-shores-3/
LOCATION:Pacific Shores\, 1100 Seaport Blvd\, Redwood City\, CA\, 94063\, United States
END:VEVENT
BEGIN:VEVENT
DTSTART;TZID=America/Los_Angeles:20240208T113000
DTEND;TZID=America/Los_Angeles:20240208T133000
DTSTAMP:20260424T160121
CREATED:20231219T013330Z
LAST-MODIFIED:20240124T003120Z
UID:81115-1707391800-1707399000@mvblfeast.com
SUMMARY:Pacific Shores
DESCRIPTION:Waffle Roost
URL:https://mvblfeast.com/event/pacific-shores-2-2024-02-08/
LOCATION:Pacific Shores\, 1100 Seaport Blvd\, Redwood City\, CA\, 94063\, United States
END:VEVENT
BEGIN:VEVENT
DTSTART;TZID=America/Los_Angeles:20240206T113000
DTEND;TZID=America/Los_Angeles:20240206T133000
DTSTAMP:20260424T160121
CREATED:20231219T013330Z
LAST-MODIFIED:20240124T003107Z
UID:81114-1707219000-1707226200@mvblfeast.com
SUMMARY:Pacific Shores
DESCRIPTION:Fresh Catch Poke
URL:https://mvblfeast.com/event/pacific-shores-2-2024-02-06/
LOCATION:Pacific Shores\, 1100 Seaport Blvd\, Redwood City\, CA\, 94063\, United States
END:VEVENT
BEGIN:VEVENT
DTSTART;TZID=America/Los_Angeles:20240201T113000
DTEND;TZID=America/Los_Angeles:20240201T133000
DTSTAMP:20260424T160121
CREATED:20231219T013330Z
LAST-MODIFIED:20240124T002952Z
UID:81113-1706787000-1706794200@mvblfeast.com
SUMMARY:Pacific Shores
DESCRIPTION:Twister/Rolling Duck
URL:https://mvblfeast.com/event/pacific-shores-2-2024-02-01/
LOCATION:Pacific Shores\, 1100 Seaport Blvd\, Redwood City\, CA\, 94063\, United States
END:VEVENT
BEGIN:VEVENT
DTSTART;TZID=America/Los_Angeles:20240130T113000
DTEND;TZID=America/Los_Angeles:20240130T133000
DTSTAMP:20260424T160121
CREATED:20231219T013330Z
LAST-MODIFIED:20231220T003131Z
UID:81112-1706614200-1706621400@mvblfeast.com
SUMMARY:Pacific Shores
DESCRIPTION:Rincon del Cielo
URL:https://mvblfeast.com/event/pacific-shores-2-2024-01-30/
LOCATION:Pacific Shores\, 1100 Seaport Blvd\, Redwood City\, CA\, 94063\, United States
END:VEVENT
BEGIN:VEVENT
DTSTART;TZID=America/Los_Angeles:20240125T113000
DTEND;TZID=America/Los_Angeles:20240125T133000
DTSTAMP:20260424T160121
CREATED:20231219T013330Z
LAST-MODIFIED:20231220T003116Z
UID:81111-1706182200-1706189400@mvblfeast.com
SUMMARY:Pacific Shores
DESCRIPTION:Akita Sushi
URL:https://mvblfeast.com/event/pacific-shores-2-2024-01-25/
LOCATION:Pacific Shores\, 1100 Seaport Blvd\, Redwood City\, CA\, 94063\, United States
END:VEVENT
BEGIN:VEVENT
DTSTART;TZID=America/Los_Angeles:20240123T113000
DTEND;TZID=America/Los_Angeles:20240123T133000
DTSTAMP:20260424T160121
CREATED:20231219T013330Z
LAST-MODIFIED:20231220T003108Z
UID:81110-1706009400-1706016600@mvblfeast.com
SUMMARY:Pacific Shores
DESCRIPTION:Picnic Basket
URL:https://mvblfeast.com/event/pacific-shores-2-2024-01-23/
LOCATION:Pacific Shores\, 1100 Seaport Blvd\, Redwood City\, CA\, 94063\, United States
END:VEVENT
BEGIN:VEVENT
DTSTART;TZID=America/Los_Angeles:20240118T113000
DTEND;TZID=America/Los_Angeles:20240118T133000
DTSTAMP:20260424T160121
CREATED:20231219T013330Z
LAST-MODIFIED:20231220T003033Z
UID:81109-1705577400-1705584600@mvblfeast.com
SUMMARY:Pacific Shores
DESCRIPTION:Mr. Rice Kebab
URL:https://mvblfeast.com/event/pacific-shores-2-2024-01-18/
LOCATION:Pacific Shores\, 1100 Seaport Blvd\, Redwood City\, CA\, 94063\, United States
END:VEVENT
BEGIN:VEVENT
DTSTART;TZID=America/Los_Angeles:20240116T113000
DTEND;TZID=America/Los_Angeles:20240116T133000
DTSTAMP:20260424T160121
CREATED:20231219T013330Z
LAST-MODIFIED:20231220T003016Z
UID:81108-1705404600-1705411800@mvblfeast.com
SUMMARY:Pacific Shores
DESCRIPTION:Grillman
URL:https://mvblfeast.com/event/pacific-shores-2-2024-01-16/
LOCATION:Pacific Shores\, 1100 Seaport Blvd\, Redwood City\, CA\, 94063\, United States
END:VEVENT
BEGIN:VEVENT
DTSTART;TZID=America/Los_Angeles:20240111T113000
DTEND;TZID=America/Los_Angeles:20240111T133000
DTSTAMP:20260424T160121
CREATED:20231219T013330Z
LAST-MODIFIED:20240909T223048Z
UID:81107-1704972600-1704979800@mvblfeast.com
SUMMARY:Pacific Shores
DESCRIPTION:
URL:https://mvblfeast.com/event/pacific-shores-2-2024-01-11/
LOCATION:Pacific Shores\, 1100 Seaport Blvd\, Redwood City\, CA\, 94063\, United States
END:VEVENT
BEGIN:VEVENT
DTSTART;TZID=America/Los_Angeles:20240109T113000
DTEND;TZID=America/Los_Angeles:20240109T133000
DTSTAMP:20260424T160121
CREATED:20231219T013330Z
LAST-MODIFIED:20231220T002952Z
UID:81106-1704799800-1704807000@mvblfeast.com
SUMMARY:Pacific Shores
DESCRIPTION:Cielito Lindo
URL:https://mvblfeast.com/event/pacific-shores-2-2024-01-09/
LOCATION:Pacific Shores\, 1100 Seaport Blvd\, Redwood City\, CA\, 94063\, United States
END:VEVENT
BEGIN:VEVENT
DTSTART;TZID=America/Los_Angeles:20240104T113000
DTEND;TZID=America/Los_Angeles:20240104T133000
DTSTAMP:20260424T160121
CREATED:20231219T013330Z
LAST-MODIFIED:20231220T002907Z
UID:81105-1704367800-1704375000@mvblfeast.com
SUMMARY:Pacific Shores
DESCRIPTION:Red Sauce Meatballs
URL:https://mvblfeast.com/event/pacific-shores-2-2024-01-04/
LOCATION:Pacific Shores\, 1100 Seaport Blvd\, Redwood City\, CA\, 94063\, United States
END:VEVENT
BEGIN:VEVENT
DTSTART;TZID=America/Los_Angeles:20240102T113000
DTEND;TZID=America/Los_Angeles:20240102T133000
DTSTAMP:20260424T160121
CREATED:20231219T013330Z
LAST-MODIFIED:20231220T002805Z
UID:81077-1704195000-1704202200@mvblfeast.com
SUMMARY:Pacific Shores
DESCRIPTION:Mr. Andrew’s Catering
URL:https://mvblfeast.com/event/pacific-shores-2/
LOCATION:Pacific Shores\, 1100 Seaport Blvd\, Redwood City\, CA\, 94063\, United States
END:VEVENT
BEGIN:VEVENT
DTSTART;TZID=America/Los_Angeles:20231219T113000
DTEND;TZID=America/Los_Angeles:20231219T130000
DTSTAMP:20260424T160121
CREATED:20230131T222540Z
LAST-MODIFIED:20231128T192419Z
UID:77795-1702985400-1702990800@mvblfeast.com
SUMMARY:Pacific Shores
DESCRIPTION:Oaxacan Kitchen
URL:https://mvblfeast.com/event/pacific-shores-2023-12-19/
LOCATION:Pacific Shores\, 1100 Seaport Blvd\, Redwood City\, CA\, 94063\, United States
END:VEVENT
BEGIN:VEVENT
DTSTART;TZID=America/Los_Angeles:20231214T113000
DTEND;TZID=America/Los_Angeles:20231214T130000
DTSTAMP:20260424T160121
CREATED:20230131T222540Z
LAST-MODIFIED:20231128T192400Z
UID:77794-1702553400-1702558800@mvblfeast.com
SUMMARY:Pacific Shores
DESCRIPTION:I Love Cheesesteak
URL:https://mvblfeast.com/event/pacific-shores-2023-12-14/
LOCATION:Pacific Shores\, 1100 Seaport Blvd\, Redwood City\, CA\, 94063\, United States
END:VEVENT
BEGIN:VEVENT
DTSTART;TZID=America/Los_Angeles:20231212T113000
DTEND;TZID=America/Los_Angeles:20231212T130000
DTSTAMP:20260424T160121
CREATED:20230131T222540Z
LAST-MODIFIED:20231128T192312Z
UID:77793-1702380600-1702386000@mvblfeast.com
SUMMARY:Pacific Shores
DESCRIPTION:Waffle Roost
URL:https://mvblfeast.com/event/pacific-shores-2023-12-12/
LOCATION:Pacific Shores\, 1100 Seaport Blvd\, Redwood City\, CA\, 94063\, United States
END:VEVENT
BEGIN:VEVENT
DTSTART;TZID=America/Los_Angeles:20231207T113000
DTEND;TZID=America/Los_Angeles:20231207T130000
DTSTAMP:20260424T160121
CREATED:20230131T222540Z
LAST-MODIFIED:20231128T192251Z
UID:77792-1701948600-1701954000@mvblfeast.com
SUMMARY:Pacific Shores
DESCRIPTION:Curveball
URL:https://mvblfeast.com/event/pacific-shores-2023-12-07/
LOCATION:Pacific Shores\, 1100 Seaport Blvd\, Redwood City\, CA\, 94063\, United States
END:VEVENT
BEGIN:VEVENT
DTSTART;TZID=America/Los_Angeles:20231205T113000
DTEND;TZID=America/Los_Angeles:20231205T130000
DTSTAMP:20260424T160121
CREATED:20230131T222540Z
LAST-MODIFIED:20231128T192231Z
UID:77791-1701775800-1701781200@mvblfeast.com
SUMMARY:Pacific Shores
DESCRIPTION:Lilo’s Kitchen
URL:https://mvblfeast.com/event/pacific-shores-2023-12-05/
LOCATION:Pacific Shores\, 1100 Seaport Blvd\, Redwood City\, CA\, 94063\, United States
END:VEVENT
BEGIN:VEVENT
DTSTART;TZID=America/Los_Angeles:20231130T113000
DTEND;TZID=America/Los_Angeles:20231130T130000
DTSTAMP:20260424T160121
CREATED:20230131T222540Z
LAST-MODIFIED:20231026T010228Z
UID:77790-1701343800-1701349200@mvblfeast.com
SUMMARY:Pacific Shores
DESCRIPTION:Twister/Rolling Duck
URL:https://mvblfeast.com/event/pacific-shores-2023-11-30/
LOCATION:Pacific Shores\, 1100 Seaport Blvd\, Redwood City\, CA\, 94063\, United States
END:VEVENT
BEGIN:VEVENT
DTSTART;TZID=America/Los_Angeles:20231128T113000
DTEND;TZID=America/Los_Angeles:20231128T130000
DTSTAMP:20260424T160121
CREATED:20230131T222540Z
LAST-MODIFIED:20231026T010217Z
UID:77789-1701171000-1701176400@mvblfeast.com
SUMMARY:Pacific Shores
DESCRIPTION:Mr. Rice Kebab
URL:https://mvblfeast.com/event/pacific-shores-2023-11-28/
LOCATION:Pacific Shores\, 1100 Seaport Blvd\, Redwood City\, CA\, 94063\, United States
END:VEVENT
BEGIN:VEVENT
DTSTART;TZID=America/Los_Angeles:20231121T113000
DTEND;TZID=America/Los_Angeles:20231121T130000
DTSTAMP:20260424T160121
CREATED:20230131T222540Z
LAST-MODIFIED:20231026T005934Z
UID:77787-1700566200-1700571600@mvblfeast.com
SUMMARY:Pacific Shores
DESCRIPTION:
URL:https://mvblfeast.com/event/pacific-shores-2023-11-21/
LOCATION:Pacific Shores\, 1100 Seaport Blvd\, Redwood City\, CA\, 94063\, United States
END:VEVENT
END:VCALENDAR