BEGIN:VCALENDAR
VERSION:2.0
PRODID:-//Moveable Feast - ECPv6.15.13//NONSGML v1.0//EN
CALSCALE:GREGORIAN
METHOD:PUBLISH
X-ORIGINAL-URL:https://mvblfeast.com
X-WR-CALDESC:Events for Moveable Feast
REFRESH-INTERVAL;VALUE=DURATION:PT1H
X-Robots-Tag:noindex
X-PUBLISHED-TTL:PT1H
BEGIN:VTIMEZONE
TZID:America/Los_Angeles
BEGIN:DAYLIGHT
TZOFFSETFROM:-0800
TZOFFSETTO:-0700
TZNAME:PDT
DTSTART:20230312T100000
END:DAYLIGHT
BEGIN:STANDARD
TZOFFSETFROM:-0700
TZOFFSETTO:-0800
TZNAME:PST
DTSTART:20231105T090000
END:STANDARD
BEGIN:DAYLIGHT
TZOFFSETFROM:-0800
TZOFFSETTO:-0700
TZNAME:PDT
DTSTART:20240310T100000
END:DAYLIGHT
BEGIN:STANDARD
TZOFFSETFROM:-0700
TZOFFSETTO:-0800
TZNAME:PST
DTSTART:20241103T090000
END:STANDARD
BEGIN:DAYLIGHT
TZOFFSETFROM:-0800
TZOFFSETTO:-0700
TZNAME:PDT
DTSTART:20250309T100000
END:DAYLIGHT
BEGIN:STANDARD
TZOFFSETFROM:-0700
TZOFFSETTO:-0800
TZNAME:PST
DTSTART:20251102T090000
END:STANDARD
END:VTIMEZONE
BEGIN:VEVENT
DTSTART;TZID=America/Los_Angeles:20240709T113000
DTEND;TZID=America/Los_Angeles:20240709T133000
DTSTAMP:20260424T125829
CREATED:20231219T013330Z
LAST-MODIFIED:20240703T013712Z
UID:81158-1720524600-1720531800@mvblfeast.com
SUMMARY:Pacific Shores
DESCRIPTION:El Paisa by Los Alegres
URL:https://mvblfeast.com/event/pacific-shores-2-2024-07-09/
LOCATION:Pacific Shores\, 1100 Seaport Blvd\, Redwood City\, CA\, 94063\, United States
END:VEVENT
BEGIN:VEVENT
DTSTART;TZID=America/Los_Angeles:20240702T113000
DTEND;TZID=America/Los_Angeles:20240702T133000
DTSTAMP:20260424T125829
CREATED:20231219T013330Z
LAST-MODIFIED:20240703T013647Z
UID:81156-1719919800-1719927000@mvblfeast.com
SUMMARY:Pacific Shores
DESCRIPTION:Bobcha
URL:https://mvblfeast.com/event/pacific-shores-2-2024-07-02/
LOCATION:Pacific Shores\, 1100 Seaport Blvd\, Redwood City\, CA\, 94063\, United States
END:VEVENT
BEGIN:VEVENT
DTSTART;TZID=America/Los_Angeles:20240530T113000
DTEND;TZID=America/Los_Angeles:20240530T133000
DTSTAMP:20260424T125829
CREATED:20231219T013330Z
LAST-MODIFIED:20240502T011808Z
UID:81147-1717068600-1717075800@mvblfeast.com
SUMMARY:Pacific Shores
DESCRIPTION:Meryenda
URL:https://mvblfeast.com/event/pacific-shores-2-2024-05-30/
LOCATION:Pacific Shores\, 1100 Seaport Blvd\, Redwood City\, CA\, 94063\, United States
END:VEVENT
BEGIN:VEVENT
DTSTART;TZID=America/Los_Angeles:20240528T113000
DTEND;TZID=America/Los_Angeles:20240528T133000
DTSTAMP:20260424T125829
CREATED:20240502T010807Z
LAST-MODIFIED:20240502T011625Z
UID:81866-1716895800-1716903000@mvblfeast.com
SUMMARY:Pacific Shores
DESCRIPTION:Lilo’s Kitchen
URL:https://mvblfeast.com/event/pacific-shores-11-2024-05-28/
LOCATION:Pacific Shores\, 1100 Seaport Blvd\, Redwood City\, CA\, 94063\, United States
END:VEVENT
BEGIN:VEVENT
DTSTART;TZID=America/Los_Angeles:20240523T113000
DTEND;TZID=America/Los_Angeles:20240523T133000
DTSTAMP:20260424T125829
CREATED:20240502T010849Z
LAST-MODIFIED:20240502T011751Z
UID:81872-1716463800-1716471000@mvblfeast.com
SUMMARY:Pacific Shores
DESCRIPTION:Los Kuyas
URL:https://mvblfeast.com/event/pacific-shores-12-2024-05-23/
LOCATION:Pacific Shores\, 1100 Seaport Blvd\, Redwood City\, CA\, 94063\, United States
END:VEVENT
BEGIN:VEVENT
DTSTART;TZID=America/Los_Angeles:20240521T113000
DTEND;TZID=America/Los_Angeles:20240521T133000
DTSTAMP:20260424T125829
CREATED:20240502T010807Z
LAST-MODIFIED:20240502T011614Z
UID:81865-1716291000-1716298200@mvblfeast.com
SUMMARY:Pacific Shores
DESCRIPTION:Akita Sushi
URL:https://mvblfeast.com/event/pacific-shores-11-2024-05-21/
LOCATION:Pacific Shores\, 1100 Seaport Blvd\, Redwood City\, CA\, 94063\, United States
END:VEVENT
BEGIN:VEVENT
DTSTART;TZID=America/Los_Angeles:20240516T113000
DTEND;TZID=America/Los_Angeles:20240516T133000
DTSTAMP:20260424T125829
CREATED:20240502T010849Z
LAST-MODIFIED:20240502T011743Z
UID:81871-1715859000-1715866200@mvblfeast.com
SUMMARY:Pacific Shores
DESCRIPTION:Curveball
URL:https://mvblfeast.com/event/pacific-shores-12-2024-05-16/
LOCATION:Pacific Shores\, 1100 Seaport Blvd\, Redwood City\, CA\, 94063\, United States
END:VEVENT
BEGIN:VEVENT
DTSTART;TZID=America/Los_Angeles:20240514T113000
DTEND;TZID=America/Los_Angeles:20240514T133000
DTSTAMP:20260424T125829
CREATED:20240502T010807Z
LAST-MODIFIED:20240502T011601Z
UID:81864-1715686200-1715693400@mvblfeast.com
SUMMARY:Pacific Shores
DESCRIPTION:Bobcha
URL:https://mvblfeast.com/event/pacific-shores-11-2024-05-14/
LOCATION:Pacific Shores\, 1100 Seaport Blvd\, Redwood City\, CA\, 94063\, United States
END:VEVENT
BEGIN:VEVENT
DTSTART;TZID=America/Los_Angeles:20240509T113000
DTEND;TZID=America/Los_Angeles:20240509T133000
DTSTAMP:20260424T125829
CREATED:20240502T010849Z
LAST-MODIFIED:20240502T011720Z
UID:81870-1715254200-1715261400@mvblfeast.com
SUMMARY:Pacific Shores
DESCRIPTION:Mr. Andrew’s Catering
URL:https://mvblfeast.com/event/pacific-shores-12-2024-05-09/
LOCATION:Pacific Shores\, 1100 Seaport Blvd\, Redwood City\, CA\, 94063\, United States
END:VEVENT
BEGIN:VEVENT
DTSTART;TZID=America/Los_Angeles:20240507T113000
DTEND;TZID=America/Los_Angeles:20240507T133000
DTSTAMP:20260424T125829
CREATED:20240502T010807Z
LAST-MODIFIED:20240502T011537Z
UID:81863-1715081400-1715088600@mvblfeast.com
SUMMARY:Pacific Shores
DESCRIPTION:Grillman
URL:https://mvblfeast.com/event/pacific-shores-11/
LOCATION:Pacific Shores\, 1100 Seaport Blvd\, Redwood City\, CA\, 94063\, United States
END:VEVENT
BEGIN:VEVENT
DTSTART;TZID=America/Los_Angeles:20240502T113000
DTEND;TZID=America/Los_Angeles:20240502T133000
DTSTAMP:20260424T125829
CREATED:20240502T010849Z
LAST-MODIFIED:20240502T011711Z
UID:81869-1714649400-1714656600@mvblfeast.com
SUMMARY:Pacific Shores
DESCRIPTION:Mr. Rice Kebab
URL:https://mvblfeast.com/event/pacific-shores-12/
LOCATION:Pacific Shores\, 1100 Seaport Blvd\, Redwood City\, CA\, 94063\, United States
END:VEVENT
BEGIN:VEVENT
DTSTART;TZID=America/Los_Angeles:20240430T113000
DTEND;TZID=America/Los_Angeles:20240430T133000
DTSTAMP:20260424T125829
CREATED:20240329T012225Z
LAST-MODIFIED:20240329T012225Z
UID:81577-1714476600-1714483800@mvblfeast.com
SUMMARY:Pacific Shores
DESCRIPTION:Hongry Kong
URL:https://mvblfeast.com/event/pacific-shores-10/
LOCATION:Pacific Shores\, 1100 Seaport Blvd\, Redwood City\, CA\, 94063\, United States
END:VEVENT
BEGIN:VEVENT
DTSTART;TZID=America/Los_Angeles:20240425T113000
DTEND;TZID=America/Los_Angeles:20240425T133000
DTSTAMP:20260424T125829
CREATED:20240329T011330Z
LAST-MODIFIED:20240329T012838Z
UID:81569-1714044600-1714051800@mvblfeast.com
SUMMARY:Pacific Shores
DESCRIPTION:Grillzillas
URL:https://mvblfeast.com/event/pacific-shores-8-2024-04-25/
LOCATION:Pacific Shores\, 1100 Seaport Blvd\, Redwood City\, CA\, 94063\, United States
END:VEVENT
BEGIN:VEVENT
DTSTART;TZID=America/Los_Angeles:20240423T113000
DTEND;TZID=America/Los_Angeles:20240423T133000
DTSTAMP:20260424T125829
CREATED:20240329T011735Z
LAST-MODIFIED:20240329T011735Z
UID:81574-1713871800-1713879000@mvblfeast.com
SUMMARY:Pacific Shores
DESCRIPTION:El Paisa by Los Alegres
URL:https://mvblfeast.com/event/pacific-shores-9/
LOCATION:Pacific Shores\, 1100 Seaport Blvd\, Redwood City\, CA\, 94063\, United States
END:VEVENT
BEGIN:VEVENT
DTSTART;TZID=America/Los_Angeles:20240418T113000
DTEND;TZID=America/Los_Angeles:20240418T133000
DTSTAMP:20260424T125829
CREATED:20240329T011330Z
LAST-MODIFIED:20240329T012812Z
UID:81568-1713439800-1713447000@mvblfeast.com
SUMMARY:Pacific Shores
DESCRIPTION:Waffle Roost
URL:https://mvblfeast.com/event/pacific-shores-8-2024-04-18/
LOCATION:Pacific Shores\, 1100 Seaport Blvd\, Redwood City\, CA\, 94063\, United States
END:VEVENT
BEGIN:VEVENT
DTSTART;TZID=America/Los_Angeles:20240416T113000
DTEND;TZID=America/Los_Angeles:20240416T133000
DTSTAMP:20260424T125829
CREATED:20240329T011231Z
LAST-MODIFIED:20240329T011754Z
UID:81562-1713267000-1713274200@mvblfeast.com
SUMMARY:Pacific Shores
DESCRIPTION:Picnic Basket
URL:https://mvblfeast.com/event/pacific-shores-7-2024-04-16/
LOCATION:Pacific Shores\, 1100 Seaport Blvd\, Redwood City\, CA\, 94063\, United States
END:VEVENT
BEGIN:VEVENT
DTSTART;TZID=America/Los_Angeles:20240411T113000
DTEND;TZID=America/Los_Angeles:20240411T133000
DTSTAMP:20260424T125829
CREATED:20240329T011330Z
LAST-MODIFIED:20240329T012737Z
UID:81567-1712835000-1712842200@mvblfeast.com
SUMMARY:Pacific Shores
DESCRIPTION:Cielito Lindo
URL:https://mvblfeast.com/event/pacific-shores-8-2024-04-11/
LOCATION:Pacific Shores\, 1100 Seaport Blvd\, Redwood City\, CA\, 94063\, United States
END:VEVENT
BEGIN:VEVENT
DTSTART;TZID=America/Los_Angeles:20240409T113000
DTEND;TZID=America/Los_Angeles:20240409T133000
DTSTAMP:20260424T125829
CREATED:20240329T011231Z
LAST-MODIFIED:20240329T011528Z
UID:81561-1712662200-1712669400@mvblfeast.com
SUMMARY:Pacific Shores
DESCRIPTION:I Love Cheesesteak
URL:https://mvblfeast.com/event/pacific-shores-7/
LOCATION:Pacific Shores\, 1100 Seaport Blvd\, Redwood City\, CA\, 94063\, United States
END:VEVENT
BEGIN:VEVENT
DTSTART;TZID=America/Los_Angeles:20240404T113000
DTEND;TZID=America/Los_Angeles:20240404T133000
DTSTAMP:20260424T125829
CREATED:20240329T011330Z
LAST-MODIFIED:20240329T012621Z
UID:81566-1712230200-1712237400@mvblfeast.com
SUMMARY:Pacific Shores
DESCRIPTION:Oaxacan Kitchen
URL:https://mvblfeast.com/event/pacific-shores-8/
LOCATION:Pacific Shores\, 1100 Seaport Blvd\, Redwood City\, CA\, 94063\, United States
END:VEVENT
BEGIN:VEVENT
DTSTART;TZID=America/Los_Angeles:20240402T113000
DTEND;TZID=America/Los_Angeles:20240402T133000
DTSTAMP:20260424T125829
CREATED:20240221T005944Z
LAST-MODIFIED:20240329T011508Z
UID:81489-1712057400-1712064600@mvblfeast.com
SUMMARY:Pacific Shores
DESCRIPTION:WoKitchen
URL:https://mvblfeast.com/event/pacific-shores-5-2024-04-02/
LOCATION:Pacific Shores\, 1100 Seaport Blvd\, Redwood City\, CA\, 94063\, United States
END:VEVENT
BEGIN:VEVENT
DTSTART;TZID=America/Los_Angeles:20240328T113000
DTEND;TZID=America/Los_Angeles:20240328T133000
DTSTAMP:20260424T125829
CREATED:20240221T005754Z
LAST-MODIFIED:20240221T010442Z
UID:81482-1711625400-1711632600@mvblfeast.com
SUMMARY:Pacific Shores
DESCRIPTION:Old Greenwood BBQ
URL:https://mvblfeast.com/event/pacific-shores-6-2024-03-28/
LOCATION:Pacific Shores\, 1100 Seaport Blvd\, Redwood City\, CA\, 94063\, United States
END:VEVENT
BEGIN:VEVENT
DTSTART;TZID=America/Los_Angeles:20240326T113000
DTEND;TZID=America/Los_Angeles:20240326T133000
DTSTAMP:20260424T125829
CREATED:20240221T005944Z
LAST-MODIFIED:20240221T010204Z
UID:81488-1711452600-1711459800@mvblfeast.com
SUMMARY:Pacific Shores
DESCRIPTION:Rincon del Cielo
URL:https://mvblfeast.com/event/pacific-shores-5-2024-03-26/
LOCATION:Pacific Shores\, 1100 Seaport Blvd\, Redwood City\, CA\, 94063\, United States
END:VEVENT
BEGIN:VEVENT
DTSTART;TZID=America/Los_Angeles:20240321T113000
DTEND;TZID=America/Los_Angeles:20240321T133000
DTSTAMP:20260424T125829
CREATED:20240221T005754Z
LAST-MODIFIED:20240221T010422Z
UID:81481-1711020600-1711027800@mvblfeast.com
SUMMARY:Pacific Shores
DESCRIPTION:Mr. Rice Kebab
URL:https://mvblfeast.com/event/pacific-shores-6-2024-03-21/
LOCATION:Pacific Shores\, 1100 Seaport Blvd\, Redwood City\, CA\, 94063\, United States
END:VEVENT
BEGIN:VEVENT
DTSTART;TZID=America/Los_Angeles:20240319T113000
DTEND;TZID=America/Los_Angeles:20240319T133000
DTSTAMP:20260424T125829
CREATED:20240221T005944Z
LAST-MODIFIED:20240221T010147Z
UID:81487-1710847800-1710855000@mvblfeast.com
SUMMARY:Pacific Shores
DESCRIPTION:Grillman
URL:https://mvblfeast.com/event/pacific-shores-5-2024-03-19/
LOCATION:Pacific Shores\, 1100 Seaport Blvd\, Redwood City\, CA\, 94063\, United States
END:VEVENT
BEGIN:VEVENT
DTSTART;TZID=America/Los_Angeles:20240314T113000
DTEND;TZID=America/Los_Angeles:20240314T133000
DTSTAMP:20260424T125829
CREATED:20240221T005754Z
LAST-MODIFIED:20240221T010411Z
UID:81480-1710415800-1710423000@mvblfeast.com
SUMMARY:Pacific Shores
DESCRIPTION:Mr. Andrew’s Catering
URL:https://mvblfeast.com/event/pacific-shores-6-2024-03-14/
LOCATION:Pacific Shores\, 1100 Seaport Blvd\, Redwood City\, CA\, 94063\, United States
END:VEVENT
BEGIN:VEVENT
DTSTART;TZID=America/Los_Angeles:20240312T113000
DTEND;TZID=America/Los_Angeles:20240312T133000
DTSTAMP:20260424T125829
CREATED:20240221T005944Z
LAST-MODIFIED:20240221T010127Z
UID:81486-1710243000-1710250200@mvblfeast.com
SUMMARY:Pacific Shores
DESCRIPTION:Lilo’s Kitchen
URL:https://mvblfeast.com/event/pacific-shores-5-2024-03-12/
LOCATION:Pacific Shores\, 1100 Seaport Blvd\, Redwood City\, CA\, 94063\, United States
END:VEVENT
BEGIN:VEVENT
DTSTART;TZID=America/Los_Angeles:20240307T113000
DTEND;TZID=America/Los_Angeles:20240307T133000
DTSTAMP:20260424T125829
CREATED:20240221T005754Z
LAST-MODIFIED:20240221T010354Z
UID:81479-1709811000-1709818200@mvblfeast.com
SUMMARY:Pacific Shores
DESCRIPTION:Akita Sushi
URL:https://mvblfeast.com/event/pacific-shores-6/
LOCATION:Pacific Shores\, 1100 Seaport Blvd\, Redwood City\, CA\, 94063\, United States
END:VEVENT
BEGIN:VEVENT
DTSTART;TZID=America/Los_Angeles:20240305T113000
DTEND;TZID=America/Los_Angeles:20240305T133000
DTSTAMP:20260424T125829
CREATED:20240221T005944Z
LAST-MODIFIED:20240221T010107Z
UID:81485-1709638200-1709645400@mvblfeast.com
SUMMARY:Pacific Shores
DESCRIPTION:Curveball
URL:https://mvblfeast.com/event/pacific-shores-5/
LOCATION:Pacific Shores\, 1100 Seaport Blvd\, Redwood City\, CA\, 94063\, United States
END:VEVENT
BEGIN:VEVENT
DTSTART;TZID=America/Los_Angeles:20240229T113000
DTEND;TZID=America/Los_Angeles:20240229T133000
DTSTAMP:20260424T125829
CREATED:20240124T003644Z
LAST-MODIFIED:20240124T003804Z
UID:81396-1709206200-1709213400@mvblfeast.com
SUMMARY:Pacific Shores
DESCRIPTION:Mozzeria
URL:https://mvblfeast.com/event/pacific-shores-4-2024-02-29/
LOCATION:Pacific Shores\, 1100 Seaport Blvd\, Redwood City\, CA\, 94063\, United States
END:VEVENT
BEGIN:VEVENT
DTSTART;TZID=America/Los_Angeles:20240227T113000
DTEND;TZID=America/Los_Angeles:20240227T133000
DTSTAMP:20260424T125829
CREATED:20240124T003310Z
LAST-MODIFIED:20240124T003445Z
UID:81378-1709033400-1709040600@mvblfeast.com
SUMMARY:Pacific Shores
DESCRIPTION:Buri Buri
URL:https://mvblfeast.com/event/pacific-shores-3-2024-02-27/
LOCATION:Pacific Shores\, 1100 Seaport Blvd\, Redwood City\, CA\, 94063\, United States
END:VEVENT
END:VCALENDAR