BEGIN:VCALENDAR
VERSION:2.0
PRODID:-//Moveable Feast - ECPv6.15.13//NONSGML v1.0//EN
CALSCALE:GREGORIAN
METHOD:PUBLISH
X-WR-CALNAME:Moveable Feast
X-ORIGINAL-URL:https://mvblfeast.com
X-WR-CALDESC:Events for Moveable Feast
REFRESH-INTERVAL;VALUE=DURATION:PT1H
X-Robots-Tag:noindex
X-PUBLISHED-TTL:PT1H
BEGIN:VTIMEZONE
TZID:America/Los_Angeles
BEGIN:DAYLIGHT
TZOFFSETFROM:-0800
TZOFFSETTO:-0700
TZNAME:PDT
DTSTART:20230312T100000
END:DAYLIGHT
BEGIN:STANDARD
TZOFFSETFROM:-0700
TZOFFSETTO:-0800
TZNAME:PST
DTSTART:20231105T090000
END:STANDARD
BEGIN:DAYLIGHT
TZOFFSETFROM:-0800
TZOFFSETTO:-0700
TZNAME:PDT
DTSTART:20240310T100000
END:DAYLIGHT
BEGIN:STANDARD
TZOFFSETFROM:-0700
TZOFFSETTO:-0800
TZNAME:PST
DTSTART:20241103T090000
END:STANDARD
BEGIN:DAYLIGHT
TZOFFSETFROM:-0800
TZOFFSETTO:-0700
TZNAME:PDT
DTSTART:20250309T100000
END:DAYLIGHT
BEGIN:STANDARD
TZOFFSETFROM:-0700
TZOFFSETTO:-0800
TZNAME:PST
DTSTART:20251102T090000
END:STANDARD
END:VTIMEZONE
BEGIN:VEVENT
DTSTART;TZID=America/Los_Angeles:20241119T113000
DTEND;TZID=America/Los_Angeles:20241119T133000
DTSTAMP:20260424T080811
CREATED:20231219T013330Z
LAST-MODIFIED:20241022T000742Z
UID:81196-1732015800-1732023000@mvblfeast.com
SUMMARY:Pacific Shores
DESCRIPTION:Fresh Catch Poke
URL:https://mvblfeast.com/event/pacific-shores-2-2024-11-19/
LOCATION:Pacific Shores\, 1100 Seaport Blvd\, Redwood City\, CA\, 94063\, United States
END:VEVENT
BEGIN:VEVENT
DTSTART;TZID=America/Los_Angeles:20241114T113000
DTEND;TZID=America/Los_Angeles:20241114T133000
DTSTAMP:20260424T080811
CREATED:20231219T013330Z
LAST-MODIFIED:20241022T000734Z
UID:81195-1731583800-1731591000@mvblfeast.com
SUMMARY:Pacific Shores
DESCRIPTION:Bobcha
URL:https://mvblfeast.com/event/pacific-shores-2-2024-11-14/
LOCATION:Pacific Shores\, 1100 Seaport Blvd\, Redwood City\, CA\, 94063\, United States
END:VEVENT
BEGIN:VEVENT
DTSTART;TZID=America/Los_Angeles:20241112T113000
DTEND;TZID=America/Los_Angeles:20241112T133000
DTSTAMP:20260424T080811
CREATED:20231219T013330Z
LAST-MODIFIED:20241022T000700Z
UID:81194-1731411000-1731418200@mvblfeast.com
SUMMARY:Pacific Shores
DESCRIPTION:Waffle Roost
URL:https://mvblfeast.com/event/pacific-shores-2-2024-11-12/
LOCATION:Pacific Shores\, 1100 Seaport Blvd\, Redwood City\, CA\, 94063\, United States
END:VEVENT
BEGIN:VEVENT
DTSTART;TZID=America/Los_Angeles:20241107T113000
DTEND;TZID=America/Los_Angeles:20241107T133000
DTSTAMP:20260424T080811
CREATED:20231219T013330Z
LAST-MODIFIED:20241022T000650Z
UID:81193-1730979000-1730986200@mvblfeast.com
SUMMARY:Pacific Shores
DESCRIPTION:Los Kuyas
URL:https://mvblfeast.com/event/pacific-shores-2-2024-11-07/
LOCATION:Pacific Shores\, 1100 Seaport Blvd\, Redwood City\, CA\, 94063\, United States
END:VEVENT
BEGIN:VEVENT
DTSTART;TZID=America/Los_Angeles:20241105T113000
DTEND;TZID=America/Los_Angeles:20241105T133000
DTSTAMP:20260424T080811
CREATED:20231219T013330Z
LAST-MODIFIED:20241022T000641Z
UID:81192-1730806200-1730813400@mvblfeast.com
SUMMARY:Pacific Shores
DESCRIPTION:Mr. Andrew’s Catering
URL:https://mvblfeast.com/event/pacific-shores-2-2024-11-05/
LOCATION:Pacific Shores\, 1100 Seaport Blvd\, Redwood City\, CA\, 94063\, United States
END:VEVENT
BEGIN:VEVENT
DTSTART;TZID=America/Los_Angeles:20241031T113000
DTEND;TZID=America/Los_Angeles:20241031T133000
DTSTAMP:20260424T080811
CREATED:20231219T013330Z
LAST-MODIFIED:20241022T001012Z
UID:81191-1730374200-1730381400@mvblfeast.com
SUMMARY:Pacific Shores
DESCRIPTION:Mr. Rice Kebab
URL:https://mvblfeast.com/event/pacific-shores-2-2024-10-31/
LOCATION:Pacific Shores\, 1100 Seaport Blvd\, Redwood City\, CA\, 94063\, United States
END:VEVENT
BEGIN:VEVENT
DTSTART;TZID=America/Los_Angeles:20241029T113000
DTEND;TZID=America/Los_Angeles:20241029T133000
DTSTAMP:20260424T080811
CREATED:20231219T013330Z
LAST-MODIFIED:20241022T001007Z
UID:81190-1730201400-1730208600@mvblfeast.com
SUMMARY:Pacific Shores
DESCRIPTION:Buri Buri
URL:https://mvblfeast.com/event/pacific-shores-2-2024-10-29/
LOCATION:Pacific Shores\, 1100 Seaport Blvd\, Redwood City\, CA\, 94063\, United States
END:VEVENT
BEGIN:VEVENT
DTSTART;TZID=America/Los_Angeles:20241024T113000
DTEND;TZID=America/Los_Angeles:20241024T133000
DTSTAMP:20260424T080811
CREATED:20231219T013330Z
LAST-MODIFIED:20231220T002931Z
UID:81189-1729769400-1729776600@mvblfeast.com
SUMMARY:Pacific Shores
DESCRIPTION:
URL:https://mvblfeast.com/event/pacific-shores-2-2024-01-11/2024-10-24/
LOCATION:Pacific Shores\, 1100 Seaport Blvd\, Redwood City\, CA\, 94063\, United States
END:VEVENT
BEGIN:VEVENT
DTSTART;TZID=America/Los_Angeles:20241022T113000
DTEND;TZID=America/Los_Angeles:20241022T133000
DTSTAMP:20260424T080811
CREATED:20231219T013330Z
LAST-MODIFIED:20231220T002931Z
UID:81188-1729596600-1729603800@mvblfeast.com
SUMMARY:Pacific Shores
DESCRIPTION:
URL:https://mvblfeast.com/event/pacific-shores-2-2024-01-11/2024-10-22/
LOCATION:Pacific Shores\, 1100 Seaport Blvd\, Redwood City\, CA\, 94063\, United States
END:VEVENT
BEGIN:VEVENT
DTSTART;TZID=America/Los_Angeles:20241017T113000
DTEND;TZID=America/Los_Angeles:20241017T133000
DTSTAMP:20260424T080811
CREATED:20231219T013330Z
LAST-MODIFIED:20231220T002931Z
UID:81187-1729164600-1729171800@mvblfeast.com
SUMMARY:Pacific Shores
DESCRIPTION:
URL:https://mvblfeast.com/event/pacific-shores-2-2024-01-11/2024-10-17/
LOCATION:Pacific Shores\, 1100 Seaport Blvd\, Redwood City\, CA\, 94063\, United States
END:VEVENT
BEGIN:VEVENT
DTSTART;TZID=America/Los_Angeles:20241015T113000
DTEND;TZID=America/Los_Angeles:20241015T133000
DTSTAMP:20260424T080811
CREATED:20231219T013330Z
LAST-MODIFIED:20231220T002931Z
UID:81186-1728991800-1728999000@mvblfeast.com
SUMMARY:Pacific Shores
DESCRIPTION:
URL:https://mvblfeast.com/event/pacific-shores-2-2024-01-11/2024-10-15/
LOCATION:Pacific Shores\, 1100 Seaport Blvd\, Redwood City\, CA\, 94063\, United States
END:VEVENT
BEGIN:VEVENT
DTSTART;TZID=America/Los_Angeles:20241010T113000
DTEND;TZID=America/Los_Angeles:20241010T133000
DTSTAMP:20260424T080811
CREATED:20231219T013330Z
LAST-MODIFIED:20231220T002931Z
UID:81185-1728559800-1728567000@mvblfeast.com
SUMMARY:Pacific Shores
DESCRIPTION:
URL:https://mvblfeast.com/event/pacific-shores-2-2024-01-11/2024-10-10/
LOCATION:Pacific Shores\, 1100 Seaport Blvd\, Redwood City\, CA\, 94063\, United States
END:VEVENT
BEGIN:VEVENT
DTSTART;TZID=America/Los_Angeles:20241008T113000
DTEND;TZID=America/Los_Angeles:20241008T133000
DTSTAMP:20260424T080811
CREATED:20231219T013330Z
LAST-MODIFIED:20231220T002931Z
UID:81184-1728387000-1728394200@mvblfeast.com
SUMMARY:Pacific Shores
DESCRIPTION:
URL:https://mvblfeast.com/event/pacific-shores-2-2024-01-11/2024-10-08/
LOCATION:Pacific Shores\, 1100 Seaport Blvd\, Redwood City\, CA\, 94063\, United States
END:VEVENT
BEGIN:VEVENT
DTSTART;TZID=America/Los_Angeles:20241003T113000
DTEND;TZID=America/Los_Angeles:20241003T133000
DTSTAMP:20260424T080811
CREATED:20231219T013330Z
LAST-MODIFIED:20240909T223019Z
UID:81183-1727955000-1727962200@mvblfeast.com
SUMMARY:Pacific Shores
DESCRIPTION:WoKitchen
URL:https://mvblfeast.com/event/pacific-shores-2-2024-10-03/
LOCATION:Pacific Shores\, 1100 Seaport Blvd\, Redwood City\, CA\, 94063\, United States
END:VEVENT
BEGIN:VEVENT
DTSTART;TZID=America/Los_Angeles:20241001T113000
DTEND;TZID=America/Los_Angeles:20241001T133000
DTSTAMP:20260424T080811
CREATED:20231219T013330Z
LAST-MODIFIED:20240909T223005Z
UID:81182-1727782200-1727789400@mvblfeast.com
SUMMARY:Pacific Shores
DESCRIPTION:Lilo’s Kitchen
URL:https://mvblfeast.com/event/pacific-shores-2-2024-10-01/
LOCATION:Pacific Shores\, 1100 Seaport Blvd\, Redwood City\, CA\, 94063\, United States
END:VEVENT
BEGIN:VEVENT
DTSTART;TZID=America/Los_Angeles:20240926T113000
DTEND;TZID=America/Los_Angeles:20240926T133000
DTSTAMP:20260424T080811
CREATED:20231219T013330Z
LAST-MODIFIED:20240909T222943Z
UID:81181-1727350200-1727357400@mvblfeast.com
SUMMARY:Pacific Shores
DESCRIPTION:I Love Cheesesteak
URL:https://mvblfeast.com/event/pacific-shores-2-2024-09-26/
LOCATION:Pacific Shores\, 1100 Seaport Blvd\, Redwood City\, CA\, 94063\, United States
END:VEVENT
BEGIN:VEVENT
DTSTART;TZID=America/Los_Angeles:20240924T113000
DTEND;TZID=America/Los_Angeles:20240924T133000
DTSTAMP:20260424T080811
CREATED:20231219T013330Z
LAST-MODIFIED:20240909T222922Z
UID:81180-1727177400-1727184600@mvblfeast.com
SUMMARY:Pacific Shores
DESCRIPTION:Grillzillas
URL:https://mvblfeast.com/event/pacific-shores-2-2024-09-24/
LOCATION:Pacific Shores\, 1100 Seaport Blvd\, Redwood City\, CA\, 94063\, United States
END:VEVENT
BEGIN:VEVENT
DTSTART;TZID=America/Los_Angeles:20240919T113000
DTEND;TZID=America/Los_Angeles:20240919T133000
DTSTAMP:20260424T080811
CREATED:20231219T013330Z
LAST-MODIFIED:20240909T222901Z
UID:81179-1726745400-1726752600@mvblfeast.com
SUMMARY:Pacific Shores
DESCRIPTION:El Paisa by Los Alegres
URL:https://mvblfeast.com/event/pacific-shores-2-2024-09-19/
LOCATION:Pacific Shores\, 1100 Seaport Blvd\, Redwood City\, CA\, 94063\, United States
END:VEVENT
BEGIN:VEVENT
DTSTART;TZID=America/Los_Angeles:20240917T113000
DTEND;TZID=America/Los_Angeles:20240917T133000
DTSTAMP:20260424T080811
CREATED:20231219T013330Z
LAST-MODIFIED:20240909T222846Z
UID:81178-1726572600-1726579800@mvblfeast.com
SUMMARY:Pacific Shores
DESCRIPTION:Mr. Andrew’s Catering
URL:https://mvblfeast.com/event/pacific-shores-2-2024-09-17/
LOCATION:Pacific Shores\, 1100 Seaport Blvd\, Redwood City\, CA\, 94063\, United States
END:VEVENT
BEGIN:VEVENT
DTSTART;TZID=America/Los_Angeles:20240912T113000
DTEND;TZID=America/Los_Angeles:20240912T133000
DTSTAMP:20260424T080811
CREATED:20231219T013330Z
LAST-MODIFIED:20240909T222727Z
UID:81177-1726140600-1726147800@mvblfeast.com
SUMMARY:Pacific Shores
DESCRIPTION:Fresh Catch Poke
URL:https://mvblfeast.com/event/pacific-shores-2-2024-09-12/
LOCATION:Pacific Shores\, 1100 Seaport Blvd\, Redwood City\, CA\, 94063\, United States
END:VEVENT
BEGIN:VEVENT
DTSTART;TZID=America/Los_Angeles:20240910T113000
DTEND;TZID=America/Los_Angeles:20240910T133000
DTSTAMP:20260424T080811
CREATED:20231219T013330Z
LAST-MODIFIED:20240909T222711Z
UID:81176-1725967800-1725975000@mvblfeast.com
SUMMARY:Pacific Shores
DESCRIPTION:Bobcha
URL:https://mvblfeast.com/event/pacific-shores-2-2024-09-10/
LOCATION:Pacific Shores\, 1100 Seaport Blvd\, Redwood City\, CA\, 94063\, United States
END:VEVENT
BEGIN:VEVENT
DTSTART;TZID=America/Los_Angeles:20240905T113000
DTEND;TZID=America/Los_Angeles:20240905T133000
DTSTAMP:20260424T080811
CREATED:20231219T013330Z
LAST-MODIFIED:20231220T002929Z
UID:81175-1725535800-1725543000@mvblfeast.com
SUMMARY:Pacific Shores
DESCRIPTION:
URL:https://mvblfeast.com/event/pacific-shores-2-2024-01-11/2024-09-05/
LOCATION:Pacific Shores\, 1100 Seaport Blvd\, Redwood City\, CA\, 94063\, United States
END:VEVENT
BEGIN:VEVENT
DTSTART;TZID=America/Los_Angeles:20240903T113000
DTEND;TZID=America/Los_Angeles:20240903T133000
DTSTAMP:20260424T080811
CREATED:20231219T013330Z
LAST-MODIFIED:20231220T002929Z
UID:81174-1725363000-1725370200@mvblfeast.com
SUMMARY:Pacific Shores
DESCRIPTION:
URL:https://mvblfeast.com/event/pacific-shores-2-2024-01-11/2024-09-03/
LOCATION:Pacific Shores\, 1100 Seaport Blvd\, Redwood City\, CA\, 94063\, United States
END:VEVENT
BEGIN:VEVENT
DTSTART;TZID=America/Los_Angeles:20240829T113000
DTEND;TZID=America/Los_Angeles:20240829T133000
DTSTAMP:20260424T080811
CREATED:20231219T013330Z
LAST-MODIFIED:20231220T002929Z
UID:81173-1724931000-1724938200@mvblfeast.com
SUMMARY:Pacific Shores
DESCRIPTION:
URL:https://mvblfeast.com/event/pacific-shores-2-2024-01-11/2024-08-29/
LOCATION:Pacific Shores\, 1100 Seaport Blvd\, Redwood City\, CA\, 94063\, United States
END:VEVENT
BEGIN:VEVENT
DTSTART;TZID=America/Los_Angeles:20240827T113000
DTEND;TZID=America/Los_Angeles:20240827T133000
DTSTAMP:20260424T080811
CREATED:20231219T013330Z
LAST-MODIFIED:20231220T002929Z
UID:81172-1724758200-1724765400@mvblfeast.com
SUMMARY:Pacific Shores
DESCRIPTION:
URL:https://mvblfeast.com/event/pacific-shores-2-2024-01-11/2024-08-27/
LOCATION:Pacific Shores\, 1100 Seaport Blvd\, Redwood City\, CA\, 94063\, United States
END:VEVENT
BEGIN:VEVENT
DTSTART;TZID=America/Los_Angeles:20240822T113000
DTEND;TZID=America/Los_Angeles:20240822T133000
DTSTAMP:20260424T080811
CREATED:20231219T013330Z
LAST-MODIFIED:20231220T002928Z
UID:81171-1724326200-1724333400@mvblfeast.com
SUMMARY:Pacific Shores
DESCRIPTION:
URL:https://mvblfeast.com/event/pacific-shores-2-2024-01-11/2024-08-22/
LOCATION:Pacific Shores\, 1100 Seaport Blvd\, Redwood City\, CA\, 94063\, United States
END:VEVENT
BEGIN:VEVENT
DTSTART;TZID=America/Los_Angeles:20240820T113000
DTEND;TZID=America/Los_Angeles:20240820T133000
DTSTAMP:20260424T080811
CREATED:20231219T013330Z
LAST-MODIFIED:20231220T002928Z
UID:81170-1724153400-1724160600@mvblfeast.com
SUMMARY:Pacific Shores
DESCRIPTION:
URL:https://mvblfeast.com/event/pacific-shores-2-2024-01-11/2024-08-20/
LOCATION:Pacific Shores\, 1100 Seaport Blvd\, Redwood City\, CA\, 94063\, United States
END:VEVENT
BEGIN:VEVENT
DTSTART;TZID=America/Los_Angeles:20240815T113000
DTEND;TZID=America/Los_Angeles:20240815T133000
DTSTAMP:20260424T080811
CREATED:20231219T013330Z
LAST-MODIFIED:20231220T002928Z
UID:81169-1723721400-1723728600@mvblfeast.com
SUMMARY:Pacific Shores
DESCRIPTION:
URL:https://mvblfeast.com/event/pacific-shores-2-2024-01-11/2024-08-15/
LOCATION:Pacific Shores\, 1100 Seaport Blvd\, Redwood City\, CA\, 94063\, United States
END:VEVENT
BEGIN:VEVENT
DTSTART;TZID=America/Los_Angeles:20240813T113000
DTEND;TZID=America/Los_Angeles:20240813T133000
DTSTAMP:20260424T080811
CREATED:20231219T013330Z
LAST-MODIFIED:20231220T002928Z
UID:81168-1723548600-1723555800@mvblfeast.com
SUMMARY:Pacific Shores
DESCRIPTION:
URL:https://mvblfeast.com/event/pacific-shores-2-2024-01-11/2024-08-13/
LOCATION:Pacific Shores\, 1100 Seaport Blvd\, Redwood City\, CA\, 94063\, United States
END:VEVENT
BEGIN:VEVENT
DTSTART;TZID=America/Los_Angeles:20240808T113000
DTEND;TZID=America/Los_Angeles:20240808T133000
DTSTAMP:20260424T080811
CREATED:20231219T013330Z
LAST-MODIFIED:20231220T002928Z
UID:81167-1723116600-1723123800@mvblfeast.com
SUMMARY:Pacific Shores
DESCRIPTION:
URL:https://mvblfeast.com/event/pacific-shores-2-2024-01-11/2024-08-08/
LOCATION:Pacific Shores\, 1100 Seaport Blvd\, Redwood City\, CA\, 94063\, United States
END:VEVENT
END:VCALENDAR