BEGIN:VCALENDAR
VERSION:2.0
PRODID:-//Moveable Feast - ECPv6.15.13//NONSGML v1.0//EN
CALSCALE:GREGORIAN
METHOD:PUBLISH
X-ORIGINAL-URL:https://mvblfeast.com
X-WR-CALDESC:Events for Moveable Feast
REFRESH-INTERVAL;VALUE=DURATION:PT1H
X-Robots-Tag:noindex
X-PUBLISHED-TTL:PT1H
BEGIN:VTIMEZONE
TZID:America/Los_Angeles
BEGIN:DAYLIGHT
TZOFFSETFROM:-0800
TZOFFSETTO:-0700
TZNAME:PDT
DTSTART:20240310T100000
END:DAYLIGHT
BEGIN:STANDARD
TZOFFSETFROM:-0700
TZOFFSETTO:-0800
TZNAME:PST
DTSTART:20241103T090000
END:STANDARD
BEGIN:DAYLIGHT
TZOFFSETFROM:-0800
TZOFFSETTO:-0700
TZNAME:PDT
DTSTART:20250309T100000
END:DAYLIGHT
BEGIN:STANDARD
TZOFFSETFROM:-0700
TZOFFSETTO:-0800
TZNAME:PST
DTSTART:20251102T090000
END:STANDARD
BEGIN:DAYLIGHT
TZOFFSETFROM:-0800
TZOFFSETTO:-0700
TZNAME:PDT
DTSTART:20260308T100000
END:DAYLIGHT
BEGIN:STANDARD
TZOFFSETFROM:-0700
TZOFFSETTO:-0800
TZNAME:PST
DTSTART:20261101T090000
END:STANDARD
END:VTIMEZONE
BEGIN:VEVENT
DTSTART;TZID=America/Los_Angeles:20250820T120000
DTEND;TZID=America/Los_Angeles:20250820T140000
DTSTAMP:20260423T144757
CREATED:20250801T001917Z
LAST-MODIFIED:20250801T001917Z
UID:83530-1755691200-1755698400@mvblfeast.com
SUMMARY:Cellanome POD
DESCRIPTION:Tacos el Cowboy
URL:https://mvblfeast.com/event/cellanome-pod/
LOCATION:Cellanome POD\, 500 Lincoln Centre Dr\, Foster City\, CA\, 94404\, United States
END:VEVENT
BEGIN:VEVENT
DTSTART;TZID=America/Los_Angeles:20250716T120000
DTEND;TZID=America/Los_Angeles:20250716T140000
DTSTAMP:20260423T144757
CREATED:20250701T225756Z
LAST-MODIFIED:20250701T225756Z
UID:83327-1752667200-1752674400@mvblfeast.com
SUMMARY:Cellanome POD
DESCRIPTION:Chick N’ Bros
URL:https://mvblfeast.com/event/cellanome/
LOCATION:Cellanome POD\, 500 Lincoln Centre Dr\, Foster City\, CA\, 94404\, United States
END:VEVENT
END:VCALENDAR