BEGIN:VCALENDAR
VERSION:2.0
PRODID:-//Moveable Feast - ECPv6.15.13//NONSGML v1.0//EN
CALSCALE:GREGORIAN
METHOD:PUBLISH
X-ORIGINAL-URL:https://mvblfeast.com
X-WR-CALDESC:Events for Moveable Feast
REFRESH-INTERVAL;VALUE=DURATION:PT1H
X-Robots-Tag:noindex
X-PUBLISHED-TTL:PT1H
BEGIN:VTIMEZONE
TZID:America/Los_Angeles
BEGIN:DAYLIGHT
TZOFFSETFROM:-0800
TZOFFSETTO:-0700
TZNAME:PDT
DTSTART:20240310T100000
END:DAYLIGHT
BEGIN:STANDARD
TZOFFSETFROM:-0700
TZOFFSETTO:-0800
TZNAME:PST
DTSTART:20241103T090000
END:STANDARD
BEGIN:DAYLIGHT
TZOFFSETFROM:-0800
TZOFFSETTO:-0700
TZNAME:PDT
DTSTART:20250309T100000
END:DAYLIGHT
BEGIN:STANDARD
TZOFFSETFROM:-0700
TZOFFSETTO:-0800
TZNAME:PST
DTSTART:20251102T090000
END:STANDARD
BEGIN:DAYLIGHT
TZOFFSETFROM:-0800
TZOFFSETTO:-0700
TZNAME:PDT
DTSTART:20260308T100000
END:DAYLIGHT
BEGIN:STANDARD
TZOFFSETFROM:-0700
TZOFFSETTO:-0800
TZNAME:PST
DTSTART:20261101T090000
END:STANDARD
END:VTIMEZONE
BEGIN:VEVENT
DTSTART;TZID=America/Los_Angeles:20251104T113000
DTEND;TZID=America/Los_Angeles:20251104T133000
DTSTAMP:20260423T183739
CREATED:20251022T231034Z
LAST-MODIFIED:20251022T231034Z
UID:83691-1762255800-1762263000@mvblfeast.com
SUMMARY:Pacific Shores
DESCRIPTION:Curveball
URL:https://mvblfeast.com/event/pacific-shores-71/
LOCATION:Pacific Shores\, 1100 Seaport Blvd\, Redwood City\, CA\, 94063\, United States
END:VEVENT
BEGIN:VEVENT
DTSTART;TZID=America/Los_Angeles:20251106T113000
DTEND;TZID=America/Los_Angeles:20251106T133000
DTSTAMP:20260423T183739
CREATED:20251022T231051Z
LAST-MODIFIED:20251022T231051Z
UID:83692-1762428600-1762435800@mvblfeast.com
SUMMARY:Pacific Shores
DESCRIPTION:Akita Sushi
URL:https://mvblfeast.com/event/pacific-shores-72/
LOCATION:Pacific Shores\, 1100 Seaport Blvd\, Redwood City\, CA\, 94063\, United States
END:VEVENT
BEGIN:VEVENT
DTSTART;TZID=America/Los_Angeles:20251106T113000
DTEND;TZID=America/Los_Angeles:20251106T133000
DTSTAMP:20260423T183739
CREATED:20251022T231516Z
LAST-MODIFIED:20251022T231516Z
UID:83706-1762428600-1762435800@mvblfeast.com
SUMMARY:Parkside Towers
DESCRIPTION:Picnic Basket
URL:https://mvblfeast.com/event/parkside-towers-33/
LOCATION:Parkside Towers\, 1031 E Hillsdale Blvd\, Foster City\, CA\, 94404\, United States
END:VEVENT
BEGIN:VEVENT
DTSTART;TZID=America/Los_Angeles:20251111T113000
DTEND;TZID=America/Los_Angeles:20251111T133000
DTSTAMP:20260423T183739
CREATED:20251022T231106Z
LAST-MODIFIED:20251022T231106Z
UID:83693-1762860600-1762867800@mvblfeast.com
SUMMARY:Pacific Shores
DESCRIPTION:Picnic Basket
URL:https://mvblfeast.com/event/pacific-shores-73/
LOCATION:Pacific Shores\, 1100 Seaport Blvd\, Redwood City\, CA\, 94063\, United States
END:VEVENT
BEGIN:VEVENT
DTSTART;TZID=America/Los_Angeles:20251113T113000
DTEND;TZID=America/Los_Angeles:20251113T133000
DTSTAMP:20260423T183739
CREATED:20251022T231129Z
LAST-MODIFIED:20251022T231129Z
UID:83694-1763033400-1763040600@mvblfeast.com
SUMMARY:Pacific Shores
DESCRIPTION:Rincon del Cielo
URL:https://mvblfeast.com/event/pacific-shores-74/
LOCATION:Pacific Shores\, 1100 Seaport Blvd\, Redwood City\, CA\, 94063\, United States
END:VEVENT
BEGIN:VEVENT
DTSTART;TZID=America/Los_Angeles:20251113T113000
DTEND;TZID=America/Los_Angeles:20251113T133000
DTSTAMP:20260423T183739
CREATED:20251022T231531Z
LAST-MODIFIED:20251022T231531Z
UID:83707-1763033400-1763040600@mvblfeast.com
SUMMARY:Parkside Towers
DESCRIPTION:Chick N’ Bros
URL:https://mvblfeast.com/event/parkside-towers-34/
LOCATION:Parkside Towers\, 1031 E Hillsdale Blvd\, Foster City\, CA\, 94404\, United States
END:VEVENT
BEGIN:VEVENT
DTSTART;TZID=America/Los_Angeles:20251118T113000
DTEND;TZID=America/Los_Angeles:20251118T133000
DTSTAMP:20260423T183739
CREATED:20251022T231145Z
LAST-MODIFIED:20251022T231145Z
UID:83695-1763465400-1763472600@mvblfeast.com
SUMMARY:Pacific Shores
DESCRIPTION:Yakitori Harue
URL:https://mvblfeast.com/event/pacific-shores-75/
LOCATION:Pacific Shores\, 1100 Seaport Blvd\, Redwood City\, CA\, 94063\, United States
END:VEVENT
BEGIN:VEVENT
DTSTART;TZID=America/Los_Angeles:20251120T113000
DTEND;TZID=America/Los_Angeles:20251120T133000
DTSTAMP:20260423T183739
CREATED:20251022T231245Z
LAST-MODIFIED:20251022T231245Z
UID:83696-1763638200-1763645400@mvblfeast.com
SUMMARY:Pacific Shores
DESCRIPTION:El Paisa by Los Alegres
URL:https://mvblfeast.com/event/pacific-shores-76/
LOCATION:Pacific Shores\, 1100 Seaport Blvd\, Redwood City\, CA\, 94063\, United States
END:VEVENT
BEGIN:VEVENT
DTSTART;TZID=America/Los_Angeles:20251120T113000
DTEND;TZID=America/Los_Angeles:20251120T133000
DTSTAMP:20260423T183739
CREATED:20251022T231546Z
LAST-MODIFIED:20251022T231546Z
UID:83708-1763638200-1763645400@mvblfeast.com
SUMMARY:Parkside Towers
DESCRIPTION:Akita Sushi
URL:https://mvblfeast.com/event/parkside-towers-35/
LOCATION:Parkside Towers\, 1031 E Hillsdale Blvd\, Foster City\, CA\, 94404\, United States
END:VEVENT
BEGIN:VEVENT
DTSTART;VALUE=DATE:20251124
DTEND;VALUE=DATE:20251129
DTSTAMP:20260423T183739
CREATED:20251022T232750Z
LAST-MODIFIED:20251022T232750Z
UID:83727-1763942400-1764374399@mvblfeast.com
SUMMARY:No Service
DESCRIPTION:
URL:https://mvblfeast.com/event/no-service/
LOCATION:CA
END:VEVENT
END:VCALENDAR