BEGIN:VCALENDAR
VERSION:2.0
PRODID:-//Moveable Feast - ECPv6.15.13//NONSGML v1.0//EN
CALSCALE:GREGORIAN
METHOD:PUBLISH
X-ORIGINAL-URL:https://mvblfeast.com
X-WR-CALDESC:Events for Moveable Feast
REFRESH-INTERVAL;VALUE=DURATION:PT1H
X-Robots-Tag:noindex
X-PUBLISHED-TTL:PT1H
BEGIN:VTIMEZONE
TZID:America/Los_Angeles
BEGIN:DAYLIGHT
TZOFFSETFROM:-0800
TZOFFSETTO:-0700
TZNAME:PDT
DTSTART:20220313T100000
END:DAYLIGHT
BEGIN:STANDARD
TZOFFSETFROM:-0700
TZOFFSETTO:-0800
TZNAME:PST
DTSTART:20221106T090000
END:STANDARD
BEGIN:DAYLIGHT
TZOFFSETFROM:-0800
TZOFFSETTO:-0700
TZNAME:PDT
DTSTART:20230312T100000
END:DAYLIGHT
BEGIN:STANDARD
TZOFFSETFROM:-0700
TZOFFSETTO:-0800
TZNAME:PST
DTSTART:20231105T090000
END:STANDARD
BEGIN:DAYLIGHT
TZOFFSETFROM:-0800
TZOFFSETTO:-0700
TZNAME:PDT
DTSTART:20240310T100000
END:DAYLIGHT
BEGIN:STANDARD
TZOFFSETFROM:-0700
TZOFFSETTO:-0800
TZNAME:PST
DTSTART:20241103T090000
END:STANDARD
END:VTIMEZONE
BEGIN:VEVENT
DTSTART;TZID=America/Los_Angeles:20231205T113000
DTEND;TZID=America/Los_Angeles:20231205T130000
DTSTAMP:20260425T075413
CREATED:20230131T222540Z
LAST-MODIFIED:20231128T192231Z
UID:77791-1701775800-1701781200@mvblfeast.com
SUMMARY:Pacific Shores
DESCRIPTION:Lilo’s Kitchen
URL:https://mvblfeast.com/event/pacific-shores-2023-12-05/
LOCATION:Pacific Shores\, 1100 Seaport Blvd\, Redwood City\, CA\, 94063\, United States
END:VEVENT
BEGIN:VEVENT
DTSTART;TZID=America/Los_Angeles:20231205T113000
DTEND;TZID=America/Los_Angeles:20231205T133000
DTSTAMP:20260425T075413
CREATED:20231128T192704Z
LAST-MODIFIED:20231128T192758Z
UID:80978-1701775800-1701783000@mvblfeast.com
SUMMARY:Parkside Towers
DESCRIPTION:Rincon del Cielo
URL:https://mvblfeast.com/event/parkside-towers-14/
LOCATION:Parkside Towers\, 1031 E Hillsdale Blvd\, Foster City\, CA\, 94404\, United States
END:VEVENT
BEGIN:VEVENT
DTSTART;TZID=America/Los_Angeles:20231206T100000
DTEND;TZID=America/Los_Angeles:20231206T140000
DTSTAMP:20260425T075413
CREATED:20231026T011457Z
LAST-MODIFIED:20231128T192523Z
UID:80961-1701856800-1701871200@mvblfeast.com
SUMMARY:SCU Pod
DESCRIPTION:Oaxacan Kitchen
URL:https://mvblfeast.com/event/scu-pod-3-2023-12-06/
LOCATION:Santa Clara University\, 500 El Camino Real\, Santa Clara\, CA\, 95050\, United States
END:VEVENT
BEGIN:VEVENT
DTSTART;TZID=America/Los_Angeles:20231207T113000
DTEND;TZID=America/Los_Angeles:20231207T130000
DTSTAMP:20260425T075413
CREATED:20230131T222540Z
LAST-MODIFIED:20231128T192251Z
UID:77792-1701948600-1701954000@mvblfeast.com
SUMMARY:Pacific Shores
DESCRIPTION:Curveball
URL:https://mvblfeast.com/event/pacific-shores-2023-12-07/
LOCATION:Pacific Shores\, 1100 Seaport Blvd\, Redwood City\, CA\, 94063\, United States
END:VEVENT
BEGIN:VEVENT
DTSTART;TZID=America/Los_Angeles:20231207T113000
DTEND;TZID=America/Los_Angeles:20231207T133000
DTSTAMP:20260425T075413
CREATED:20231128T193010Z
LAST-MODIFIED:20231128T193131Z
UID:80987-1701948600-1701955800@mvblfeast.com
SUMMARY:Quad POD
DESCRIPTION:Waffle Amore
URL:https://mvblfeast.com/event/quad-pod-8/
LOCATION:Quad POD\, 3005 Tasman Dr\, Santa Clara\, CA\, 95054\, United States
END:VEVENT
BEGIN:VEVENT
DTSTART;TZID=America/Los_Angeles:20231212T113000
DTEND;TZID=America/Los_Angeles:20231212T130000
DTSTAMP:20260425T075413
CREATED:20230131T222540Z
LAST-MODIFIED:20231128T192312Z
UID:77793-1702380600-1702386000@mvblfeast.com
SUMMARY:Pacific Shores
DESCRIPTION:Waffle Roost
URL:https://mvblfeast.com/event/pacific-shores-2023-12-12/
LOCATION:Pacific Shores\, 1100 Seaport Blvd\, Redwood City\, CA\, 94063\, United States
END:VEVENT
BEGIN:VEVENT
DTSTART;TZID=America/Los_Angeles:20231212T113000
DTEND;TZID=America/Los_Angeles:20231212T133000
DTSTAMP:20260425T075413
CREATED:20231128T192704Z
LAST-MODIFIED:20231128T192816Z
UID:80979-1702380600-1702387800@mvblfeast.com
SUMMARY:Parkside Towers
DESCRIPTION:Akita Sushi
URL:https://mvblfeast.com/event/parkside-towers-14-2023-12-12/
LOCATION:Parkside Towers\, 1031 E Hillsdale Blvd\, Foster City\, CA\, 94404\, United States
END:VEVENT
BEGIN:VEVENT
DTSTART;TZID=America/Los_Angeles:20231214T113000
DTEND;TZID=America/Los_Angeles:20231214T130000
DTSTAMP:20260425T075413
CREATED:20230131T222540Z
LAST-MODIFIED:20231128T192400Z
UID:77794-1702553400-1702558800@mvblfeast.com
SUMMARY:Pacific Shores
DESCRIPTION:I Love Cheesesteak
URL:https://mvblfeast.com/event/pacific-shores-2023-12-14/
LOCATION:Pacific Shores\, 1100 Seaport Blvd\, Redwood City\, CA\, 94063\, United States
END:VEVENT
BEGIN:VEVENT
DTSTART;TZID=America/Los_Angeles:20231214T113000
DTEND;TZID=America/Los_Angeles:20231214T133000
DTSTAMP:20260425T075413
CREATED:20231128T193010Z
LAST-MODIFIED:20231128T193144Z
UID:80988-1702553400-1702560600@mvblfeast.com
SUMMARY:Quad POD
DESCRIPTION:Akita Sushi
URL:https://mvblfeast.com/event/quad-pod-8-2023-12-14/
LOCATION:Quad POD\, 3005 Tasman Dr\, Santa Clara\, CA\, 95054\, United States
END:VEVENT
BEGIN:VEVENT
DTSTART;TZID=America/Los_Angeles:20231219T113000
DTEND;TZID=America/Los_Angeles:20231219T130000
DTSTAMP:20260425T075413
CREATED:20230131T222540Z
LAST-MODIFIED:20231128T192419Z
UID:77795-1702985400-1702990800@mvblfeast.com
SUMMARY:Pacific Shores
DESCRIPTION:Oaxacan Kitchen
URL:https://mvblfeast.com/event/pacific-shores-2023-12-19/
LOCATION:Pacific Shores\, 1100 Seaport Blvd\, Redwood City\, CA\, 94063\, United States
END:VEVENT
BEGIN:VEVENT
DTSTART;TZID=America/Los_Angeles:20231219T113000
DTEND;TZID=America/Los_Angeles:20231219T133000
DTSTAMP:20260425T075413
CREATED:20231128T192704Z
LAST-MODIFIED:20231128T192833Z
UID:80980-1702985400-1702992600@mvblfeast.com
SUMMARY:Parkside Towers
DESCRIPTION:Grillman
URL:https://mvblfeast.com/event/parkside-towers-14-2023-12-19/
LOCATION:Parkside Towers\, 1031 E Hillsdale Blvd\, Foster City\, CA\, 94404\, United States
END:VEVENT
END:VCALENDAR