BEGIN:VCALENDAR
VERSION:2.0
PRODID:-//Moveable Feast - ECPv6.15.13//NONSGML v1.0//EN
CALSCALE:GREGORIAN
METHOD:PUBLISH
X-ORIGINAL-URL:https://mvblfeast.com
X-WR-CALDESC:Events for Moveable Feast
REFRESH-INTERVAL;VALUE=DURATION:PT1H
X-Robots-Tag:noindex
X-PUBLISHED-TTL:PT1H
BEGIN:VTIMEZONE
TZID:America/Los_Angeles
BEGIN:DAYLIGHT
TZOFFSETFROM:-0800
TZOFFSETTO:-0700
TZNAME:PDT
DTSTART:20220313T100000
END:DAYLIGHT
BEGIN:STANDARD
TZOFFSETFROM:-0700
TZOFFSETTO:-0800
TZNAME:PST
DTSTART:20221106T090000
END:STANDARD
BEGIN:DAYLIGHT
TZOFFSETFROM:-0800
TZOFFSETTO:-0700
TZNAME:PDT
DTSTART:20230312T100000
END:DAYLIGHT
BEGIN:STANDARD
TZOFFSETFROM:-0700
TZOFFSETTO:-0800
TZNAME:PST
DTSTART:20231105T090000
END:STANDARD
BEGIN:DAYLIGHT
TZOFFSETFROM:-0800
TZOFFSETTO:-0700
TZNAME:PDT
DTSTART:20240310T100000
END:DAYLIGHT
BEGIN:STANDARD
TZOFFSETFROM:-0700
TZOFFSETTO:-0800
TZNAME:PST
DTSTART:20241103T090000
END:STANDARD
END:VTIMEZONE
BEGIN:VEVENT
DTSTART;TZID=America/Los_Angeles:20231101T100000
DTEND;TZID=America/Los_Angeles:20231101T140000
DTSTAMP:20260425T092800
CREATED:20231026T011457Z
LAST-MODIFIED:20231026T011559Z
UID:80955-1698832800-1698847200@mvblfeast.com
SUMMARY:SCU Pod
DESCRIPTION:Oaxacan Kitchen
URL:https://mvblfeast.com/event/scu-pod-3/
LOCATION:Santa Clara University\, 500 El Camino Real\, Santa Clara\, CA\, 95050\, United States
END:VEVENT
BEGIN:VEVENT
DTSTART;TZID=America/Los_Angeles:20231102T113000
DTEND;TZID=America/Los_Angeles:20231102T130000
DTSTAMP:20260425T092800
CREATED:20230131T222540Z
LAST-MODIFIED:20231026T010025Z
UID:77782-1698924600-1698930000@mvblfeast.com
SUMMARY:Pacific Shores
DESCRIPTION:Golden Gate Gyro
URL:https://mvblfeast.com/event/pacific-shores-2023-11-02/
LOCATION:Pacific Shores\, 1100 Seaport Blvd\, Redwood City\, CA\, 94063\, United States
END:VEVENT
BEGIN:VEVENT
DTSTART;TZID=America/Los_Angeles:20231102T113000
DTEND;TZID=America/Los_Angeles:20231102T133000
DTSTAMP:20260425T092800
CREATED:20231010T004134Z
LAST-MODIFIED:20231026T010517Z
UID:80901-1698924600-1698931800@mvblfeast.com
SUMMARY:Quad Pod
DESCRIPTION:Old Greenwood BBQ
URL:https://mvblfeast.com/event/quad-pod-5-2023-11-02-2/
LOCATION:Quad POD\, 3005 Tasman Dr\, Santa Clara\, CA\, 95054\, United States
END:VEVENT
BEGIN:VEVENT
DTSTART;TZID=America/Los_Angeles:20231107T113000
DTEND;TZID=America/Los_Angeles:20231107T130000
DTSTAMP:20260425T092800
CREATED:20230131T222540Z
LAST-MODIFIED:20231026T010030Z
UID:77783-1699356600-1699362000@mvblfeast.com
SUMMARY:Pacific Shores
DESCRIPTION:Fresh Catch Poke
URL:https://mvblfeast.com/event/pacific-shores-2023-11-07/
LOCATION:Pacific Shores\, 1100 Seaport Blvd\, Redwood City\, CA\, 94063\, United States
END:VEVENT
BEGIN:VEVENT
DTSTART;TZID=America/Los_Angeles:20231107T113000
DTEND;TZID=America/Los_Angeles:20231107T133000
DTSTAMP:20260425T092800
CREATED:20231010T003755Z
LAST-MODIFIED:20231026T010328Z
UID:80866-1699356600-1699363800@mvblfeast.com
SUMMARY:Parkside Towers
DESCRIPTION:Mr. Rice Kebab
URL:https://mvblfeast.com/event/parkside-towers-13-2023-11-07/
LOCATION:Parkside Towers\, 1031 E Hillsdale Blvd\, Foster City\, CA\, 94404\, United States
END:VEVENT
BEGIN:VEVENT
DTSTART;TZID=America/Los_Angeles:20231108T100000
DTEND;TZID=America/Los_Angeles:20231108T140000
DTSTAMP:20260425T092800
CREATED:20231026T011457Z
LAST-MODIFIED:20231026T011608Z
UID:80957-1699437600-1699452000@mvblfeast.com
SUMMARY:SCU Pod
DESCRIPTION:Fire & Rice
URL:https://mvblfeast.com/event/scu-pod-3-2023-11-08/
LOCATION:Santa Clara University\, 500 El Camino Real\, Santa Clara\, CA\, 95050\, United States
END:VEVENT
BEGIN:VEVENT
DTSTART;TZID=America/Los_Angeles:20231109T113000
DTEND;TZID=America/Los_Angeles:20231109T130000
DTSTAMP:20260425T092800
CREATED:20230131T222540Z
LAST-MODIFIED:20231026T010046Z
UID:77784-1699529400-1699534800@mvblfeast.com
SUMMARY:Pacific Shores
DESCRIPTION:Old Greenwood BBQ
URL:https://mvblfeast.com/event/pacific-shores-2023-11-09/
LOCATION:Pacific Shores\, 1100 Seaport Blvd\, Redwood City\, CA\, 94063\, United States
END:VEVENT
BEGIN:VEVENT
DTSTART;TZID=America/Los_Angeles:20231109T113000
DTEND;TZID=America/Los_Angeles:20231109T133000
DTSTAMP:20260425T092800
CREATED:20231010T004134Z
LAST-MODIFIED:20231026T010605Z
UID:80887-1699529400-1699536600@mvblfeast.com
SUMMARY:Quad Pod
DESCRIPTION:Fire & Rice
URL:https://mvblfeast.com/event/quad-pod-5-2023-11-09/
LOCATION:Quad POD\, 3005 Tasman Dr\, Santa Clara\, CA\, 95054\, United States
END:VEVENT
BEGIN:VEVENT
DTSTART;TZID=America/Los_Angeles:20231114T113000
DTEND;TZID=America/Los_Angeles:20231114T130000
DTSTAMP:20260425T092800
CREATED:20230131T222540Z
LAST-MODIFIED:20231026T010104Z
UID:77785-1699961400-1699966800@mvblfeast.com
SUMMARY:Pacific Shores
DESCRIPTION:Cielito Lindo
URL:https://mvblfeast.com/event/pacific-shores-2023-11-14/
LOCATION:Pacific Shores\, 1100 Seaport Blvd\, Redwood City\, CA\, 94063\, United States
END:VEVENT
BEGIN:VEVENT
DTSTART;TZID=America/Los_Angeles:20231114T113000
DTEND;TZID=America/Los_Angeles:20231114T133000
DTSTAMP:20260425T092800
CREATED:20231010T003755Z
LAST-MODIFIED:20231026T010339Z
UID:80867-1699961400-1699968600@mvblfeast.com
SUMMARY:Parkside Towers
DESCRIPTION:Hongry Kong
URL:https://mvblfeast.com/event/parkside-towers-13-2023-11-14/
LOCATION:Parkside Towers\, 1031 E Hillsdale Blvd\, Foster City\, CA\, 94404\, United States
END:VEVENT
BEGIN:VEVENT
DTSTART;TZID=America/Los_Angeles:20231115T100000
DTEND;TZID=America/Los_Angeles:20231115T140000
DTSTAMP:20260425T092800
CREATED:20231026T011457Z
LAST-MODIFIED:20231026T011627Z
UID:80958-1700042400-1700056800@mvblfeast.com
SUMMARY:SCU Pod
DESCRIPTION:I Love Cheesesteak
URL:https://mvblfeast.com/event/scu-pod-3-2023-11-15/
LOCATION:Santa Clara University\, 500 El Camino Real\, Santa Clara\, CA\, 95050\, United States
END:VEVENT
BEGIN:VEVENT
DTSTART;TZID=America/Los_Angeles:20231115T113000
DTEND;TZID=America/Los_Angeles:20231115T133000
DTSTAMP:20260425T092800
CREATED:20230131T235959Z
LAST-MODIFIED:20231026T011152Z
UID:77923-1700047800-1700055000@mvblfeast.com
SUMMARY:Redwood Shores
DESCRIPTION:Akita Sushi
URL:https://mvblfeast.com/event/redwood-shores-2023-11-15/
LOCATION:Redwood Shores\, 1300 Island Drive\, Redwood City\, CA\, 94065\, United States
CATEGORIES:Pop Ups
END:VEVENT
BEGIN:VEVENT
DTSTART;TZID=America/Los_Angeles:20231115T113000
DTEND;TZID=America/Los_Angeles:20231115T133000
DTSTAMP:20260425T092800
CREATED:20231026T011245Z
LAST-MODIFIED:20231026T011302Z
UID:80953-1700047800-1700055000@mvblfeast.com
SUMMARY:PAL Pod
DESCRIPTION:Rincon del Cielo
URL:https://mvblfeast.com/event/pal-pod-6/
LOCATION:PAL Pod\, 1800 Embarcadero Rd\, Palo Alto\, CA\, 94303\, United States
END:VEVENT
BEGIN:VEVENT
DTSTART;TZID=America/Los_Angeles:20231116T113000
DTEND;TZID=America/Los_Angeles:20231116T130000
DTSTAMP:20260425T092800
CREATED:20230131T222540Z
LAST-MODIFIED:20231026T010120Z
UID:77786-1700134200-1700139600@mvblfeast.com
SUMMARY:Pacific Shores
DESCRIPTION:Mr. Andrew’s Catering
URL:https://mvblfeast.com/event/pacific-shores-2023-11-16/
LOCATION:Pacific Shores\, 1100 Seaport Blvd\, Redwood City\, CA\, 94063\, United States
END:VEVENT
BEGIN:VEVENT
DTSTART;TZID=America/Los_Angeles:20231116T113000
DTEND;TZID=America/Los_Angeles:20231116T133000
DTSTAMP:20260425T092800
CREATED:20231026T010645Z
LAST-MODIFIED:20231026T010645Z
UID:80942-1700134200-1700141400@mvblfeast.com
SUMMARY:Quad Pod
DESCRIPTION:I Love Cheesesteak
URL:https://mvblfeast.com/event/quad-pod-6/
LOCATION:Quad POD\, 3005 Tasman Dr\, Santa Clara\, CA\, 95054\, United States
END:VEVENT
BEGIN:VEVENT
DTSTART;TZID=America/Los_Angeles:20231121T113000
DTEND;TZID=America/Los_Angeles:20231121T130000
DTSTAMP:20260425T092800
CREATED:20230131T222540Z
LAST-MODIFIED:20231026T005934Z
UID:77787-1700566200-1700571600@mvblfeast.com
SUMMARY:Pacific Shores
DESCRIPTION:
URL:https://mvblfeast.com/event/pacific-shores-2023-11-21/
LOCATION:Pacific Shores\, 1100 Seaport Blvd\, Redwood City\, CA\, 94063\, United States
END:VEVENT
BEGIN:VEVENT
DTSTART;TZID=America/Los_Angeles:20231121T113000
DTEND;TZID=America/Los_Angeles:20231121T133000
DTSTAMP:20260425T092800
CREATED:20231010T003755Z
LAST-MODIFIED:20231026T010349Z
UID:80868-1700566200-1700573400@mvblfeast.com
SUMMARY:Parkside Towers
DESCRIPTION:Fresh Catch Poke
URL:https://mvblfeast.com/event/parkside-towers-13-2023-11-21/
LOCATION:Parkside Towers\, 1031 E Hillsdale Blvd\, Foster City\, CA\, 94404\, United States
END:VEVENT
BEGIN:VEVENT
DTSTART;VALUE=DATE:20231123
DTEND;VALUE=DATE:20231124
DTSTAMP:20260425T092800
CREATED:20231026T011108Z
LAST-MODIFIED:20231026T011108Z
UID:80949-1700697600-1700783999@mvblfeast.com
SUMMARY:Thanksgiving Day
DESCRIPTION:
URL:https://mvblfeast.com/event/thanksgiving-day/
LOCATION:CA
END:VEVENT
BEGIN:VEVENT
DTSTART;TZID=America/Los_Angeles:20231128T113000
DTEND;TZID=America/Los_Angeles:20231128T130000
DTSTAMP:20260425T092800
CREATED:20230131T222540Z
LAST-MODIFIED:20231026T010217Z
UID:77789-1701171000-1701176400@mvblfeast.com
SUMMARY:Pacific Shores
DESCRIPTION:Mr. Rice Kebab
URL:https://mvblfeast.com/event/pacific-shores-2023-11-28/
LOCATION:Pacific Shores\, 1100 Seaport Blvd\, Redwood City\, CA\, 94063\, United States
END:VEVENT
BEGIN:VEVENT
DTSTART;TZID=America/Los_Angeles:20231128T113000
DTEND;TZID=America/Los_Angeles:20231128T133000
DTSTAMP:20260425T092800
CREATED:20231010T003755Z
LAST-MODIFIED:20231026T010402Z
UID:80869-1701171000-1701178200@mvblfeast.com
SUMMARY:Parkside Towers
DESCRIPTION:Buri Buri
URL:https://mvblfeast.com/event/parkside-towers-13-2023-11-28/
LOCATION:Parkside Towers\, 1031 E Hillsdale Blvd\, Foster City\, CA\, 94404\, United States
END:VEVENT
BEGIN:VEVENT
DTSTART;TZID=America/Los_Angeles:20231129T100000
DTEND;TZID=America/Los_Angeles:20231129T140000
DTSTAMP:20260425T092800
CREATED:20231026T011457Z
LAST-MODIFIED:20231026T011655Z
UID:80960-1701252000-1701266400@mvblfeast.com
SUMMARY:SCU Pod
DESCRIPTION:Akita Sushi
URL:https://mvblfeast.com/event/scu-pod-3-2023-11-29/
LOCATION:Santa Clara University\, 500 El Camino Real\, Santa Clara\, CA\, 95050\, United States
END:VEVENT
BEGIN:VEVENT
DTSTART;TZID=America/Los_Angeles:20231130T113000
DTEND;TZID=America/Los_Angeles:20231130T130000
DTSTAMP:20260425T092800
CREATED:20230131T222540Z
LAST-MODIFIED:20231026T010228Z
UID:77790-1701343800-1701349200@mvblfeast.com
SUMMARY:Pacific Shores
DESCRIPTION:Twister/Rolling Duck
URL:https://mvblfeast.com/event/pacific-shores-2023-11-30/
LOCATION:Pacific Shores\, 1100 Seaport Blvd\, Redwood City\, CA\, 94063\, United States
END:VEVENT
BEGIN:VEVENT
DTSTART;TZID=America/Los_Angeles:20231130T113000
DTEND;TZID=America/Los_Angeles:20231130T133000
DTSTAMP:20260425T092800
CREATED:20231026T010739Z
LAST-MODIFIED:20231026T010739Z
UID:80945-1701343800-1701351000@mvblfeast.com
SUMMARY:Quad Pod
DESCRIPTION:Tlaxiaco’s Pizza
URL:https://mvblfeast.com/event/quad-pod-7/
LOCATION:Quad POD\, 3005 Tasman Dr\, Santa Clara\, CA\, 95054\, United States
END:VEVENT
END:VCALENDAR