BEGIN:VCALENDAR
VERSION:2.0
PRODID:-//Moveable Feast - ECPv6.15.13//NONSGML v1.0//EN
CALSCALE:GREGORIAN
METHOD:PUBLISH
X-WR-CALNAME:Moveable Feast
X-ORIGINAL-URL:https://mvblfeast.com
X-WR-CALDESC:Events for Moveable Feast
REFRESH-INTERVAL;VALUE=DURATION:PT1H
X-Robots-Tag:noindex
X-PUBLISHED-TTL:PT1H
BEGIN:VTIMEZONE
TZID:America/Los_Angeles
BEGIN:DAYLIGHT
TZOFFSETFROM:-0800
TZOFFSETTO:-0700
TZNAME:PDT
DTSTART:20220313T100000
END:DAYLIGHT
BEGIN:STANDARD
TZOFFSETFROM:-0700
TZOFFSETTO:-0800
TZNAME:PST
DTSTART:20221106T090000
END:STANDARD
BEGIN:DAYLIGHT
TZOFFSETFROM:-0800
TZOFFSETTO:-0700
TZNAME:PDT
DTSTART:20230312T100000
END:DAYLIGHT
BEGIN:STANDARD
TZOFFSETFROM:-0700
TZOFFSETTO:-0800
TZNAME:PST
DTSTART:20231105T090000
END:STANDARD
BEGIN:DAYLIGHT
TZOFFSETFROM:-0800
TZOFFSETTO:-0700
TZNAME:PDT
DTSTART:20240310T100000
END:DAYLIGHT
BEGIN:STANDARD
TZOFFSETFROM:-0700
TZOFFSETTO:-0800
TZNAME:PST
DTSTART:20241103T090000
END:STANDARD
END:VTIMEZONE
BEGIN:VEVENT
DTSTART;TZID=America/Los_Angeles:20230502T113000
DTEND;TZID=America/Los_Angeles:20230502T130000
DTSTAMP:20260425T190406
CREATED:20230131T222540Z
LAST-MODIFIED:20230420T222919Z
UID:77727-1683027000-1683032400@mvblfeast.com
SUMMARY:Pacific Shores
DESCRIPTION:BunBao
URL:https://mvblfeast.com/event/pacific-shores-2023-05-02/
LOCATION:Pacific Shores\, 1100 Seaport Blvd\, Redwood City\, CA\, 94063\, United States
END:VEVENT
BEGIN:VEVENT
DTSTART;TZID=America/Los_Angeles:20230503T113000
DTEND;TZID=America/Los_Angeles:20230503T133000
DTSTAMP:20260425T190406
CREATED:20230131T235959Z
LAST-MODIFIED:20230420T222951Z
UID:77895-1683113400-1683120600@mvblfeast.com
SUMMARY:Redwood Shores
DESCRIPTION:Waffle Roost
URL:https://mvblfeast.com/event/redwood-shores-2023-05-03/
LOCATION:Redwood Shores\, 1300 Island Drive\, Redwood City\, CA\, 94065\, United States
CATEGORIES:Pop Ups
END:VEVENT
BEGIN:VEVENT
DTSTART;TZID=America/Los_Angeles:20230504T113000
DTEND;TZID=America/Los_Angeles:20230504T130000
DTSTAMP:20260425T190406
CREATED:20230131T222540Z
LAST-MODIFIED:20230420T223404Z
UID:77728-1683199800-1683205200@mvblfeast.com
SUMMARY:Pacific Shores
DESCRIPTION:Grillzillas
URL:https://mvblfeast.com/event/pacific-shores-2023-05-04/
LOCATION:Pacific Shores\, 1100 Seaport Blvd\, Redwood City\, CA\, 94063\, United States
END:VEVENT
BEGIN:VEVENT
DTSTART;TZID=America/Los_Angeles:20230504T113000
DTEND;TZID=America/Los_Angeles:20230504T133000
DTSTAMP:20260425T190406
CREATED:20230131T235710Z
LAST-MODIFIED:20230420T223424Z
UID:77847-1683199800-1683207000@mvblfeast.com
SUMMARY:Quad Pod
DESCRIPTION:Old Greenwood BBQ
URL:https://mvblfeast.com/event/quad-pod-2023-05-04/
LOCATION:Quad POD\, 3005 Tasman Dr\, Santa Clara\, CA\, 95054\, United States
CATEGORIES:Pop Ups
END:VEVENT
BEGIN:VEVENT
DTSTART;TZID=America/Los_Angeles:20230504T170000
DTEND;TZID=America/Los_Angeles:20230504T210000
DTSTAMP:20260425T190406
CREATED:20230131T192825Z
LAST-MODIFIED:20230420T224504Z
UID:77491-1683219600-1683234000@mvblfeast.com
SUMMARY:Gordon Biersch Night Market
DESCRIPTION:Local Craft Beer\, Food Trucks\, Makers\, & Live Entertainment!
URL:https://mvblfeast.com/event/gordon-biersch-night-market/
LOCATION:Gordon Biersch Brewing (SJ Japantown)\, 357 E Taylor St.\, San Jose\, CA\, 95112\, United States
CATEGORIES:Markets
END:VEVENT
BEGIN:VEVENT
DTSTART;TZID=America/Los_Angeles:20230505T163000
DTEND;TZID=America/Los_Angeles:20230505T193000
DTSTAMP:20260425T190406
CREATED:20230201T001125Z
LAST-MODIFIED:20230420T223706Z
UID:77950-1683304200-1683315000@mvblfeast.com
SUMMARY:Revela Apartments Pop Up
DESCRIPTION:3 Hermanos Grill
URL:https://mvblfeast.com/event/revela-apartments-pop-up-2023-05-05/
LOCATION:CA
CATEGORIES:Pop Ups
END:VEVENT
BEGIN:VEVENT
DTSTART;TZID=America/Los_Angeles:20230509T113000
DTEND;TZID=America/Los_Angeles:20230509T130000
DTSTAMP:20260425T190406
CREATED:20230131T222540Z
LAST-MODIFIED:20230509T232456Z
UID:77730-1683631800-1683637200@mvblfeast.com
SUMMARY:Pacific Shores
DESCRIPTION:
URL:https://mvblfeast.com/event/pacific-shores-2023-05-09/
LOCATION:Pacific Shores\, 1100 Seaport Blvd\, Redwood City\, CA\, 94063\, United States
END:VEVENT
BEGIN:VEVENT
DTSTART;TZID=America/Los_Angeles:20230509T113000
DTEND;TZID=America/Los_Angeles:20230509T133000
DTSTAMP:20260425T190406
CREATED:20230503T005922Z
LAST-MODIFIED:20230509T233445Z
UID:79774-1683631800-1683639000@mvblfeast.com
SUMMARY:Parkside Towers
DESCRIPTION:Sam’s Chowdermobile
URL:https://mvblfeast.com/event/parkside-towers/
LOCATION:Parkside Towers\, 1031 E Hillsdale Blvd\, Foster City\, CA\, 94404\, United States
END:VEVENT
BEGIN:VEVENT
DTSTART;TZID=America/Los_Angeles:20230510T113000
DTEND;TZID=America/Los_Angeles:20230510T133000
DTSTAMP:20260425T190406
CREATED:20230131T235959Z
LAST-MODIFIED:20260328T215126Z
UID:77896-1683718200-1683725400@mvblfeast.com
SUMMARY:Redwood Shores
DESCRIPTION:
URL:https://mvblfeast.com/event/redwood-shores-2023-05-10/
LOCATION:Redwood Shores\, 1300 Island Drive\, Redwood City\, CA\, 94065\, United States
CATEGORIES:Pop Ups
END:VEVENT
BEGIN:VEVENT
DTSTART;TZID=America/Los_Angeles:20230511T170000
DTEND;TZID=America/Los_Angeles:20230511T210000
DTSTAMP:20260425T190406
CREATED:20230131T192825Z
LAST-MODIFIED:20230509T233205Z
UID:79124-1683824400-1683838800@mvblfeast.com
SUMMARY:Gordon Biersch Night Market
DESCRIPTION:Description: Local Craft Beer\, Food Trucks\, Makers\, & Live Entertainment! \nChick N’ Bros • Grillzillas • Capelo’s BBQ • Waffle Roost • MC Sushi • Cielito Lindo • Tlaxiaco’s Pizza • Road Dogs • Thai Thai • Jolly’s Tea Cream
URL:https://mvblfeast.com/event/gordon-biersch-night-market-2023-05-11/
LOCATION:Gordon Biersch Brewing (SJ Japantown)\, 357 E Taylor St.\, San Jose\, CA\, 95112\, United States
CATEGORIES:Markets
END:VEVENT
BEGIN:VEVENT
DTSTART;TZID=America/Los_Angeles:20230512T170000
DTEND;TZID=America/Los_Angeles:20230512T210000
DTSTAMP:20260425T190406
CREATED:20230509T234929Z
LAST-MODIFIED:20230510T001806Z
UID:80171-1683910800-1683925200@mvblfeast.com
SUMMARY:Midtown Immersive Night Party
DESCRIPTION:Flor de Pineapple • Fresh Catch • Waffle Amore • I Love Cheesesteak
URL:https://mvblfeast.com/event/midtown-immersive-night-party/
LOCATION:Midtown Immersive Night Party\, 245 McEvoy St\, San Jose\, CA\, 95126\, United States
END:VEVENT
BEGIN:VEVENT
DTSTART;TZID=America/Los_Angeles:20230516T113000
DTEND;TZID=America/Los_Angeles:20230516T130000
DTSTAMP:20260425T190406
CREATED:20230131T222540Z
LAST-MODIFIED:20230509T233317Z
UID:77732-1684236600-1684242000@mvblfeast.com
SUMMARY:Pacific Shores
DESCRIPTION:
URL:https://mvblfeast.com/event/pacific-shores-2023-05-16/
LOCATION:Pacific Shores\, 1100 Seaport Blvd\, Redwood City\, CA\, 94063\, United States
END:VEVENT
BEGIN:VEVENT
DTSTART;TZID=America/Los_Angeles:20230516T113000
DTEND;TZID=America/Los_Angeles:20230516T133000
DTSTAMP:20260425T190406
CREATED:20230503T005922Z
LAST-MODIFIED:20230509T233454Z
UID:79776-1684236600-1684243800@mvblfeast.com
SUMMARY:Parkside Towers
DESCRIPTION:BunBao
URL:https://mvblfeast.com/event/parkside-towers-2023-05-16/
LOCATION:Parkside Towers\, 1031 E Hillsdale Blvd\, Foster City\, CA\, 94404\, United States
END:VEVENT
BEGIN:VEVENT
DTSTART;TZID=America/Los_Angeles:20230517T113000
DTEND;TZID=America/Los_Angeles:20230517T133000
DTSTAMP:20260425T190406
CREATED:20230131T235959Z
LAST-MODIFIED:20230509T232740Z
UID:77897-1684323000-1684330200@mvblfeast.com
SUMMARY:Redwood Shores
DESCRIPTION:WoKitchen
URL:https://mvblfeast.com/event/redwood-shores-2023-05-17/
LOCATION:Redwood Shores\, 1300 Island Drive\, Redwood City\, CA\, 94065\, United States
CATEGORIES:Pop Ups
END:VEVENT
BEGIN:VEVENT
DTSTART;TZID=America/Los_Angeles:20230518T170000
DTEND;TZID=America/Los_Angeles:20230518T210000
DTSTAMP:20260425T190406
CREATED:20230131T192825Z
LAST-MODIFIED:20230509T232308Z
UID:79125-1684429200-1684443600@mvblfeast.com
SUMMARY:Gordon Biersch Night Market
DESCRIPTION:Event Details releasing soon!\nDescription: Local Craft Beer\, Food Trucks\, Makers\, & Live Entertainment!
URL:https://mvblfeast.com/event/gordon-biersch-night-market-2023-05-11-2023-05-18/2023-05-18/
LOCATION:Gordon Biersch Brewing (SJ Japantown)\, 357 E Taylor St.\, San Jose\, CA\, 95112\, United States
CATEGORIES:Markets
END:VEVENT
BEGIN:VEVENT
DTSTART;TZID=America/Los_Angeles:20230519T170000
DTEND;TZID=America/Los_Angeles:20230519T210000
DTSTAMP:20260425T190406
CREATED:20230509T234929Z
LAST-MODIFIED:20230510T000255Z
UID:80199-1684515600-1684530000@mvblfeast.com
SUMMARY:Midtown Immersive Night Party
DESCRIPTION:
URL:https://mvblfeast.com/event/midtown-immersive-night-party-2023-05-19/
LOCATION:CA
END:VEVENT
BEGIN:VEVENT
DTSTART;TZID=America/Los_Angeles:20230523T113000
DTEND;TZID=America/Los_Angeles:20230523T133000
DTSTAMP:20260425T190406
CREATED:20230503T005922Z
LAST-MODIFIED:20230509T233503Z
UID:79777-1684841400-1684848600@mvblfeast.com
SUMMARY:Parkside Towers
DESCRIPTION:Picnic Basket
URL:https://mvblfeast.com/event/parkside-towers-2023-05-23/
LOCATION:Parkside Towers\, 1031 E Hillsdale Blvd\, Foster City\, CA\, 94404\, United States
END:VEVENT
BEGIN:VEVENT
DTSTART;TZID=America/Los_Angeles:20230524T113000
DTEND;TZID=America/Los_Angeles:20230524T133000
DTSTAMP:20260425T190406
CREATED:20230131T235959Z
LAST-MODIFIED:20230509T232752Z
UID:77898-1684927800-1684935000@mvblfeast.com
SUMMARY:Redwood Shores
DESCRIPTION:Rincon del Cielo
URL:https://mvblfeast.com/event/redwood-shores-2023-05-24/
LOCATION:Redwood Shores\, 1300 Island Drive\, Redwood City\, CA\, 94065\, United States
CATEGORIES:Pop Ups
END:VEVENT
BEGIN:VEVENT
DTSTART;TZID=America/Los_Angeles:20230526T170000
DTEND;TZID=America/Los_Angeles:20230526T210000
DTSTAMP:20260425T190406
CREATED:20230509T234929Z
LAST-MODIFIED:20230510T000259Z
UID:80201-1685120400-1685134800@mvblfeast.com
SUMMARY:Midtown Immersive Night Party
DESCRIPTION:
URL:https://mvblfeast.com/event/midtown-immersive-night-party-2023-05-26/
LOCATION:CA
END:VEVENT
BEGIN:VEVENT
DTSTART;TZID=America/Los_Angeles:20230530T113000
DTEND;TZID=America/Los_Angeles:20230530T133000
DTSTAMP:20260425T190406
CREATED:20230503T005922Z
LAST-MODIFIED:20230509T233521Z
UID:79778-1685446200-1685453400@mvblfeast.com
SUMMARY:Parkside Towers
DESCRIPTION:Akita Sushi
URL:https://mvblfeast.com/event/parkside-towers-2023-05-30/
LOCATION:Parkside Towers\, 1031 E Hillsdale Blvd\, Foster City\, CA\, 94404\, United States
END:VEVENT
END:VCALENDAR