BEGIN:VCALENDAR
VERSION:2.0
PRODID:-//Moveable Feast - ECPv6.15.13//NONSGML v1.0//EN
CALSCALE:GREGORIAN
METHOD:PUBLISH
X-ORIGINAL-URL:https://mvblfeast.com
X-WR-CALDESC:Events for Moveable Feast
REFRESH-INTERVAL;VALUE=DURATION:PT1H
X-Robots-Tag:noindex
X-PUBLISHED-TTL:PT1H
BEGIN:VTIMEZONE
TZID:America/Los_Angeles
BEGIN:DAYLIGHT
TZOFFSETFROM:-0800
TZOFFSETTO:-0700
TZNAME:PDT
DTSTART:20240310T100000
END:DAYLIGHT
BEGIN:STANDARD
TZOFFSETFROM:-0700
TZOFFSETTO:-0800
TZNAME:PST
DTSTART:20241103T090000
END:STANDARD
BEGIN:DAYLIGHT
TZOFFSETFROM:-0800
TZOFFSETTO:-0700
TZNAME:PDT
DTSTART:20250309T100000
END:DAYLIGHT
BEGIN:STANDARD
TZOFFSETFROM:-0700
TZOFFSETTO:-0800
TZNAME:PST
DTSTART:20251102T090000
END:STANDARD
BEGIN:DAYLIGHT
TZOFFSETFROM:-0800
TZOFFSETTO:-0700
TZNAME:PDT
DTSTART:20260308T100000
END:DAYLIGHT
BEGIN:STANDARD
TZOFFSETFROM:-0700
TZOFFSETTO:-0800
TZNAME:PST
DTSTART:20261101T090000
END:STANDARD
END:VTIMEZONE
BEGIN:VEVENT
DTSTART;TZID=America/Los_Angeles:20250610T113000
DTEND;TZID=America/Los_Angeles:20250610T133000
DTSTAMP:20260425T034046
CREATED:20250520T214405Z
LAST-MODIFIED:20250520T214405Z
UID:83205-1749555000-1749562200@mvblfeast.com
SUMMARY:Riverpark Towers
DESCRIPTION:Yakitori Harue
URL:https://mvblfeast.com/event/riverpark-towers-29/
LOCATION:Riverpark Towers\, 333 West San Carlos St\, San Jose\, CA\, 95110\, United States
END:VEVENT
BEGIN:VEVENT
DTSTART;TZID=America/Los_Angeles:20250612T113000
DTEND;TZID=America/Los_Angeles:20250612T133000
DTSTAMP:20260425T034046
CREATED:20250520T212730Z
LAST-MODIFIED:20250520T212730Z
UID:83171-1749727800-1749735000@mvblfeast.com
SUMMARY:Pacific Shores
DESCRIPTION:WoKitchen
URL:https://mvblfeast.com/event/pacific-shores-45/
LOCATION:Pacific Shores\, 1100 Seaport Blvd\, Redwood City\, CA\, 94063\, United States
END:VEVENT
BEGIN:VEVENT
DTSTART;TZID=America/Los_Angeles:20250612T113000
DTEND;TZID=America/Los_Angeles:20250612T133000
DTSTAMP:20260425T034046
CREATED:20250520T214756Z
LAST-MODIFIED:20250520T214756Z
UID:83206-1749727800-1749735000@mvblfeast.com
SUMMARY:Riverpark Towers
DESCRIPTION:Rincon del Cielo
URL:https://mvblfeast.com/event/riverpark-towers-30/
LOCATION:Riverpark Towers\, 333 West San Carlos St\, San Jose\, CA\, 95110\, United States
END:VEVENT
BEGIN:VEVENT
DTSTART;TZID=America/Los_Angeles:20250612T113000
DTEND;TZID=America/Los_Angeles:20250612T133000
DTSTAMP:20260425T034046
CREATED:20250520T220454Z
LAST-MODIFIED:20250520T220454Z
UID:83239-1749727800-1749735000@mvblfeast.com
SUMMARY:Stanford Research Park
DESCRIPTION:Fresh Catch Poke
URL:https://mvblfeast.com/event/scu-8/2025-06-12/
LOCATION:Stanford Research Park\, 3215 Porter Dr\, Palo Alto\, CA\, 94304\, United States
END:VEVENT
BEGIN:VEVENT
DTSTART;TZID=America/Los_Angeles:20250617T113000
DTEND;TZID=America/Los_Angeles:20250617T133000
DTSTAMP:20260425T034046
CREATED:20250520T214823Z
LAST-MODIFIED:20250520T214823Z
UID:83207-1750159800-1750167000@mvblfeast.com
SUMMARY:Riverpark Towers
DESCRIPTION:Wonk’s Street Tacos
URL:https://mvblfeast.com/event/riverpark-towers-31/
LOCATION:Riverpark Towers\, 333 West San Carlos St\, San Jose\, CA\, 95110\, United States
END:VEVENT
BEGIN:VEVENT
DTSTART;TZID=America/Los_Angeles:20250619T113000
DTEND;TZID=America/Los_Angeles:20250619T133000
DTSTAMP:20260425T034046
CREATED:20250520T215100Z
LAST-MODIFIED:20250520T215100Z
UID:83208-1750332600-1750339800@mvblfeast.com
SUMMARY:Riverpark Towers
DESCRIPTION:Shrimp’n Ain’t Eazy
URL:https://mvblfeast.com/event/riverpark-towers-32/
LOCATION:Riverpark Towers\, 333 West San Carlos St\, San Jose\, CA\, 95110\, United States
END:VEVENT
BEGIN:VEVENT
DTSTART;TZID=America/Los_Angeles:20250619T113000
DTEND;TZID=America/Los_Angeles:20250619T133000
DTSTAMP:20260425T034046
CREATED:20250520T220541Z
LAST-MODIFIED:20250520T220541Z
UID:83240-1750332600-1750339800@mvblfeast.com
SUMMARY:Stanford Research Park
DESCRIPTION:Hongry Kong
URL:https://mvblfeast.com/event/scu-8/2025-06-19/
LOCATION:Stanford Research Park\, 3215 Porter Dr\, Palo Alto\, CA\, 94304\, United States
END:VEVENT
BEGIN:VEVENT
DTSTART;TZID=America/Los_Angeles:20250624T113000
DTEND;TZID=America/Los_Angeles:20250624T133000
DTSTAMP:20260425T034046
CREATED:20250520T215106Z
LAST-MODIFIED:20250520T215106Z
UID:83209-1750764600-1750771800@mvblfeast.com
SUMMARY:Riverpark Towers
DESCRIPTION:Sam’s Chowdermobile
URL:https://mvblfeast.com/event/riverpark-towers-33/
LOCATION:Riverpark Towers\, 333 West San Carlos St\, San Jose\, CA\, 95110\, United States
END:VEVENT
BEGIN:VEVENT
DTSTART;TZID=America/Los_Angeles:20250626T113000
DTEND;TZID=America/Los_Angeles:20250626T133000
DTSTAMP:20260425T034046
CREATED:20250520T215135Z
LAST-MODIFIED:20250520T215135Z
UID:83210-1750937400-1750944600@mvblfeast.com
SUMMARY:Riverpark Towers
DESCRIPTION:Akita Sushi
URL:https://mvblfeast.com/event/riverpark-towers-34/
LOCATION:Riverpark Towers\, 333 West San Carlos St\, San Jose\, CA\, 95110\, United States
END:VEVENT
BEGIN:VEVENT
DTSTART;TZID=America/Los_Angeles:20250626T113000
DTEND;TZID=America/Los_Angeles:20250626T133000
DTSTAMP:20260425T034046
CREATED:20250520T220605Z
LAST-MODIFIED:20250520T220605Z
UID:83241-1750937400-1750944600@mvblfeast.com
SUMMARY:Stanford Research Park
DESCRIPTION:Kaizoku
URL:https://mvblfeast.com/event/scu-8/2025-06-26/
LOCATION:Stanford Research Park\, 3215 Porter Dr\, Palo Alto\, CA\, 94304\, United States
END:VEVENT
BEGIN:VEVENT
DTSTART;TZID=America/Los_Angeles:20250701T113000
DTEND;TZID=America/Los_Angeles:20250701T133000
DTSTAMP:20260425T034046
CREATED:20250701T223826Z
LAST-MODIFIED:20250701T223826Z
UID:83279-1751369400-1751376600@mvblfeast.com
SUMMARY:Pacific Shores
DESCRIPTION:Picnic Basket
URL:https://mvblfeast.com/event/pacific-shores-47/
LOCATION:Pacific Shores\, 1100 Seaport Blvd\, Redwood City\, CA\, 94063\, United States
END:VEVENT
BEGIN:VEVENT
DTSTART;TZID=America/Los_Angeles:20250701T113000
DTEND;TZID=America/Los_Angeles:20250701T133000
DTSTAMP:20260425T034046
CREATED:20250701T224716Z
LAST-MODIFIED:20250701T224716Z
UID:83307-1751369400-1751376600@mvblfeast.com
SUMMARY:Riverpark Towers
DESCRIPTION:Oaxacan Kitchen
URL:https://mvblfeast.com/event/riverpark-towers-35/
LOCATION:Riverpark Towers\, 333 West San Carlos St\, San Jose\, CA\, 95110\, United States
END:VEVENT
BEGIN:VEVENT
DTSTART;TZID=America/Los_Angeles:20250702T110000
DTEND;TZID=America/Los_Angeles:20250702T133000
DTSTAMP:20260425T034046
CREATED:20250701T231503Z
LAST-MODIFIED:20250701T231503Z
UID:83339-1751454000-1751463000@mvblfeast.com
SUMMARY:Mission College
DESCRIPTION:Poke Braddahs
URL:https://mvblfeast.com/event/scu-8/2025-07-02/
LOCATION:Mission College\, 3000 Mission College Blvd\, Santa Clara\, CA\, 95054\, United States
END:VEVENT
BEGIN:VEVENT
DTSTART;TZID=America/Los_Angeles:20250707T110000
DTEND;TZID=America/Los_Angeles:20250707T133000
DTSTAMP:20260425T034046
CREATED:20250701T231749Z
LAST-MODIFIED:20250701T231749Z
UID:83356-1751886000-1751895000@mvblfeast.com
SUMMARY:Mission College
DESCRIPTION:Tlaxiaco’s Pizza
URL:https://mvblfeast.com/event/scu-8/2025-07-07/
LOCATION:Mission College\, 3000 Mission College Blvd\, Santa Clara\, CA\, 95054\, United States
END:VEVENT
BEGIN:VEVENT
DTSTART;TZID=America/Los_Angeles:20250708T110000
DTEND;TZID=America/Los_Angeles:20250708T133000
DTSTAMP:20260425T034046
CREATED:20250701T231810Z
LAST-MODIFIED:20250701T231810Z
UID:83355-1751972400-1751981400@mvblfeast.com
SUMMARY:Mission College
DESCRIPTION:Waffle Roost
URL:https://mvblfeast.com/event/scu-8/2025-07-08/
LOCATION:Mission College\, 3000 Mission College Blvd\, Santa Clara\, CA\, 95054\, United States
END:VEVENT
BEGIN:VEVENT
DTSTART;TZID=America/Los_Angeles:20250708T113000
DTEND;TZID=America/Los_Angeles:20250708T133000
DTSTAMP:20260425T034046
CREATED:20250701T223856Z
LAST-MODIFIED:20250701T223856Z
UID:83280-1751974200-1751981400@mvblfeast.com
SUMMARY:Pacific Shores
DESCRIPTION:Grillman
URL:https://mvblfeast.com/event/pacific-shores-48/
LOCATION:Pacific Shores\, 1100 Seaport Blvd\, Redwood City\, CA\, 94063\, United States
END:VEVENT
BEGIN:VEVENT
DTSTART;TZID=America/Los_Angeles:20250708T113000
DTEND;TZID=America/Los_Angeles:20250708T133000
DTSTAMP:20260425T034046
CREATED:20250701T224747Z
LAST-MODIFIED:20250701T224747Z
UID:83308-1751974200-1751981400@mvblfeast.com
SUMMARY:Riverpark Towers
DESCRIPTION:Old Greenwood BBQ
URL:https://mvblfeast.com/event/riverpark-towers-36/
LOCATION:Riverpark Towers\, 333 West San Carlos St\, San Jose\, CA\, 95110\, United States
END:VEVENT
BEGIN:VEVENT
DTSTART;TZID=America/Los_Angeles:20250709T110000
DTEND;TZID=America/Los_Angeles:20250709T133000
DTSTAMP:20260425T034046
CREATED:20250701T231825Z
LAST-MODIFIED:20250701T231825Z
UID:83354-1752058800-1752067800@mvblfeast.com
SUMMARY:Mission College
DESCRIPTION:Twister/Rolling Duck
URL:https://mvblfeast.com/event/scu-8/2025-07-09/
LOCATION:Mission College\, 3000 Mission College Blvd\, Santa Clara\, CA\, 95054\, United States
END:VEVENT
BEGIN:VEVENT
DTSTART;TZID=America/Los_Angeles:20250710T110000
DTEND;TZID=America/Los_Angeles:20250710T133000
DTSTAMP:20260425T034046
CREATED:20250701T231843Z
LAST-MODIFIED:20250701T231843Z
UID:83353-1752145200-1752154200@mvblfeast.com
SUMMARY:Mission College
DESCRIPTION:I Love Cheesesteak
URL:https://mvblfeast.com/event/scu-8/2025-07-10/
LOCATION:Mission College\, 3000 Mission College Blvd\, Santa Clara\, CA\, 95054\, United States
END:VEVENT
BEGIN:VEVENT
DTSTART;TZID=America/Los_Angeles:20250710T113000
DTEND;TZID=America/Los_Angeles:20250710T133000
DTSTAMP:20260425T034046
CREATED:20250701T223920Z
LAST-MODIFIED:20250701T223920Z
UID:83281-1752147000-1752154200@mvblfeast.com
SUMMARY:Pacific Shores
DESCRIPTION:Twister/Rolling Duck
URL:https://mvblfeast.com/event/pacific-shores-49/
LOCATION:Pacific Shores\, 1100 Seaport Blvd\, Redwood City\, CA\, 94063\, United States
END:VEVENT
BEGIN:VEVENT
DTSTART;TZID=America/Los_Angeles:20250710T113000
DTEND;TZID=America/Los_Angeles:20250710T133000
DTSTAMP:20260425T034046
CREATED:20250701T224807Z
LAST-MODIFIED:20250701T224807Z
UID:83309-1752147000-1752154200@mvblfeast.com
SUMMARY:Riverpark Towers
DESCRIPTION:Mr. Rice Kebab
URL:https://mvblfeast.com/event/riverpark-towers-37/
LOCATION:Riverpark Towers\, 333 West San Carlos St\, San Jose\, CA\, 95110\, United States
END:VEVENT
BEGIN:VEVENT
DTSTART;TZID=America/Los_Angeles:20250710T113000
DTEND;TZID=America/Los_Angeles:20250710T133000
DTSTAMP:20260425T034046
CREATED:20250701T230454Z
LAST-MODIFIED:20250701T230454Z
UID:83332-1752147000-1752154200@mvblfeast.com
SUMMARY:Stanford Research Park
DESCRIPTION:Sam’s Chowdermobile
URL:https://mvblfeast.com/event/scu-8/2025-07-10/
LOCATION:Stanford Research Park\, 3215 Porter Dr\, Palo Alto\, CA\, 94304\, United States
END:VEVENT
BEGIN:VEVENT
DTSTART;TZID=America/Los_Angeles:20250714T110000
DTEND;TZID=America/Los_Angeles:20250714T133000
DTSTAMP:20260425T034046
CREATED:20250701T231909Z
LAST-MODIFIED:20250701T231909Z
UID:83352-1752490800-1752499800@mvblfeast.com
SUMMARY:Mission College
DESCRIPTION:Grillzillas
URL:https://mvblfeast.com/event/scu-8/2025-07-14/
LOCATION:Mission College\, 3000 Mission College Blvd\, Santa Clara\, CA\, 95054\, United States
END:VEVENT
BEGIN:VEVENT
DTSTART;TZID=America/Los_Angeles:20250715T110000
DTEND;TZID=America/Los_Angeles:20250715T133000
DTSTAMP:20260425T034046
CREATED:20250701T231930Z
LAST-MODIFIED:20250701T231930Z
UID:83351-1752577200-1752586200@mvblfeast.com
SUMMARY:Mission College
DESCRIPTION:WoKitchen
URL:https://mvblfeast.com/event/scu-8/2025-07-15/
LOCATION:Mission College\, 3000 Mission College Blvd\, Santa Clara\, CA\, 95054\, United States
END:VEVENT
BEGIN:VEVENT
DTSTART;TZID=America/Los_Angeles:20250715T113000
DTEND;TZID=America/Los_Angeles:20250715T133000
DTSTAMP:20260425T034046
CREATED:20250701T223958Z
LAST-MODIFIED:20250701T223958Z
UID:83282-1752579000-1752586200@mvblfeast.com
SUMMARY:Pacific Shores
DESCRIPTION:Rincon del Cielo
URL:https://mvblfeast.com/event/pacific-shores-50/
LOCATION:Pacific Shores\, 1100 Seaport Blvd\, Redwood City\, CA\, 94063\, United States
END:VEVENT
BEGIN:VEVENT
DTSTART;TZID=America/Los_Angeles:20250715T113000
DTEND;TZID=America/Los_Angeles:20250715T133000
DTSTAMP:20260425T034046
CREATED:20250701T224245Z
LAST-MODIFIED:20250701T224245Z
UID:83297-1752579000-1752586200@mvblfeast.com
SUMMARY:Parkside Towers
DESCRIPTION:Tacos el Cowboy
URL:https://mvblfeast.com/event/parkside-towers-27/
LOCATION:Parkside Towers\, 1031 E Hillsdale Blvd\, Foster City\, CA\, 94404\, United States
END:VEVENT
BEGIN:VEVENT
DTSTART;TZID=America/Los_Angeles:20250715T113000
DTEND;TZID=America/Los_Angeles:20250715T133000
DTSTAMP:20260425T034046
CREATED:20250701T224826Z
LAST-MODIFIED:20250701T224826Z
UID:83310-1752579000-1752586200@mvblfeast.com
SUMMARY:Riverpark Towers
DESCRIPTION:Wonk’s Street Tacos
URL:https://mvblfeast.com/event/riverpark-towers-38/
LOCATION:Riverpark Towers\, 333 West San Carlos St\, San Jose\, CA\, 95110\, United States
END:VEVENT
BEGIN:VEVENT
DTSTART;TZID=America/Los_Angeles:20250716T110000
DTEND;TZID=America/Los_Angeles:20250716T133000
DTSTAMP:20260425T034046
CREATED:20250701T231958Z
LAST-MODIFIED:20250701T231958Z
UID:83350-1752663600-1752672600@mvblfeast.com
SUMMARY:Mission College
DESCRIPTION:Wonk’s Street Tacos
URL:https://mvblfeast.com/event/scu-8/2025-07-16/
LOCATION:Mission College\, 3000 Mission College Blvd\, Santa Clara\, CA\, 95054\, United States
END:VEVENT
BEGIN:VEVENT
DTSTART;TZID=America/Los_Angeles:20250716T120000
DTEND;TZID=America/Los_Angeles:20250716T140000
DTSTAMP:20260425T034046
CREATED:20250701T225756Z
LAST-MODIFIED:20250701T225756Z
UID:83327-1752667200-1752674400@mvblfeast.com
SUMMARY:Cellanome POD
DESCRIPTION:Chick N’ Bros
URL:https://mvblfeast.com/event/cellanome/
LOCATION:Cellanome POD\, 500 Lincoln Centre Dr\, Foster City\, CA\, 94404\, United States
END:VEVENT
BEGIN:VEVENT
DTSTART;TZID=America/Los_Angeles:20250717T110000
DTEND;TZID=America/Los_Angeles:20250717T133000
DTSTAMP:20260425T034046
CREATED:20250701T232037Z
LAST-MODIFIED:20250701T232037Z
UID:83349-1752750000-1752759000@mvblfeast.com
SUMMARY:Mission College
DESCRIPTION:3 Brothers Kitchen
URL:https://mvblfeast.com/event/scu-8/2025-07-17/
LOCATION:Mission College\, 3000 Mission College Blvd\, Santa Clara\, CA\, 95054\, United States
END:VEVENT
END:VCALENDAR