BEGIN:VCALENDAR
VERSION:2.0
PRODID:-//Moveable Feast - ECPv6.15.13//NONSGML v1.0//EN
CALSCALE:GREGORIAN
METHOD:PUBLISH
X-WR-CALNAME:Moveable Feast
X-ORIGINAL-URL:https://mvblfeast.com
X-WR-CALDESC:Events for Moveable Feast
REFRESH-INTERVAL;VALUE=DURATION:PT1H
X-Robots-Tag:noindex
X-PUBLISHED-TTL:PT1H
BEGIN:VTIMEZONE
TZID:America/Los_Angeles
BEGIN:DAYLIGHT
TZOFFSETFROM:-0800
TZOFFSETTO:-0700
TZNAME:PDT
DTSTART:20240310T100000
END:DAYLIGHT
BEGIN:STANDARD
TZOFFSETFROM:-0700
TZOFFSETTO:-0800
TZNAME:PST
DTSTART:20241103T090000
END:STANDARD
BEGIN:DAYLIGHT
TZOFFSETFROM:-0800
TZOFFSETTO:-0700
TZNAME:PDT
DTSTART:20250309T100000
END:DAYLIGHT
BEGIN:STANDARD
TZOFFSETFROM:-0700
TZOFFSETTO:-0800
TZNAME:PST
DTSTART:20251102T090000
END:STANDARD
BEGIN:DAYLIGHT
TZOFFSETFROM:-0800
TZOFFSETTO:-0700
TZNAME:PDT
DTSTART:20260308T100000
END:DAYLIGHT
BEGIN:STANDARD
TZOFFSETFROM:-0700
TZOFFSETTO:-0800
TZNAME:PST
DTSTART:20261101T090000
END:STANDARD
END:VTIMEZONE
BEGIN:VEVENT
DTSTART;TZID=America/Los_Angeles:20250204T113000
DTEND;TZID=America/Los_Angeles:20250204T133000
DTSTAMP:20260425T080033
CREATED:20250204T002132Z
LAST-MODIFIED:20250204T002132Z
UID:82897-1738668600-1738675800@mvblfeast.com
SUMMARY:Pacific Shores
DESCRIPTION:Akita
URL:https://mvblfeast.com/event/pacific-shores-15/
LOCATION:Pacific Shores\, 1100 Seaport Blvd\, Redwood City\, CA\, 94063\, United States
END:VEVENT
BEGIN:VEVENT
DTSTART;TZID=America/Los_Angeles:20250205T100000
DTEND;TZID=America/Los_Angeles:20250205T140000
DTSTAMP:20260425T080033
CREATED:20241220T001518Z
LAST-MODIFIED:20250129T001847Z
UID:82738-1738749600-1738764000@mvblfeast.com
SUMMARY:SCU
DESCRIPTION:I Love Cheesesteak
URL:https://mvblfeast.com/event/scu-8/
LOCATION:Santa Clara University\, 500 El Camino Real\, Santa Clara\, CA\, 95050\, United States
END:VEVENT
BEGIN:VEVENT
DTSTART;TZID=America/Los_Angeles:20250206T113000
DTEND;TZID=America/Los_Angeles:20250206T133000
DTSTAMP:20260425T080033
CREATED:20250204T001252Z
LAST-MODIFIED:20250204T001252Z
UID:82877-1738841400-1738848600@mvblfeast.com
SUMMARY:Anritsu
DESCRIPTION:Tlaxiaco’s Pizza
URL:https://mvblfeast.com/event/anritsu-4/
LOCATION:Anritsu\, 490 Jarvis Dr\, Morgan Hill\, CA\, 95037\, United States
END:VEVENT
BEGIN:VEVENT
DTSTART;TZID=America/Los_Angeles:20250206T113000
DTEND;TZID=America/Los_Angeles:20250206T133000
DTSTAMP:20260425T080033
CREATED:20250204T002323Z
LAST-MODIFIED:20250204T002323Z
UID:82899-1738841400-1738848600@mvblfeast.com
SUMMARY:Pacific Shores
DESCRIPTION:Curveball
URL:https://mvblfeast.com/event/pacific-shores-16/
LOCATION:Pacific Shores\, 1100 Seaport Blvd\, Redwood City\, CA\, 94063\, United States
END:VEVENT
BEGIN:VEVENT
DTSTART;TZID=America/Los_Angeles:20250211T113000
DTEND;TZID=America/Los_Angeles:20250211T133000
DTSTAMP:20260425T080033
CREATED:20241219T011400Z
LAST-MODIFIED:20250129T001446Z
UID:82626-1739273400-1739280600@mvblfeast.com
SUMMARY:Riverpark Towers
DESCRIPTION:Pupusa Lady
URL:https://mvblfeast.com/event/riverpark-towers-14-2025-02-11/
LOCATION:Riverpark Towers\, 333 West San Carlos St\, San Jose\, CA\, 95110\, United States
END:VEVENT
BEGIN:VEVENT
DTSTART;TZID=America/Los_Angeles:20250211T113000
DTEND;TZID=America/Los_Angeles:20250211T133000
DTSTAMP:20260425T080033
CREATED:20250204T001342Z
LAST-MODIFIED:20250204T001342Z
UID:82879-1739273400-1739280600@mvblfeast.com
SUMMARY:Anritsu
DESCRIPTION:T-MO
URL:https://mvblfeast.com/event/anritsu-5/
LOCATION:Anritsu\, 490 Jarvis Dr\, Morgan Hill\, CA\, 95037\, United States
END:VEVENT
BEGIN:VEVENT
DTSTART;TZID=America/Los_Angeles:20250211T113000
DTEND;TZID=America/Los_Angeles:20250211T133000
DTSTAMP:20260425T080033
CREATED:20250204T002343Z
LAST-MODIFIED:20250204T002343Z
UID:82900-1739273400-1739280600@mvblfeast.com
SUMMARY:Pacific Shores
DESCRIPTION:Mr. Andrew’s Catering
URL:https://mvblfeast.com/event/pacific-shores-17/
LOCATION:Pacific Shores\, 1100 Seaport Blvd\, Redwood City\, CA\, 94063\, United States
END:VEVENT
BEGIN:VEVENT
DTSTART;TZID=America/Los_Angeles:20250212T100000
DTEND;TZID=America/Los_Angeles:20250212T140000
DTSTAMP:20260425T080033
CREATED:20241220T001518Z
LAST-MODIFIED:20250129T001857Z
UID:82739-1739354400-1739368800@mvblfeast.com
SUMMARY:SCU
DESCRIPTION:Chick N’ Bros
URL:https://mvblfeast.com/event/scu-8/2025-02-12/
LOCATION:Santa Clara University\, 500 El Camino Real\, Santa Clara\, CA\, 95050\, United States
END:VEVENT
BEGIN:VEVENT
DTSTART;TZID=America/Los_Angeles:20250213T113000
DTEND;TZID=America/Los_Angeles:20250213T133000
DTSTAMP:20260425T080033
CREATED:20250204T001415Z
LAST-MODIFIED:20250204T001415Z
UID:82881-1739446200-1739453400@mvblfeast.com
SUMMARY:Anritsu
DESCRIPTION:Chula Puebla
URL:https://mvblfeast.com/event/anritsu-6/
LOCATION:Anritsu\, 490 Jarvis Dr\, Morgan Hill\, CA\, 95037\, United States
END:VEVENT
BEGIN:VEVENT
DTSTART;TZID=America/Los_Angeles:20250213T113000
DTEND;TZID=America/Los_Angeles:20250213T133000
DTSTAMP:20260425T080033
CREATED:20250204T002404Z
LAST-MODIFIED:20250204T002404Z
UID:82901-1739446200-1739453400@mvblfeast.com
SUMMARY:Pacific Shores
DESCRIPTION:El Paisa by Los Alegres
URL:https://mvblfeast.com/event/pacific-shores-18/
LOCATION:Pacific Shores\, 1100 Seaport Blvd\, Redwood City\, CA\, 94063\, United States
END:VEVENT
BEGIN:VEVENT
DTSTART;TZID=America/Los_Angeles:20250218T113000
DTEND;TZID=America/Los_Angeles:20250218T133000
DTSTAMP:20260425T080033
CREATED:20241219T011400Z
LAST-MODIFIED:20250129T001448Z
UID:82627-1739878200-1739885400@mvblfeast.com
SUMMARY:Riverpark Towers
DESCRIPTION:Fresh Catch
URL:https://mvblfeast.com/event/riverpark-towers-14-2025-02-18/
LOCATION:Riverpark Towers\, 333 West San Carlos St\, San Jose\, CA\, 95110\, United States
END:VEVENT
BEGIN:VEVENT
DTSTART;TZID=America/Los_Angeles:20250218T113000
DTEND;TZID=America/Los_Angeles:20250218T133000
DTSTAMP:20260425T080033
CREATED:20250129T002350Z
LAST-MODIFIED:20250129T002350Z
UID:82866-1739878200-1739885400@mvblfeast.com
SUMMARY:Parkside Towers
DESCRIPTION:WoKitchen
URL:https://mvblfeast.com/event/parkside-towers-24/
LOCATION:Parkside Towers\, 1031 E Hillsdale Blvd\, Foster City\, CA\, 94404\, United States
END:VEVENT
BEGIN:VEVENT
DTSTART;TZID=America/Los_Angeles:20250218T113000
DTEND;TZID=America/Los_Angeles:20250218T133000
DTSTAMP:20260425T080033
CREATED:20250204T001450Z
LAST-MODIFIED:20250204T001450Z
UID:82883-1739878200-1739885400@mvblfeast.com
SUMMARY:Anritsu
DESCRIPTION:Grillman
URL:https://mvblfeast.com/event/anritsu-7/
LOCATION:Anritsu\, 490 Jarvis Dr\, Morgan Hill\, CA\, 95037\, United States
END:VEVENT
BEGIN:VEVENT
DTSTART;TZID=America/Los_Angeles:20250218T113000
DTEND;TZID=America/Los_Angeles:20250218T133000
DTSTAMP:20260425T080033
CREATED:20250204T002440Z
LAST-MODIFIED:20250204T002440Z
UID:82902-1739878200-1739885400@mvblfeast.com
SUMMARY:Pacific Shores
DESCRIPTION:I Love Cheesesteak
URL:https://mvblfeast.com/event/pacific-shores-19/
LOCATION:Pacific Shores\, 1100 Seaport Blvd\, Redwood City\, CA\, 94063\, United States
END:VEVENT
BEGIN:VEVENT
DTSTART;TZID=America/Los_Angeles:20250219T100000
DTEND;TZID=America/Los_Angeles:20250219T140000
DTSTAMP:20260425T080033
CREATED:20241220T001518Z
LAST-MODIFIED:20250129T001907Z
UID:82740-1739959200-1739973600@mvblfeast.com
SUMMARY:SCU
DESCRIPTION:Oaxacan Kitchen
URL:https://mvblfeast.com/event/scu-8/2025-02-19/
LOCATION:Santa Clara University\, 500 El Camino Real\, Santa Clara\, CA\, 95050\, United States
END:VEVENT
BEGIN:VEVENT
DTSTART;TZID=America/Los_Angeles:20250220T113000
DTEND;TZID=America/Los_Angeles:20250220T133000
DTSTAMP:20260425T080033
CREATED:20250204T001528Z
LAST-MODIFIED:20250204T001650Z
UID:82885-1740051000-1740058200@mvblfeast.com
SUMMARY:Anritsu
DESCRIPTION:Picnic Basket
URL:https://mvblfeast.com/event/anritsu-8/
LOCATION:Anritsu\, 490 Jarvis Dr\, Morgan Hill\, CA\, 95037\, United States
END:VEVENT
BEGIN:VEVENT
DTSTART;TZID=America/Los_Angeles:20250220T113000
DTEND;TZID=America/Los_Angeles:20250220T133000
DTSTAMP:20260425T080033
CREATED:20250204T001946Z
LAST-MODIFIED:20250204T001946Z
UID:82893-1740051000-1740058200@mvblfeast.com
SUMMARY:Stanford Research Park
DESCRIPTION:Akita
URL:https://mvblfeast.com/event/scu-8/2025-02-20/
LOCATION:Stanford Research Park\, 3215 Porter Dr\, Palo Alto\, CA\, 94304\, United States
END:VEVENT
BEGIN:VEVENT
DTSTART;TZID=America/Los_Angeles:20250220T113000
DTEND;TZID=America/Los_Angeles:20250220T133000
DTSTAMP:20260425T080033
CREATED:20250204T002457Z
LAST-MODIFIED:20250204T002457Z
UID:82903-1740051000-1740058200@mvblfeast.com
SUMMARY:Pacific Shores
DESCRIPTION:Bobcha
URL:https://mvblfeast.com/event/pacific-shores-20/
LOCATION:Pacific Shores\, 1100 Seaport Blvd\, Redwood City\, CA\, 94063\, United States
END:VEVENT
BEGIN:VEVENT
DTSTART;TZID=America/Los_Angeles:20250225T113000
DTEND;TZID=America/Los_Angeles:20250225T133000
DTSTAMP:20260425T080033
CREATED:20241219T011400Z
LAST-MODIFIED:20250129T001502Z
UID:82628-1740483000-1740490200@mvblfeast.com
SUMMARY:Riverpark Towers
DESCRIPTION:3 Brothers Kitchen
URL:https://mvblfeast.com/event/riverpark-towers-14-2025-02-25/
LOCATION:Riverpark Towers\, 333 West San Carlos St\, San Jose\, CA\, 95110\, United States
END:VEVENT
BEGIN:VEVENT
DTSTART;TZID=America/Los_Angeles:20250225T113000
DTEND;TZID=America/Los_Angeles:20250225T133000
DTSTAMP:20260425T080033
CREATED:20250204T001616Z
LAST-MODIFIED:20250204T001616Z
UID:82887-1740483000-1740490200@mvblfeast.com
SUMMARY:Anritsu
DESCRIPTION:Wonk’s Street Tacos
URL:https://mvblfeast.com/event/anritsu-9/
LOCATION:Anritsu\, 490 Jarvis Dr\, Morgan Hill\, CA\, 95037\, United States
END:VEVENT
BEGIN:VEVENT
DTSTART;TZID=America/Los_Angeles:20250225T113000
DTEND;TZID=America/Los_Angeles:20250225T133000
DTSTAMP:20260425T080033
CREATED:20250204T002519Z
LAST-MODIFIED:20250204T002519Z
UID:82904-1740483000-1740490200@mvblfeast.com
SUMMARY:Pacific Shores
DESCRIPTION:Picnic Basket
URL:https://mvblfeast.com/event/pacific-shores-21/
LOCATION:Pacific Shores\, 1100 Seaport Blvd\, Redwood City\, CA\, 94063\, United States
END:VEVENT
BEGIN:VEVENT
DTSTART;TZID=America/Los_Angeles:20250226T100000
DTEND;TZID=America/Los_Angeles:20250226T140000
DTSTAMP:20260425T080033
CREATED:20241220T001518Z
LAST-MODIFIED:20250129T001921Z
UID:82741-1740564000-1740578400@mvblfeast.com
SUMMARY:SCU
DESCRIPTION:Fire & Rice
URL:https://mvblfeast.com/event/scu-8/2025-02-26/
LOCATION:Santa Clara University\, 500 El Camino Real\, Santa Clara\, CA\, 95050\, United States
END:VEVENT
BEGIN:VEVENT
DTSTART;TZID=America/Los_Angeles:20250227T113000
DTEND;TZID=America/Los_Angeles:20250227T133000
DTSTAMP:20260425T080033
CREATED:20250204T001714Z
LAST-MODIFIED:20250204T001714Z
UID:82889-1740655800-1740663000@mvblfeast.com
SUMMARY:Anritsu
DESCRIPTION:Waffle Roost
URL:https://mvblfeast.com/event/anritsu-10/
LOCATION:Anritsu\, 490 Jarvis Dr\, Morgan Hill\, CA\, 95037\, United States
END:VEVENT
BEGIN:VEVENT
DTSTART;TZID=America/Los_Angeles:20250227T113000
DTEND;TZID=America/Los_Angeles:20250227T133000
DTSTAMP:20260425T080033
CREATED:20250204T002022Z
LAST-MODIFIED:20250204T002022Z
UID:82895-1740655800-1740663000@mvblfeast.com
SUMMARY:Stanford Research Park
DESCRIPTION:Thai Thai
URL:https://mvblfeast.com/event/scu-8/2025-02-27/
LOCATION:Stanford Research Park\, 3215 Porter Dr\, Palo Alto\, CA\, 94304\, United States
END:VEVENT
BEGIN:VEVENT
DTSTART;TZID=America/Los_Angeles:20250227T113000
DTEND;TZID=America/Los_Angeles:20250227T133000
DTSTAMP:20260425T080033
CREATED:20250204T002533Z
LAST-MODIFIED:20250204T002533Z
UID:82905-1740655800-1740663000@mvblfeast.com
SUMMARY:Pacific Shores
DESCRIPTION:WoKitchen
URL:https://mvblfeast.com/event/pacific-shores-22/
LOCATION:Pacific Shores\, 1100 Seaport Blvd\, Redwood City\, CA\, 94063\, United States
END:VEVENT
BEGIN:VEVENT
DTSTART;TZID=America/Los_Angeles:20250227T113000
DTEND;TZID=America/Los_Angeles:20250227T133000
DTSTAMP:20260425T080033
CREATED:20250226T004756Z
LAST-MODIFIED:20250226T004756Z
UID:82969-1740655800-1740663000@mvblfeast.com
SUMMARY:Stanford Research Park
DESCRIPTION:3 Brothers Kitchen
URL:https://mvblfeast.com/event/scu-8/2025-02-27/
LOCATION:Stanford Research Park\, 3215 Porter Dr\, Palo Alto\, CA\, 94304\, United States
END:VEVENT
BEGIN:VEVENT
DTSTART;TZID=America/Los_Angeles:20250227T113000
DTEND;TZID=America/Los_Angeles:20250227T133000
DTSTAMP:20260425T080033
CREATED:20250226T004852Z
LAST-MODIFIED:20250226T004852Z
UID:82970-1740655800-1740663000@mvblfeast.com
SUMMARY:Stanford Research Park
DESCRIPTION:Fresh Catch Poke
URL:https://mvblfeast.com/event/scu-8/2025-02-27/
LOCATION:Stanford Research Park\, 3215 Porter Dr\, Palo Alto\, CA\, 94304\, United States
END:VEVENT
BEGIN:VEVENT
DTSTART;TZID=America/Los_Angeles:20250227T113000
DTEND;TZID=America/Los_Angeles:20250227T133000
DTSTAMP:20260425T080033
CREATED:20250226T004959Z
LAST-MODIFIED:20250226T004959Z
UID:82971-1740655800-1740663000@mvblfeast.com
SUMMARY:Stanford Research Park
DESCRIPTION:Sam’s Chowdermobile
URL:https://mvblfeast.com/event/scu-8/2025-02-27/
LOCATION:Stanford Research Park\, 3215 Porter Dr\, Palo Alto\, CA\, 94304\, United States
END:VEVENT
BEGIN:VEVENT
DTSTART;TZID=America/Los_Angeles:20250304T113000
DTEND;TZID=America/Los_Angeles:20250304T133000
DTSTAMP:20260425T080033
CREATED:20241219T011400Z
LAST-MODIFIED:20241219T011400Z
UID:82629-1741087800-1741095000@mvblfeast.com
SUMMARY:Riverpark Towers
DESCRIPTION:
URL:https://mvblfeast.com/event/riverpark-towers-14-2025-03-04/
LOCATION:Riverpark Towers\, 333 West San Carlos St\, San Jose\, CA\, 95110\, United States
END:VEVENT
BEGIN:VEVENT
DTSTART;TZID=America/Los_Angeles:20250304T113000
DTEND;TZID=America/Los_Angeles:20250304T133000
DTSTAMP:20260425T080033
CREATED:20250225T234327Z
LAST-MODIFIED:20250225T234327Z
UID:82933-1741087800-1741095000@mvblfeast.com
SUMMARY:Pacific Shores
DESCRIPTION:Oaxacan Kitchen
URL:https://mvblfeast.com/event/pacific-shores-23/
LOCATION:Pacific Shores\, 1100 Seaport Blvd\, Redwood City\, CA\, 94063\, United States
END:VEVENT
END:VCALENDAR