BEGIN:VCALENDAR
VERSION:2.0
PRODID:-//Moveable Feast - ECPv6.15.13//NONSGML v1.0//EN
CALSCALE:GREGORIAN
METHOD:PUBLISH
X-WR-CALNAME:Moveable Feast
X-ORIGINAL-URL:https://mvblfeast.com
X-WR-CALDESC:Events for Moveable Feast
REFRESH-INTERVAL;VALUE=DURATION:PT1H
X-Robots-Tag:noindex
X-PUBLISHED-TTL:PT1H
BEGIN:VTIMEZONE
TZID:America/Los_Angeles
BEGIN:DAYLIGHT
TZOFFSETFROM:-0800
TZOFFSETTO:-0700
TZNAME:PDT
DTSTART:20230312T100000
END:DAYLIGHT
BEGIN:STANDARD
TZOFFSETFROM:-0700
TZOFFSETTO:-0800
TZNAME:PST
DTSTART:20231105T090000
END:STANDARD
BEGIN:DAYLIGHT
TZOFFSETFROM:-0800
TZOFFSETTO:-0700
TZNAME:PDT
DTSTART:20240310T100000
END:DAYLIGHT
BEGIN:STANDARD
TZOFFSETFROM:-0700
TZOFFSETTO:-0800
TZNAME:PST
DTSTART:20241103T090000
END:STANDARD
BEGIN:DAYLIGHT
TZOFFSETFROM:-0800
TZOFFSETTO:-0700
TZNAME:PDT
DTSTART:20250309T100000
END:DAYLIGHT
BEGIN:STANDARD
TZOFFSETFROM:-0700
TZOFFSETTO:-0800
TZNAME:PST
DTSTART:20251102T090000
END:STANDARD
END:VTIMEZONE
BEGIN:VEVENT
DTSTART;TZID=America/Los_Angeles:20240903T113000
DTEND;TZID=America/Los_Angeles:20240903T133000
DTSTAMP:20260425T040429
CREATED:20231219T013330Z
LAST-MODIFIED:20231220T002929Z
UID:81174-1725363000-1725370200@mvblfeast.com
SUMMARY:Pacific Shores
DESCRIPTION:
URL:https://mvblfeast.com/event/pacific-shores-2-2024-01-11/2024-09-03/
LOCATION:Pacific Shores\, 1100 Seaport Blvd\, Redwood City\, CA\, 94063\, United States
END:VEVENT
BEGIN:VEVENT
DTSTART;TZID=America/Los_Angeles:20240829T113000
DTEND;TZID=America/Los_Angeles:20240829T133000
DTSTAMP:20260425T040429
CREATED:20231219T013330Z
LAST-MODIFIED:20231220T002929Z
UID:81173-1724931000-1724938200@mvblfeast.com
SUMMARY:Pacific Shores
DESCRIPTION:
URL:https://mvblfeast.com/event/pacific-shores-2-2024-01-11/2024-08-29/
LOCATION:Pacific Shores\, 1100 Seaport Blvd\, Redwood City\, CA\, 94063\, United States
END:VEVENT
BEGIN:VEVENT
DTSTART;TZID=America/Los_Angeles:20240827T113000
DTEND;TZID=America/Los_Angeles:20240827T133000
DTSTAMP:20260425T040429
CREATED:20231219T013330Z
LAST-MODIFIED:20231220T002929Z
UID:81172-1724758200-1724765400@mvblfeast.com
SUMMARY:Pacific Shores
DESCRIPTION:
URL:https://mvblfeast.com/event/pacific-shores-2-2024-01-11/2024-08-27/
LOCATION:Pacific Shores\, 1100 Seaport Blvd\, Redwood City\, CA\, 94063\, United States
END:VEVENT
BEGIN:VEVENT
DTSTART;TZID=America/Los_Angeles:20240825T120000
DTEND;TZID=America/Los_Angeles:20240825T190000
DTSTAMP:20260425T040429
CREATED:20240809T014125Z
LAST-MODIFIED:20240809T014125Z
UID:82334-1724587200-1724612400@mvblfeast.com
SUMMARY:Westside Feast Fest
DESCRIPTION:Get ready for a creative packed weekend at Westside Feast Fest on August 24-25\, 2024! Moveable Feast with it’s sister company San José Made bring you the ultimate outdoor foodie and craft experience. Over 100+ incredible makers\, artists\, designers\, and artisans\, plus your favorite food trucks\, street food stalls\, and specialty drink vendors\, all in one place. It’s more than just an event—it’s a celebration of creativity\, community\, and culinary delights you won’t want to miss!.WESTSIDE FEAST FESTPresented by Moveable Feast & San Jose Made Westgate Center // 1600 Saratoga Ave\, San José\, CA Exterior Parking lot facing 49ers Fit Gym Sat Aug 24th & Sun Aug 25th // 12 PM – 7 PM Free Admission // All Ages Welcome Parking Available OnsiteFor Updates\, Follow Our Socials on Instagram\ninstagram.com/mvblfeast\ninstagram.com/sjmade\n. Food\, Snack\, & Drink Vendors –3 Hermanos Mexican Grill // Aki Drinks // Barya Kitchen // BBQ Kalbi // Better Butter Bakes // Blissful Bites // Bluey & Co // Bun Me Up // Chubbys Chick’n // Derptiles Cafe // DRAE’S LEMONADE // Eats Cha! Cha! Cha! // Fairy Bites // Four Zero Ate // Fresh Catch Poke // Gim Belly // Grillzilla // Hijau Coffee // Hot Boi Chili Oil // I Love Cheesesteak // Kimoy // La Chinita Baker // La Panda by Christopher Bakery // Liang’s Village // Mango Blossom Apiary // Nha Cafe // Nokki Farm // Not Too Sweets // Poke Braddahs // Red Chili // Rib Pire // Road Dogs // Snowtime // Sticky Thai // Street Stix // Sweeter Than Honey Bakery // Sweetly Cali Desserts // Takoz Mod Mex // Thai Thai // The Kimoy Chamoy // WoKitchen // Xot Belong. Artist & Maker Vendors –9 Lunas Accessories // A Jar of Pickles // A.L.M The Studio // AiTsuki Art // AJNA California // AnnGoo Nails // Bananasplitlilly // Bay and Laurel // BeadsNShine // Bella Terra Bliss // Buppydogs // Candy Paint Cafe // CasaPlants Bay Area // Ceramics By Jane // CharmJoy // Chibi Oneechan // Childlyish Art // Clay Meadow // CloverLeafPie // Collision Boutique // Cosmic Emigre // crochetwhispers // CrowzDesignz // CY Press-on Nails // DBC Customs // Dezireecustoms // DKDKPOP // Effervessa // Eternal Trinket // Exhilo Studio // Faultedlines // Fossil Forager // Girthybobastraw // Golden Lemon Studio // Gwennie Girl Design // Happy Goods // Ivy’s Wire Wrap // Jale // JayEm Boutique // Jellybee Jewelry // Jett and Shannon // Jodi408 // Kyla Camille Candles // kyutepastry // La Meno // La Paloma Imports // Leila’s Divine Designs // Linda’s Craft Book // Little Rocker Clothing // Loafly Catfé // Lumee Candles // Mahal Scent // maomii // Midori Chan // Mind Killer Art // MiniDes // Moon&Stone // Nen // One Grain Art Studio // Painting With James // Paper Stash Creations // Peachirou // Peachisekai // Pearlfect Craft // PepperCut Studio // Philosofia Designs // PHsstore // PSPaintedStyle // RDDsucculents // Rehana is Crafty // Ronin Decals // Samali Perfumes // Smol Tiger Studio // SmolPrints // Squishy’s Studio Shop // Star River Candle // Stitches By Tiff // SugoiiSlaps // Sunflower Studio // TalkingThyme // tevanaa // The Dragon Kitty Store // The Hungry Sloth // The Ponnery // The Quiet Few // TuftWonderfulLand // Ultra Rare Club // Vibes Bodega // Voyager Leather Crafts // woodymakesthings // Yours Truly Mary Anne // Yuzu Leaf // Zaylia // Zilverdew.L
URL:https://mvblfeast.com/event/westside-feast-fest/2024-08-25/
LOCATION:Westgate Center\, 1600 Saratoga Ave\, San Jose\, CA\, 95129\, United States
ATTACH;FMTTYPE=image/webp:https://mvblfeast.com/wp-content/uploads/2024/08/WSFF-eventcover.webp
END:VEVENT
BEGIN:VEVENT
DTSTART;TZID=America/Los_Angeles:20240824T120000
DTEND;TZID=America/Los_Angeles:20240824T190000
DTSTAMP:20260425T040429
CREATED:20240809T014125Z
LAST-MODIFIED:20240809T014125Z
UID:82329-1724500800-1724526000@mvblfeast.com
SUMMARY:Westside Feast Fest
DESCRIPTION:Get ready for a creative packed weekend at Westside Feast Fest on August 24-25\, 2024! Moveable Feast with it’s sister company San José Made bring you the ultimate outdoor foodie and craft experience. Over 100+ incredible makers\, artists\, designers\, and artisans\, plus your favorite food trucks\, street food stalls\, and specialty drink vendors\, all in one place. It’s more than just an event—it’s a celebration of creativity\, community\, and culinary delights you won’t want to miss!.WESTSIDE FEAST FESTPresented by Moveable Feast & San Jose Made Westgate Center // 1600 Saratoga Ave\, San José\, CA Exterior Parking lot facing 49ers Fit Gym Sat Aug 24th & Sun Aug 25th // 12 PM – 7 PM Free Admission // All Ages Welcome Parking Available OnsiteFor Updates\, Follow Our Socials on Instagram\ninstagram.com/mvblfeast\ninstagram.com/sjmade\n. Food\, Snack\, & Drink Vendors –3 Hermanos Mexican Grill // Aki Drinks // Barya Kitchen // BBQ Kalbi // Better Butter Bakes // Blissful Bites // Bluey & Co // Bun Me Up // Chubbys Chick’n // Derptiles Cafe // DRAE’S LEMONADE // Eats Cha! Cha! Cha! // Fairy Bites // Four Zero Ate // Fresh Catch Poke // Gim Belly // Grillzilla // Hijau Coffee // Hot Boi Chili Oil // I Love Cheesesteak // Kimoy // La Chinita Baker // La Panda by Christopher Bakery // Liang’s Village // Mango Blossom Apiary // Nha Cafe // Nokki Farm // Not Too Sweets // Poke Braddahs // Red Chili // Rib Pire // Road Dogs // Snowtime // Sticky Thai // Street Stix // Sweeter Than Honey Bakery // Sweetly Cali Desserts // Takoz Mod Mex // Thai Thai // The Kimoy Chamoy // WoKitchen // Xot Belong. Artist & Maker Vendors –9 Lunas Accessories // A Jar of Pickles // A.L.M The Studio // AiTsuki Art // AJNA California // AnnGoo Nails // Bananasplitlilly // Bay and Laurel // BeadsNShine // Bella Terra Bliss // Buppydogs // Candy Paint Cafe // CasaPlants Bay Area // Ceramics By Jane // CharmJoy // Chibi Oneechan // Childlyish Art // Clay Meadow // CloverLeafPie // Collision Boutique // Cosmic Emigre // crochetwhispers // CrowzDesignz // CY Press-on Nails // DBC Customs // Dezireecustoms // DKDKPOP // Effervessa // Eternal Trinket // Exhilo Studio // Faultedlines // Fossil Forager // Girthybobastraw // Golden Lemon Studio // Gwennie Girl Design // Happy Goods // Ivy’s Wire Wrap // Jale // JayEm Boutique // Jellybee Jewelry // Jett and Shannon // Jodi408 // Kyla Camille Candles // kyutepastry // La Meno // La Paloma Imports // Leila’s Divine Designs // Linda’s Craft Book // Little Rocker Clothing // Loafly Catfé // Lumee Candles // Mahal Scent // maomii // Midori Chan // Mind Killer Art // MiniDes // Moon&Stone // Nen // One Grain Art Studio // Painting With James // Paper Stash Creations // Peachirou // Peachisekai // Pearlfect Craft // PepperCut Studio // Philosofia Designs // PHsstore // PSPaintedStyle // RDDsucculents // Rehana is Crafty // Ronin Decals // Samali Perfumes // Smol Tiger Studio // SmolPrints // Squishy’s Studio Shop // Star River Candle // Stitches By Tiff // SugoiiSlaps // Sunflower Studio // TalkingThyme // tevanaa // The Dragon Kitty Store // The Hungry Sloth // The Ponnery // The Quiet Few // TuftWonderfulLand // Ultra Rare Club // Vibes Bodega // Voyager Leather Crafts // woodymakesthings // Yours Truly Mary Anne // Yuzu Leaf // Zaylia // Zilverdew.L
URL:https://mvblfeast.com/event/westside-feast-fest/2024-08-24/
LOCATION:Westgate Center\, 1600 Saratoga Ave\, San Jose\, CA\, 95129\, United States
ATTACH;FMTTYPE=image/webp:https://mvblfeast.com/wp-content/uploads/2024/08/WSFF-eventcover.webp
END:VEVENT
BEGIN:VEVENT
DTSTART;TZID=America/Los_Angeles:20240822T113000
DTEND;TZID=America/Los_Angeles:20240822T133000
DTSTAMP:20260425T040429
CREATED:20231219T013330Z
LAST-MODIFIED:20231220T002928Z
UID:81171-1724326200-1724333400@mvblfeast.com
SUMMARY:Pacific Shores
DESCRIPTION:
URL:https://mvblfeast.com/event/pacific-shores-2-2024-01-11/2024-08-22/
LOCATION:Pacific Shores\, 1100 Seaport Blvd\, Redwood City\, CA\, 94063\, United States
END:VEVENT
BEGIN:VEVENT
DTSTART;TZID=America/Los_Angeles:20240820T113000
DTEND;TZID=America/Los_Angeles:20240820T133000
DTSTAMP:20260425T040429
CREATED:20231219T013330Z
LAST-MODIFIED:20231220T002928Z
UID:81170-1724153400-1724160600@mvblfeast.com
SUMMARY:Pacific Shores
DESCRIPTION:
URL:https://mvblfeast.com/event/pacific-shores-2-2024-01-11/2024-08-20/
LOCATION:Pacific Shores\, 1100 Seaport Blvd\, Redwood City\, CA\, 94063\, United States
END:VEVENT
BEGIN:VEVENT
DTSTART;TZID=America/Los_Angeles:20240815T113000
DTEND;TZID=America/Los_Angeles:20240815T133000
DTSTAMP:20260425T040429
CREATED:20231219T013330Z
LAST-MODIFIED:20231220T002928Z
UID:81169-1723721400-1723728600@mvblfeast.com
SUMMARY:Pacific Shores
DESCRIPTION:
URL:https://mvblfeast.com/event/pacific-shores-2-2024-01-11/2024-08-15/
LOCATION:Pacific Shores\, 1100 Seaport Blvd\, Redwood City\, CA\, 94063\, United States
END:VEVENT
BEGIN:VEVENT
DTSTART;TZID=America/Los_Angeles:20240813T113000
DTEND;TZID=America/Los_Angeles:20240813T133000
DTSTAMP:20260425T040429
CREATED:20231219T013330Z
LAST-MODIFIED:20231220T002928Z
UID:81168-1723548600-1723555800@mvblfeast.com
SUMMARY:Pacific Shores
DESCRIPTION:
URL:https://mvblfeast.com/event/pacific-shores-2-2024-01-11/2024-08-13/
LOCATION:Pacific Shores\, 1100 Seaport Blvd\, Redwood City\, CA\, 94063\, United States
END:VEVENT
BEGIN:VEVENT
DTSTART;TZID=America/Los_Angeles:20240808T113000
DTEND;TZID=America/Los_Angeles:20240808T133000
DTSTAMP:20260425T040429
CREATED:20231219T013330Z
LAST-MODIFIED:20231220T002928Z
UID:81167-1723116600-1723123800@mvblfeast.com
SUMMARY:Pacific Shores
DESCRIPTION:
URL:https://mvblfeast.com/event/pacific-shores-2-2024-01-11/2024-08-08/
LOCATION:Pacific Shores\, 1100 Seaport Blvd\, Redwood City\, CA\, 94063\, United States
END:VEVENT
BEGIN:VEVENT
DTSTART;TZID=America/Los_Angeles:20240730T113000
DTEND;TZID=America/Los_Angeles:20240730T133000
DTSTAMP:20260425T040429
CREATED:20240703T015017Z
LAST-MODIFIED:20240703T015017Z
UID:82142-1722339000-1722346200@mvblfeast.com
SUMMARY:SMBC POD
DESCRIPTION:Akita Sushi
URL:https://mvblfeast.com/event/smbc-pod-2/
LOCATION:San Mateo Base Center\, 901 Mariners Blvd\, San Mateo\, CA\, 94404\, United States
END:VEVENT
BEGIN:VEVENT
DTSTART;TZID=America/Los_Angeles:20240730T113000
DTEND;TZID=America/Los_Angeles:20240730T133000
DTSTAMP:20260425T040429
CREATED:20231219T013330Z
LAST-MODIFIED:20240703T013851Z
UID:81164-1722339000-1722346200@mvblfeast.com
SUMMARY:Pacific Shores
DESCRIPTION:Picnic Basket
URL:https://mvblfeast.com/event/pacific-shores-2-2024-07-30/
LOCATION:Pacific Shores\, 1100 Seaport Blvd\, Redwood City\, CA\, 94063\, United States
END:VEVENT
BEGIN:VEVENT
DTSTART;TZID=America/Los_Angeles:20240727T160000
DTEND;TZID=America/Los_Angeles:20240727T220000
DTSTAMP:20260425T040429
CREATED:20240724T223132Z
LAST-MODIFIED:20240724T223217Z
UID:82287-1722096000-1722117600@mvblfeast.com
SUMMARY:Story Road Night Market
DESCRIPTION:Free Admission\nAll Ages Welcome\n21+ to Purchase Beer\nFood Vendors\nFood Trucks\nMakers & Artists\nCommunity Organizations
URL:https://mvblfeast.com/event/story-road-night-market-2/
LOCATION:Story Road Night Market\, 1111 Story Road\, San Jose\, CA\, 95122\, United States
END:VEVENT
BEGIN:VEVENT
DTSTART;TZID=America/Los_Angeles:20240726T160000
DTEND;TZID=America/Los_Angeles:20240726T220000
DTSTAMP:20260425T040429
CREATED:20240724T223103Z
LAST-MODIFIED:20240724T223234Z
UID:82285-1722009600-1722031200@mvblfeast.com
SUMMARY:Story Road Night Market
DESCRIPTION:Free Admission\nAll Ages Welcome\n21+ to Purchase Beer\nFood Vendors\nFood Trucks\nMakers & Artists\nCommunity Organizations
URL:https://mvblfeast.com/event/story-road-night-market/
LOCATION:Story Road Night Market\, 1111 Story Road\, San Jose\, CA\, 95122\, United States
END:VEVENT
BEGIN:VEVENT
DTSTART;TZID=America/Los_Angeles:20240725T113000
DTEND;TZID=America/Los_Angeles:20240725T133000
DTSTAMP:20260425T040429
CREATED:20240703T014741Z
LAST-MODIFIED:20240703T014741Z
UID:82138-1721907000-1721914200@mvblfeast.com
SUMMARY:Quad POD
DESCRIPTION:I Love Cheesesteak
URL:https://mvblfeast.com/event/quad-pod-16/
LOCATION:Quad POD\, 3005 Tasman Dr\, Santa Clara\, CA\, 95054\, United States
END:VEVENT
BEGIN:VEVENT
DTSTART;TZID=America/Los_Angeles:20240725T113000
DTEND;TZID=America/Los_Angeles:20240725T133000
DTSTAMP:20260425T040429
CREATED:20240703T014524Z
LAST-MODIFIED:20240703T014524Z
UID:82132-1721907000-1721914200@mvblfeast.com
SUMMARY:Riverpark Towers
DESCRIPTION:I Love Cheesesteak
URL:https://mvblfeast.com/event/riverpark-towers-10/
LOCATION:Riverpark Towers\, 333 West San Carlos St\, San Jose\, CA\, 95110\, United States
END:VEVENT
BEGIN:VEVENT
DTSTART;TZID=America/Los_Angeles:20240725T113000
DTEND;TZID=America/Los_Angeles:20240725T133000
DTSTAMP:20260425T040429
CREATED:20231219T013330Z
LAST-MODIFIED:20240703T013832Z
UID:81163-1721907000-1721914200@mvblfeast.com
SUMMARY:Pacific Shores
DESCRIPTION:Los Kuyas
URL:https://mvblfeast.com/event/pacific-shores-2-2024-07-25/
LOCATION:Pacific Shores\, 1100 Seaport Blvd\, Redwood City\, CA\, 94063\, United States
END:VEVENT
BEGIN:VEVENT
DTSTART;TZID=America/Los_Angeles:20240723T113000
DTEND;TZID=America/Los_Angeles:20240723T133000
DTSTAMP:20260425T040429
CREATED:20231219T013330Z
LAST-MODIFIED:20240703T013814Z
UID:81162-1721734200-1721741400@mvblfeast.com
SUMMARY:Pacific Shores
DESCRIPTION:Grillman
URL:https://mvblfeast.com/event/pacific-shores-2-2024-07-23/
LOCATION:Pacific Shores\, 1100 Seaport Blvd\, Redwood City\, CA\, 94063\, United States
END:VEVENT
BEGIN:VEVENT
DTSTART;TZID=America/Los_Angeles:20240718T113000
DTEND;TZID=America/Los_Angeles:20240718T133000
DTSTAMP:20260425T040429
CREATED:20240703T014715Z
LAST-MODIFIED:20240703T014715Z
UID:82137-1721302200-1721309400@mvblfeast.com
SUMMARY:Quad POD
DESCRIPTION:Picnic Basket
URL:https://mvblfeast.com/event/quad-pod-15/
LOCATION:Quad POD\, 3005 Tasman Dr\, Santa Clara\, CA\, 95054\, United States
END:VEVENT
BEGIN:VEVENT
DTSTART;TZID=America/Los_Angeles:20240718T113000
DTEND;TZID=America/Los_Angeles:20240718T133000
DTSTAMP:20260425T040429
CREATED:20240703T014447Z
LAST-MODIFIED:20240703T014447Z
UID:82131-1721302200-1721309400@mvblfeast.com
SUMMARY:Riverpark Towers
DESCRIPTION:Waffle Roost
URL:https://mvblfeast.com/event/riverpark-towers-9/
LOCATION:Riverpark Towers\, 333 West San Carlos St\, San Jose\, CA\, 95110\, United States
END:VEVENT
BEGIN:VEVENT
DTSTART;TZID=America/Los_Angeles:20240718T113000
DTEND;TZID=America/Los_Angeles:20240718T133000
DTSTAMP:20260425T040429
CREATED:20231219T013330Z
LAST-MODIFIED:20240703T013758Z
UID:81161-1721302200-1721309400@mvblfeast.com
SUMMARY:Pacific Shores
DESCRIPTION:I Love Cheesesteak
URL:https://mvblfeast.com/event/pacific-shores-2-2024-07-18/
LOCATION:Pacific Shores\, 1100 Seaport Blvd\, Redwood City\, CA\, 94063\, United States
END:VEVENT
BEGIN:VEVENT
DTSTART;TZID=America/Los_Angeles:20240717T113000
DTEND;TZID=America/Los_Angeles:20240717T133000
DTSTAMP:20260425T040429
CREATED:20240703T014307Z
LAST-MODIFIED:20240703T014307Z
UID:82128-1721215800-1721223000@mvblfeast.com
SUMMARY:PAL POD
DESCRIPTION:Grillman
URL:https://mvblfeast.com/event/pal-pod-12/
LOCATION:PAL Pod\, 1800 Embarcadero Rd\, Palo Alto\, CA\, 94303\, United States
END:VEVENT
BEGIN:VEVENT
DTSTART;TZID=America/Los_Angeles:20240717T113000
DTEND;TZID=America/Los_Angeles:20240717T133000
DTSTAMP:20260425T040429
CREATED:20240703T014221Z
LAST-MODIFIED:20240703T014221Z
UID:82126-1721215800-1721223000@mvblfeast.com
SUMMARY:Redwood Shores
DESCRIPTION:WoKitchen
URL:https://mvblfeast.com/event/redwood-shores-7/
LOCATION:Redwood Shores\, 1300 Island Drive\, Redwood City\, CA\, 94065\, United States
END:VEVENT
BEGIN:VEVENT
DTSTART;TZID=America/Los_Angeles:20240716T113000
DTEND;TZID=America/Los_Angeles:20240716T133000
DTSTAMP:20260425T040429
CREATED:20240703T014101Z
LAST-MODIFIED:20240703T014101Z
UID:82124-1721129400-1721136600@mvblfeast.com
SUMMARY:Parkside Towers
DESCRIPTION:Grillzillas
URL:https://mvblfeast.com/event/parkside-towers-20/
LOCATION:Parkside Towers\, 1031 E Hillsdale Blvd\, Foster City\, CA\, 94404\, United States
END:VEVENT
BEGIN:VEVENT
DTSTART;TZID=America/Los_Angeles:20240716T113000
DTEND;TZID=America/Los_Angeles:20240716T133000
DTSTAMP:20260425T040429
CREATED:20231219T013330Z
LAST-MODIFIED:20240703T013631Z
UID:81160-1721129400-1721136600@mvblfeast.com
SUMMARY:Pacific Shores
DESCRIPTION:Akita Sushi
URL:https://mvblfeast.com/event/pacific-shores-2-2024-07-16/
LOCATION:Pacific Shores\, 1100 Seaport Blvd\, Redwood City\, CA\, 94063\, United States
END:VEVENT
BEGIN:VEVENT
DTSTART;TZID=America/Los_Angeles:20240711T113000
DTEND;TZID=America/Los_Angeles:20240711T133000
DTSTAMP:20260425T040429
CREATED:20240703T014643Z
LAST-MODIFIED:20240703T014643Z
UID:82136-1720697400-1720704600@mvblfeast.com
SUMMARY:Quad POD
DESCRIPTION:Chula Puebla
URL:https://mvblfeast.com/event/quad-pod-14/
LOCATION:Quad POD\, 3005 Tasman Dr\, Santa Clara\, CA\, 95054\, United States
END:VEVENT
BEGIN:VEVENT
DTSTART;TZID=America/Los_Angeles:20240711T113000
DTEND;TZID=America/Los_Angeles:20240711T133000
DTSTAMP:20260425T040429
CREATED:20240703T014412Z
LAST-MODIFIED:20240703T014412Z
UID:82130-1720697400-1720704600@mvblfeast.com
SUMMARY:Riverpark Towers
DESCRIPTION:Twister/Rolling Duck
URL:https://mvblfeast.com/event/riverpark-towers-8/
LOCATION:Riverpark Towers\, 333 West San Carlos St\, San Jose\, CA\, 95110\, United States
END:VEVENT
BEGIN:VEVENT
DTSTART;TZID=America/Los_Angeles:20240711T113000
DTEND;TZID=America/Los_Angeles:20240711T133000
DTSTAMP:20260425T040429
CREATED:20231219T013330Z
LAST-MODIFIED:20240703T013734Z
UID:81159-1720697400-1720704600@mvblfeast.com
SUMMARY:Pacific Shores
DESCRIPTION:Curveball
URL:https://mvblfeast.com/event/pacific-shores-2-2024-07-11/
LOCATION:Pacific Shores\, 1100 Seaport Blvd\, Redwood City\, CA\, 94063\, United States
END:VEVENT
BEGIN:VEVENT
DTSTART;TZID=America/Los_Angeles:20240709T113000
DTEND;TZID=America/Los_Angeles:20240709T133000
DTSTAMP:20260425T040429
CREATED:20231219T013330Z
LAST-MODIFIED:20240703T013712Z
UID:81158-1720524600-1720531800@mvblfeast.com
SUMMARY:Pacific Shores
DESCRIPTION:El Paisa by Los Alegres
URL:https://mvblfeast.com/event/pacific-shores-2-2024-07-09/
LOCATION:Pacific Shores\, 1100 Seaport Blvd\, Redwood City\, CA\, 94063\, United States
END:VEVENT
BEGIN:VEVENT
DTSTART;TZID=America/Los_Angeles:20240702T113000
DTEND;TZID=America/Los_Angeles:20240702T133000
DTSTAMP:20260425T040429
CREATED:20231219T013330Z
LAST-MODIFIED:20240703T013647Z
UID:81156-1719919800-1719927000@mvblfeast.com
SUMMARY:Pacific Shores
DESCRIPTION:Bobcha
URL:https://mvblfeast.com/event/pacific-shores-2-2024-07-02/
LOCATION:Pacific Shores\, 1100 Seaport Blvd\, Redwood City\, CA\, 94063\, United States
END:VEVENT
END:VCALENDAR