BEGIN:VCALENDAR
VERSION:2.0
PRODID:-//Moveable Feast - ECPv6.15.13//NONSGML v1.0//EN
CALSCALE:GREGORIAN
METHOD:PUBLISH
X-WR-CALNAME:Moveable Feast
X-ORIGINAL-URL:https://mvblfeast.com
X-WR-CALDESC:Events for Moveable Feast
REFRESH-INTERVAL;VALUE=DURATION:PT1H
X-Robots-Tag:noindex
X-PUBLISHED-TTL:PT1H
BEGIN:VTIMEZONE
TZID:America/Los_Angeles
BEGIN:DAYLIGHT
TZOFFSETFROM:-0800
TZOFFSETTO:-0700
TZNAME:PDT
DTSTART:20220313T100000
END:DAYLIGHT
BEGIN:STANDARD
TZOFFSETFROM:-0700
TZOFFSETTO:-0800
TZNAME:PST
DTSTART:20221106T090000
END:STANDARD
BEGIN:DAYLIGHT
TZOFFSETFROM:-0800
TZOFFSETTO:-0700
TZNAME:PDT
DTSTART:20230312T100000
END:DAYLIGHT
BEGIN:STANDARD
TZOFFSETFROM:-0700
TZOFFSETTO:-0800
TZNAME:PST
DTSTART:20231105T090000
END:STANDARD
BEGIN:DAYLIGHT
TZOFFSETFROM:-0800
TZOFFSETTO:-0700
TZNAME:PDT
DTSTART:20240310T100000
END:DAYLIGHT
BEGIN:STANDARD
TZOFFSETFROM:-0700
TZOFFSETTO:-0800
TZNAME:PST
DTSTART:20241103T090000
END:STANDARD
END:VTIMEZONE
BEGIN:VEVENT
DTSTART;TZID=America/Los_Angeles:20231025T100000
DTEND;TZID=America/Los_Angeles:20231025T140000
DTSTAMP:20260425T192003
CREATED:20231010T005053Z
LAST-MODIFIED:20231010T005217Z
UID:80923-1698228000-1698242400@mvblfeast.com
SUMMARY:SCU Pod
DESCRIPTION:Akita Sushi
URL:https://mvblfeast.com/event/scu-pod-2-2023-10-25/
LOCATION:Santa Clara University\, 500 El Camino Real\, Santa Clara\, CA\, 95050\, United States
END:VEVENT
BEGIN:VEVENT
DTSTART;TZID=America/Los_Angeles:20231024T113000
DTEND;TZID=America/Los_Angeles:20231024T133000
DTSTAMP:20260425T192003
CREATED:20231010T003755Z
LAST-MODIFIED:20231010T003957Z
UID:80864-1698147000-1698154200@mvblfeast.com
SUMMARY:Parkside Towers
DESCRIPTION:Golden Gate Gyro
URL:https://mvblfeast.com/event/parkside-towers-13-2023-10-24/
LOCATION:Parkside Towers\, 1031 E Hillsdale Blvd\, Foster City\, CA\, 94404\, United States
END:VEVENT
BEGIN:VEVENT
DTSTART;TZID=America/Los_Angeles:20231024T113000
DTEND;TZID=America/Los_Angeles:20231024T130000
DTSTAMP:20260425T192003
CREATED:20230131T222540Z
LAST-MODIFIED:20231009T234538Z
UID:77779-1698147000-1698152400@mvblfeast.com
SUMMARY:Pacific Shores
DESCRIPTION:Waffle Roost
URL:https://mvblfeast.com/event/pacific-shores-2023-10-24/
LOCATION:Pacific Shores\, 1100 Seaport Blvd\, Redwood City\, CA\, 94063\, United States
END:VEVENT
BEGIN:VEVENT
DTSTART;TZID=America/Los_Angeles:20231019T113000
DTEND;TZID=America/Los_Angeles:20231019T133000
DTSTAMP:20260425T192003
CREATED:20231010T004134Z
LAST-MODIFIED:20231010T004644Z
UID:80899-1697715000-1697722200@mvblfeast.com
SUMMARY:Quad Pod
DESCRIPTION:BBQ Kalbi
URL:https://mvblfeast.com/event/quad-pod-5-2023-10-19-2/
LOCATION:Quad POD\, 3005 Tasman Dr\, Santa Clara\, CA\, 95054\, United States
END:VEVENT
BEGIN:VEVENT
DTSTART;TZID=America/Los_Angeles:20231019T113000
DTEND;TZID=America/Los_Angeles:20231019T130000
DTSTAMP:20260425T192003
CREATED:20230131T222540Z
LAST-MODIFIED:20231009T234525Z
UID:77778-1697715000-1697720400@mvblfeast.com
SUMMARY:Pacific Shores
DESCRIPTION:Picnic Basket
URL:https://mvblfeast.com/event/pacific-shores-2023-10-19/
LOCATION:Pacific Shores\, 1100 Seaport Blvd\, Redwood City\, CA\, 94063\, United States
END:VEVENT
BEGIN:VEVENT
DTSTART;TZID=America/Los_Angeles:20231018T113000
DTEND;TZID=America/Los_Angeles:20231018T133000
DTSTAMP:20260425T192003
CREATED:20231010T004842Z
LAST-MODIFIED:20231010T004842Z
UID:80918-1697628600-1697635800@mvblfeast.com
SUMMARY:PAL Pod
DESCRIPTION:Lillie Mae’s BBQ
URL:https://mvblfeast.com/event/pal-pod-5/
LOCATION:CA
END:VEVENT
BEGIN:VEVENT
DTSTART;TZID=America/Los_Angeles:20231018T113000
DTEND;TZID=America/Los_Angeles:20231018T133000
DTSTAMP:20260425T192003
CREATED:20230131T235959Z
LAST-MODIFIED:20231010T003540Z
UID:77919-1697628600-1697635800@mvblfeast.com
SUMMARY:Redwood Shores
DESCRIPTION:Cielito Lindo
URL:https://mvblfeast.com/event/redwood-shores-2023-10-18/
LOCATION:Redwood Shores\, 1300 Island Drive\, Redwood City\, CA\, 94065\, United States
CATEGORIES:Pop Ups
END:VEVENT
BEGIN:VEVENT
DTSTART;TZID=America/Los_Angeles:20231018T100000
DTEND;TZID=America/Los_Angeles:20231018T140000
DTSTAMP:20260425T192003
CREATED:20231010T005053Z
LAST-MODIFIED:20231010T005155Z
UID:80922-1697623200-1697637600@mvblfeast.com
SUMMARY:SCU Pod
DESCRIPTION:I Love Cheesesteak
URL:https://mvblfeast.com/event/scu-pod-2-2023-10-18/
LOCATION:Santa Clara University\, 500 El Camino Real\, Santa Clara\, CA\, 95050\, United States
END:VEVENT
BEGIN:VEVENT
DTSTART;TZID=America/Los_Angeles:20231017T113000
DTEND;TZID=America/Los_Angeles:20231017T133000
DTSTAMP:20260425T192003
CREATED:20231010T003755Z
LAST-MODIFIED:20231010T003934Z
UID:80863-1697542200-1697549400@mvblfeast.com
SUMMARY:Parkside Towers
DESCRIPTION:Sam’s Chowdermobile
URL:https://mvblfeast.com/event/parkside-towers-13-2023-10-17/
LOCATION:Parkside Towers\, 1031 E Hillsdale Blvd\, Foster City\, CA\, 94404\, United States
END:VEVENT
BEGIN:VEVENT
DTSTART;TZID=America/Los_Angeles:20231017T113000
DTEND;TZID=America/Los_Angeles:20231017T130000
DTSTAMP:20260425T192003
CREATED:20230131T222540Z
LAST-MODIFIED:20231009T234507Z
UID:77777-1697542200-1697547600@mvblfeast.com
SUMMARY:Pacific Shores
DESCRIPTION:Hongry Kong
URL:https://mvblfeast.com/event/pacific-shores-2023-10-17/
LOCATION:Pacific Shores\, 1100 Seaport Blvd\, Redwood City\, CA\, 94063\, United States
END:VEVENT
BEGIN:VEVENT
DTSTART;TZID=America/Los_Angeles:20231012T113000
DTEND;TZID=America/Los_Angeles:20231012T133000
DTSTAMP:20260425T192003
CREATED:20231010T004134Z
LAST-MODIFIED:20231010T004633Z
UID:80882-1697110200-1697117400@mvblfeast.com
SUMMARY:Quad Pod
DESCRIPTION:Road Dogs
URL:https://mvblfeast.com/event/quad-pod-5/
LOCATION:Quad POD\, 3005 Tasman Dr\, Santa Clara\, CA\, 95054\, United States
END:VEVENT
BEGIN:VEVENT
DTSTART;TZID=America/Los_Angeles:20231012T113000
DTEND;TZID=America/Los_Angeles:20231012T130000
DTSTAMP:20260425T192003
CREATED:20230131T222540Z
LAST-MODIFIED:20231009T234455Z
UID:77776-1697110200-1697115600@mvblfeast.com
SUMMARY:Pacific Shores
DESCRIPTION:Bobcha
URL:https://mvblfeast.com/event/pacific-shores-2023-10-12/
LOCATION:Pacific Shores\, 1100 Seaport Blvd\, Redwood City\, CA\, 94063\, United States
END:VEVENT
BEGIN:VEVENT
DTSTART;TZID=America/Los_Angeles:20231011T100000
DTEND;TZID=America/Los_Angeles:20231011T140000
DTSTAMP:20260425T192003
CREATED:20231010T005053Z
LAST-MODIFIED:20231010T005201Z
UID:80920-1697018400-1697032800@mvblfeast.com
SUMMARY:SCU Pod
DESCRIPTION:Fire & Rice
URL:https://mvblfeast.com/event/scu-pod-2/
LOCATION:Santa Clara University\, 500 El Camino Real\, Santa Clara\, CA\, 95050\, United States
END:VEVENT
BEGIN:VEVENT
DTSTART;TZID=America/Los_Angeles:20231010T113000
DTEND;TZID=America/Los_Angeles:20231010T133000
DTSTAMP:20260425T192003
CREATED:20231010T003755Z
LAST-MODIFIED:20231010T003912Z
UID:80861-1696937400-1696944600@mvblfeast.com
SUMMARY:Parkside Towers
DESCRIPTION:Mr. Andrew’s Catering
URL:https://mvblfeast.com/event/parkside-towers-13/
LOCATION:Parkside Towers\, 1031 E Hillsdale Blvd\, Foster City\, CA\, 94404\, United States
END:VEVENT
BEGIN:VEVENT
DTSTART;TZID=America/Los_Angeles:20231010T113000
DTEND;TZID=America/Los_Angeles:20231010T130000
DTSTAMP:20260425T192003
CREATED:20230131T222540Z
LAST-MODIFIED:20231009T234305Z
UID:77775-1696937400-1696942800@mvblfeast.com
SUMMARY:Pacific Shores
DESCRIPTION:Twister/Rolling Duck
URL:https://mvblfeast.com/event/pacific-shores-2023-10-10/
LOCATION:Pacific Shores\, 1100 Seaport Blvd\, Redwood City\, CA\, 94063\, United States
END:VEVENT
BEGIN:VEVENT
DTSTART;TZID=America/Los_Angeles:20230928T113000
DTEND;TZID=America/Los_Angeles:20230928T133000
DTSTAMP:20260425T192003
CREATED:20230831T045621Z
LAST-MODIFIED:20230831T045844Z
UID:80827-1695900600-1695907800@mvblfeast.com
SUMMARY:Quad Pod
DESCRIPTION:I Love Cheesesteak
URL:https://mvblfeast.com/event/quad-pod-4-2023-09-28/
LOCATION:Quad POD\, 3005 Tasman Dr\, Santa Clara\, CA\, 95054\, United States
END:VEVENT
BEGIN:VEVENT
DTSTART;TZID=America/Los_Angeles:20230928T113000
DTEND;TZID=America/Los_Angeles:20230928T130000
DTSTAMP:20260425T192003
CREATED:20230131T222540Z
LAST-MODIFIED:20230831T044725Z
UID:77772-1695900600-1695906000@mvblfeast.com
SUMMARY:Pacific Shores
DESCRIPTION:Lilo’s Kitchen
URL:https://mvblfeast.com/event/pacific-shores-2023-09-28/
LOCATION:Pacific Shores\, 1100 Seaport Blvd\, Redwood City\, CA\, 94063\, United States
END:VEVENT
BEGIN:VEVENT
DTSTART;TZID=America/Los_Angeles:20230927T100000
DTEND;TZID=America/Los_Angeles:20230927T140000
DTSTAMP:20260425T192003
CREATED:20230831T050404Z
LAST-MODIFIED:20230831T050452Z
UID:80837-1695808800-1695823200@mvblfeast.com
SUMMARY:SCU Pod
DESCRIPTION:Akita Sushi
URL:https://mvblfeast.com/event/scu-pod/
LOCATION:Santa Clara University\, 500 El Camino Real\, Santa Clara\, CA\, 95050\, United States
END:VEVENT
BEGIN:VEVENT
DTSTART;TZID=America/Los_Angeles:20230926T113000
DTEND;TZID=America/Los_Angeles:20230926T133000
DTSTAMP:20260425T192003
CREATED:20230831T045127Z
LAST-MODIFIED:20230831T045316Z
UID:80811-1695727800-1695735000@mvblfeast.com
SUMMARY:Parkside Towers
DESCRIPTION:BunBao
URL:https://mvblfeast.com/event/parkside-towers-10-2023-09-26/
LOCATION:Parkside Towers\, 1031 E Hillsdale Blvd\, Foster City\, CA\, 94404\, United States
END:VEVENT
BEGIN:VEVENT
DTSTART;TZID=America/Los_Angeles:20230926T113000
DTEND;TZID=America/Los_Angeles:20230926T130000
DTSTAMP:20260425T192003
CREATED:20230131T222540Z
LAST-MODIFIED:20230831T044553Z
UID:77771-1695727800-1695733200@mvblfeast.com
SUMMARY:Pacific Shores
DESCRIPTION:I Love Cheesesteak
URL:https://mvblfeast.com/event/pacific-shores-2023-09-26/
LOCATION:Pacific Shores\, 1100 Seaport Blvd\, Redwood City\, CA\, 94063\, United States
END:VEVENT
BEGIN:VEVENT
DTSTART;TZID=America/Los_Angeles:20230921T113000
DTEND;TZID=America/Los_Angeles:20230921T133000
DTSTAMP:20260425T192003
CREATED:20230831T045941Z
LAST-MODIFIED:20230831T045941Z
UID:80835-1695295800-1695303000@mvblfeast.com
SUMMARY:PAL Pod
DESCRIPTION:I Love Cheesesteak
URL:https://mvblfeast.com/event/pal-pod-4/
LOCATION:PAL Pod\, 1800 Embarcadero Rd\, Palo Alto\, CA\, 94303\, United States
END:VEVENT
BEGIN:VEVENT
DTSTART;TZID=America/Los_Angeles:20230921T113000
DTEND;TZID=America/Los_Angeles:20230921T133000
DTSTAMP:20260425T192003
CREATED:20230831T045621Z
LAST-MODIFIED:20230831T045826Z
UID:80826-1695295800-1695303000@mvblfeast.com
SUMMARY:Quad Pod
DESCRIPTION:Old Greenwood BBQ
URL:https://mvblfeast.com/event/quad-pod-4-2023-09-21/
LOCATION:Quad POD\, 3005 Tasman Dr\, Santa Clara\, CA\, 95054\, United States
END:VEVENT
BEGIN:VEVENT
DTSTART;TZID=America/Los_Angeles:20230921T113000
DTEND;TZID=America/Los_Angeles:20230921T130000
DTSTAMP:20260425T192003
CREATED:20230131T222540Z
LAST-MODIFIED:20230831T044714Z
UID:77770-1695295800-1695301200@mvblfeast.com
SUMMARY:Pacific Shores
DESCRIPTION:Fresh Catch Poke
URL:https://mvblfeast.com/event/pacific-shores-2023-09-21/
LOCATION:Pacific Shores\, 1100 Seaport Blvd\, Redwood City\, CA\, 94063\, United States
END:VEVENT
BEGIN:VEVENT
DTSTART;TZID=America/Los_Angeles:20230920T113000
DTEND;TZID=America/Los_Angeles:20230920T133000
DTSTAMP:20260425T192003
CREATED:20230131T235959Z
LAST-MODIFIED:20230831T044847Z
UID:77915-1695209400-1695216600@mvblfeast.com
SUMMARY:Redwood Shores
DESCRIPTION:Mr. Andrew’s Catering
URL:https://mvblfeast.com/event/redwood-shores-2023-09-20/
LOCATION:Redwood Shores\, 1300 Island Drive\, Redwood City\, CA\, 94065\, United States
CATEGORIES:Pop Ups
END:VEVENT
BEGIN:VEVENT
DTSTART;TZID=America/Los_Angeles:20230919T113000
DTEND;TZID=America/Los_Angeles:20230919T133000
DTSTAMP:20260425T192003
CREATED:20230831T045127Z
LAST-MODIFIED:20230831T045301Z
UID:80810-1695123000-1695130200@mvblfeast.com
SUMMARY:Parkside Towers
DESCRIPTION:Waffle Roost
URL:https://mvblfeast.com/event/parkside-towers-10-2023-09-19/
LOCATION:Parkside Towers\, 1031 E Hillsdale Blvd\, Foster City\, CA\, 94404\, United States
END:VEVENT
BEGIN:VEVENT
DTSTART;TZID=America/Los_Angeles:20230919T113000
DTEND;TZID=America/Los_Angeles:20230919T130000
DTSTAMP:20260425T192003
CREATED:20230131T222540Z
LAST-MODIFIED:20230831T044540Z
UID:77769-1695123000-1695128400@mvblfeast.com
SUMMARY:Pacific Shores
DESCRIPTION:Old Greenwood BBQ
URL:https://mvblfeast.com/event/pacific-shores-2023-09-19/
LOCATION:Pacific Shores\, 1100 Seaport Blvd\, Redwood City\, CA\, 94063\, United States
END:VEVENT
BEGIN:VEVENT
DTSTART;TZID=America/Los_Angeles:20230914T113000
DTEND;TZID=America/Los_Angeles:20230914T133000
DTSTAMP:20260425T192003
CREATED:20230831T045621Z
LAST-MODIFIED:20230831T045812Z
UID:80825-1694691000-1694698200@mvblfeast.com
SUMMARY:Quad Pod
DESCRIPTION:Akita Sushi
URL:https://mvblfeast.com/event/quad-pod-4-2023-09-14/
LOCATION:Quad POD\, 3005 Tasman Dr\, Santa Clara\, CA\, 95054\, United States
END:VEVENT
BEGIN:VEVENT
DTSTART;TZID=America/Los_Angeles:20230914T113000
DTEND;TZID=America/Los_Angeles:20230914T130000
DTSTAMP:20260425T192003
CREATED:20230131T222540Z
LAST-MODIFIED:20230831T044655Z
UID:77768-1694691000-1694696400@mvblfeast.com
SUMMARY:Pacific Shores
DESCRIPTION:Beyond the Border
URL:https://mvblfeast.com/event/pacific-shores-2023-09-14/
LOCATION:Pacific Shores\, 1100 Seaport Blvd\, Redwood City\, CA\, 94063\, United States
END:VEVENT
BEGIN:VEVENT
DTSTART;TZID=America/Los_Angeles:20230914T080000
DTEND;TZID=America/Los_Angeles:20230914T170000
DTSTAMP:20260425T192003
CREATED:20230831T045511Z
LAST-MODIFIED:20230831T045511Z
UID:80821-1694678400-1694710800@mvblfeast.com
SUMMARY:Parkside Towers
DESCRIPTION:Fresh Catch Poke
URL:https://mvblfeast.com/event/parkside-towers-12/
LOCATION:Parkside Towers\, 1031 E Hillsdale Blvd\, Foster City\, CA\, 94404\, United States
END:VEVENT
BEGIN:VEVENT
DTSTART;TZID=America/Los_Angeles:20230912T113000
DTEND;TZID=America/Los_Angeles:20230912T133000
DTSTAMP:20260425T192003
CREATED:20230831T045127Z
LAST-MODIFIED:20230831T045240Z
UID:80809-1694518200-1694525400@mvblfeast.com
SUMMARY:Parkside Towers
DESCRIPTION:Bobcha
URL:https://mvblfeast.com/event/parkside-towers-10-2023-09-12/
LOCATION:Parkside Towers\, 1031 E Hillsdale Blvd\, Foster City\, CA\, 94404\, United States
END:VEVENT
END:VCALENDAR