BEGIN:VCALENDAR
VERSION:2.0
PRODID:-//Moveable Feast - ECPv6.15.13//NONSGML v1.0//EN
CALSCALE:GREGORIAN
METHOD:PUBLISH
X-ORIGINAL-URL:https://mvblfeast.com
X-WR-CALDESC:Events for Moveable Feast
REFRESH-INTERVAL;VALUE=DURATION:PT1H
X-Robots-Tag:noindex
X-PUBLISHED-TTL:PT1H
BEGIN:VTIMEZONE
TZID:America/Los_Angeles
BEGIN:DAYLIGHT
TZOFFSETFROM:-0800
TZOFFSETTO:-0700
TZNAME:PDT
DTSTART:20230312T100000
END:DAYLIGHT
BEGIN:STANDARD
TZOFFSETFROM:-0700
TZOFFSETTO:-0800
TZNAME:PST
DTSTART:20231105T090000
END:STANDARD
BEGIN:DAYLIGHT
TZOFFSETFROM:-0800
TZOFFSETTO:-0700
TZNAME:PDT
DTSTART:20240310T100000
END:DAYLIGHT
BEGIN:STANDARD
TZOFFSETFROM:-0700
TZOFFSETTO:-0800
TZNAME:PST
DTSTART:20241103T090000
END:STANDARD
BEGIN:DAYLIGHT
TZOFFSETFROM:-0800
TZOFFSETTO:-0700
TZNAME:PDT
DTSTART:20250309T100000
END:DAYLIGHT
BEGIN:STANDARD
TZOFFSETFROM:-0700
TZOFFSETTO:-0800
TZNAME:PST
DTSTART:20251102T090000
END:STANDARD
END:VTIMEZONE
BEGIN:VEVENT
DTSTART;TZID=America/Los_Angeles:20240402T113000
DTEND;TZID=America/Los_Angeles:20240402T133000
DTSTAMP:20260425T080215
CREATED:20240329T014015Z
LAST-MODIFIED:20240329T030523Z
UID:81594-1712057400-1712064600@mvblfeast.com
SUMMARY:Riverpark Towers
DESCRIPTION:Chubby’s Chicken
URL:https://mvblfeast.com/event/riverpark-towers-6/
LOCATION:Riverpark Towers\, 333 West San Carlos St\, San Jose\, CA\, 95110\, United States
END:VEVENT
BEGIN:VEVENT
DTSTART;TZID=America/Los_Angeles:20240403T100000
DTEND;TZID=America/Los_Angeles:20240403T140000
DTSTAMP:20260425T080215
CREATED:20240329T030730Z
LAST-MODIFIED:20240329T030814Z
UID:81609-1712138400-1712152800@mvblfeast.com
SUMMARY:SCU Pod
DESCRIPTION:Akita
URL:https://mvblfeast.com/event/scu-pod-7/
LOCATION:Santa Clara University\, 500 El Camino Real\, Santa Clara\, CA\, 95050\, United States
END:VEVENT
BEGIN:VEVENT
DTSTART;TZID=America/Los_Angeles:20240404T113000
DTEND;TZID=America/Los_Angeles:20240404T133000
DTSTAMP:20260425T080215
CREATED:20240329T011330Z
LAST-MODIFIED:20240329T012621Z
UID:81566-1712230200-1712237400@mvblfeast.com
SUMMARY:Pacific Shores
DESCRIPTION:Oaxacan Kitchen
URL:https://mvblfeast.com/event/pacific-shores-8/
LOCATION:Pacific Shores\, 1100 Seaport Blvd\, Redwood City\, CA\, 94063\, United States
END:VEVENT
BEGIN:VEVENT
DTSTART;TZID=America/Los_Angeles:20240404T113000
DTEND;TZID=America/Los_Angeles:20240404T133000
DTSTAMP:20260425T080215
CREATED:20240329T031002Z
LAST-MODIFIED:20240329T031053Z
UID:81621-1712230200-1712237400@mvblfeast.com
SUMMARY:Quad POD
DESCRIPTION:Tlaxiaco’s Pizza
URL:https://mvblfeast.com/event/quad-pod-12/
LOCATION:Quad POD\, 3005 Tasman Dr\, Santa Clara\, CA\, 95054\, United States
END:VEVENT
BEGIN:VEVENT
DTSTART;TZID=America/Los_Angeles:20240405T163000
DTEND;TZID=America/Los_Angeles:20240405T190000
DTSTAMP:20260425T080215
CREATED:20240402T204357Z
LAST-MODIFIED:20240402T204357Z
UID:81634-1712334600-1712343600@mvblfeast.com
SUMMARY:Revela Apartments
DESCRIPTION:Cielito Lindo
URL:https://mvblfeast.com/event/revela-apartments/
LOCATION:Revela Apartments\, 200 Infinity Way\, Mountain View\, CA\, 94043\, United States
END:VEVENT
BEGIN:VEVENT
DTSTART;TZID=America/Los_Angeles:20240409T113000
DTEND;TZID=America/Los_Angeles:20240409T133000
DTSTAMP:20260425T080215
CREATED:20240329T011231Z
LAST-MODIFIED:20240329T011528Z
UID:81561-1712662200-1712669400@mvblfeast.com
SUMMARY:Pacific Shores
DESCRIPTION:I Love Cheesesteak
URL:https://mvblfeast.com/event/pacific-shores-7/
LOCATION:Pacific Shores\, 1100 Seaport Blvd\, Redwood City\, CA\, 94063\, United States
END:VEVENT
BEGIN:VEVENT
DTSTART;TZID=America/Los_Angeles:20240409T113000
DTEND;TZID=America/Los_Angeles:20240409T133000
DTSTAMP:20260425T080215
CREATED:20240329T014015Z
LAST-MODIFIED:20240329T030548Z
UID:81595-1712662200-1712669400@mvblfeast.com
SUMMARY:Riverpark Towers
DESCRIPTION:Fire and Rice
URL:https://mvblfeast.com/event/riverpark-towers-6-2024-04-09/
LOCATION:Riverpark Towers\, 333 West San Carlos St\, San Jose\, CA\, 95110\, United States
END:VEVENT
BEGIN:VEVENT
DTSTART;TZID=America/Los_Angeles:20240410T100000
DTEND;TZID=America/Los_Angeles:20240410T140000
DTSTAMP:20260425T080215
CREATED:20240329T030730Z
LAST-MODIFIED:20240329T030822Z
UID:81610-1712743200-1712757600@mvblfeast.com
SUMMARY:SCU Pod
DESCRIPTION:Waffle Amore
URL:https://mvblfeast.com/event/scu-pod-7-2024-04-10/
LOCATION:Santa Clara University\, 500 El Camino Real\, Santa Clara\, CA\, 95050\, United States
END:VEVENT
BEGIN:VEVENT
DTSTART;TZID=America/Los_Angeles:20240411T113000
DTEND;TZID=America/Los_Angeles:20240411T133000
DTSTAMP:20260425T080215
CREATED:20240329T011330Z
LAST-MODIFIED:20240329T012737Z
UID:81567-1712835000-1712842200@mvblfeast.com
SUMMARY:Pacific Shores
DESCRIPTION:Cielito Lindo
URL:https://mvblfeast.com/event/pacific-shores-8-2024-04-11/
LOCATION:Pacific Shores\, 1100 Seaport Blvd\, Redwood City\, CA\, 94063\, United States
END:VEVENT
BEGIN:VEVENT
DTSTART;TZID=America/Los_Angeles:20240411T113000
DTEND;TZID=America/Los_Angeles:20240411T133000
DTSTAMP:20260425T080215
CREATED:20240329T031002Z
LAST-MODIFIED:20240329T031102Z
UID:81623-1712835000-1712842200@mvblfeast.com
SUMMARY:Quad POD
DESCRIPTION:Chula Puebla
URL:https://mvblfeast.com/event/quad-pod-12-2024-04-11/
LOCATION:Quad POD\, 3005 Tasman Dr\, Santa Clara\, CA\, 95054\, United States
END:VEVENT
BEGIN:VEVENT
DTSTART;TZID=America/Los_Angeles:20240416T113000
DTEND;TZID=America/Los_Angeles:20240416T133000
DTSTAMP:20260425T080215
CREATED:20240329T011231Z
LAST-MODIFIED:20240329T011754Z
UID:81562-1713267000-1713274200@mvblfeast.com
SUMMARY:Pacific Shores
DESCRIPTION:Picnic Basket
URL:https://mvblfeast.com/event/pacific-shores-7-2024-04-16/
LOCATION:Pacific Shores\, 1100 Seaport Blvd\, Redwood City\, CA\, 94063\, United States
END:VEVENT
BEGIN:VEVENT
DTSTART;TZID=America/Los_Angeles:20240416T113000
DTEND;TZID=America/Los_Angeles:20240416T133000
DTSTAMP:20260425T080215
CREATED:20240329T012945Z
LAST-MODIFIED:20240329T012945Z
UID:81587-1713267000-1713274200@mvblfeast.com
SUMMARY:Parkside Towers
DESCRIPTION:Grillman
URL:https://mvblfeast.com/event/parkside-towers-18/
LOCATION:Parkside Towers\, 1031 E Hillsdale Blvd\, Foster City\, CA\, 94404\, United States
END:VEVENT
BEGIN:VEVENT
DTSTART;TZID=America/Los_Angeles:20240416T113000
DTEND;TZID=America/Los_Angeles:20240416T133000
DTSTAMP:20260425T080215
CREATED:20240329T014015Z
LAST-MODIFIED:20240329T030601Z
UID:81596-1713267000-1713274200@mvblfeast.com
SUMMARY:Riverpark Towers
DESCRIPTION:Chula Puebla
URL:https://mvblfeast.com/event/riverpark-towers-6-2024-04-16/
LOCATION:Riverpark Towers\, 333 West San Carlos St\, San Jose\, CA\, 95110\, United States
END:VEVENT
BEGIN:VEVENT
DTSTART;TZID=America/Los_Angeles:20240417T100000
DTEND;TZID=America/Los_Angeles:20240417T140000
DTSTAMP:20260425T080215
CREATED:20240329T030730Z
LAST-MODIFIED:20240329T030834Z
UID:81611-1713348000-1713362400@mvblfeast.com
SUMMARY:SCU Pod
DESCRIPTION:Fire and Rice
URL:https://mvblfeast.com/event/scu-pod-7-2024-04-17/
LOCATION:Santa Clara University\, 500 El Camino Real\, Santa Clara\, CA\, 95050\, United States
END:VEVENT
BEGIN:VEVENT
DTSTART;TZID=America/Los_Angeles:20240417T113000
DTEND;TZID=America/Los_Angeles:20240417T133000
DTSTAMP:20260425T080215
CREATED:20240329T013143Z
LAST-MODIFIED:20240329T013143Z
UID:81589-1713353400-1713360600@mvblfeast.com
SUMMARY:Redwood Shores
DESCRIPTION:Waffle Roost
URL:https://mvblfeast.com/event/redwood-shores-5/
LOCATION:Redwood Shores\, 1300 Island Drive\, Redwood City\, CA\, 94065\, United States
END:VEVENT
BEGIN:VEVENT
DTSTART;TZID=America/Los_Angeles:20240417T113000
DTEND;TZID=America/Los_Angeles:20240417T133000
DTSTAMP:20260425T080215
CREATED:20240329T013632Z
LAST-MODIFIED:20240329T013632Z
UID:81591-1713353400-1713360600@mvblfeast.com
SUMMARY:PAL Pod
DESCRIPTION:Chick N’ Bros
URL:https://mvblfeast.com/event/pal-pod-10/
LOCATION:PAL Pod\, 1800 Embarcadero Rd\, Palo Alto\, CA\, 94303\, United States
END:VEVENT
BEGIN:VEVENT
DTSTART;TZID=America/Los_Angeles:20240418T113000
DTEND;TZID=America/Los_Angeles:20240418T133000
DTSTAMP:20260425T080215
CREATED:20240329T011330Z
LAST-MODIFIED:20240329T012812Z
UID:81568-1713439800-1713447000@mvblfeast.com
SUMMARY:Pacific Shores
DESCRIPTION:Waffle Roost
URL:https://mvblfeast.com/event/pacific-shores-8-2024-04-18/
LOCATION:Pacific Shores\, 1100 Seaport Blvd\, Redwood City\, CA\, 94063\, United States
END:VEVENT
BEGIN:VEVENT
DTSTART;TZID=America/Los_Angeles:20240418T113000
DTEND;TZID=America/Los_Angeles:20240418T133000
DTSTAMP:20260425T080215
CREATED:20240329T031002Z
LAST-MODIFIED:20240329T031121Z
UID:81624-1713439800-1713447000@mvblfeast.com
SUMMARY:Quad POD
DESCRIPTION:Akita Sushi
URL:https://mvblfeast.com/event/quad-pod-12-2024-04-18/
LOCATION:Quad POD\, 3005 Tasman Dr\, Santa Clara\, CA\, 95054\, United States
END:VEVENT
BEGIN:VEVENT
DTSTART;TZID=America/Los_Angeles:20240423T113000
DTEND;TZID=America/Los_Angeles:20240423T133000
DTSTAMP:20260425T080215
CREATED:20240329T011735Z
LAST-MODIFIED:20240329T011735Z
UID:81574-1713871800-1713879000@mvblfeast.com
SUMMARY:Pacific Shores
DESCRIPTION:El Paisa by Los Alegres
URL:https://mvblfeast.com/event/pacific-shores-9/
LOCATION:Pacific Shores\, 1100 Seaport Blvd\, Redwood City\, CA\, 94063\, United States
END:VEVENT
BEGIN:VEVENT
DTSTART;TZID=America/Los_Angeles:20240423T113000
DTEND;TZID=America/Los_Angeles:20240423T133000
DTSTAMP:20260425T080215
CREATED:20240329T014015Z
LAST-MODIFIED:20240329T030455Z
UID:81597-1713871800-1713879000@mvblfeast.com
SUMMARY:Riverpark Towers
DESCRIPTION:
URL:https://mvblfeast.com/event/riverpark-towers-6-2024-04-23/
LOCATION:Riverpark Towers\, 333 West San Carlos St\, San Jose\, CA\, 95110\, United States
END:VEVENT
BEGIN:VEVENT
DTSTART;TZID=America/Los_Angeles:20240424T100000
DTEND;TZID=America/Los_Angeles:20240424T140000
DTSTAMP:20260425T080215
CREATED:20240329T030730Z
LAST-MODIFIED:20240329T030857Z
UID:81612-1713952800-1713967200@mvblfeast.com
SUMMARY:SCU Pod
DESCRIPTION:Oaxacan Kitchen
URL:https://mvblfeast.com/event/scu-pod-7-2024-04-24/
LOCATION:Santa Clara University\, 500 El Camino Real\, Santa Clara\, CA\, 95050\, United States
END:VEVENT
BEGIN:VEVENT
DTSTART;TZID=America/Los_Angeles:20240425T113000
DTEND;TZID=America/Los_Angeles:20240425T133000
DTSTAMP:20260425T080215
CREATED:20240329T011330Z
LAST-MODIFIED:20240329T012838Z
UID:81569-1714044600-1714051800@mvblfeast.com
SUMMARY:Pacific Shores
DESCRIPTION:Grillzillas
URL:https://mvblfeast.com/event/pacific-shores-8-2024-04-25/
LOCATION:Pacific Shores\, 1100 Seaport Blvd\, Redwood City\, CA\, 94063\, United States
END:VEVENT
BEGIN:VEVENT
DTSTART;TZID=America/Los_Angeles:20240425T113000
DTEND;TZID=America/Los_Angeles:20240425T133000
DTSTAMP:20260425T080215
CREATED:20240329T031002Z
LAST-MODIFIED:20240329T031132Z
UID:81625-1714044600-1714051800@mvblfeast.com
SUMMARY:Quad POD
DESCRIPTION:I Love Cheesesteak
URL:https://mvblfeast.com/event/quad-pod-12-2024-04-25/
LOCATION:Quad POD\, 3005 Tasman Dr\, Santa Clara\, CA\, 95054\, United States
END:VEVENT
BEGIN:VEVENT
DTSTART;TZID=America/Los_Angeles:20240430T113000
DTEND;TZID=America/Los_Angeles:20240430T133000
DTSTAMP:20260425T080215
CREATED:20240329T012225Z
LAST-MODIFIED:20240329T012225Z
UID:81577-1714476600-1714483800@mvblfeast.com
SUMMARY:Pacific Shores
DESCRIPTION:Hongry Kong
URL:https://mvblfeast.com/event/pacific-shores-10/
LOCATION:Pacific Shores\, 1100 Seaport Blvd\, Redwood City\, CA\, 94063\, United States
END:VEVENT
BEGIN:VEVENT
DTSTART;TZID=America/Los_Angeles:20240430T113000
DTEND;TZID=America/Los_Angeles:20240430T133000
DTSTAMP:20260425T080215
CREATED:20240329T014015Z
LAST-MODIFIED:20240329T030623Z
UID:81598-1714476600-1714483800@mvblfeast.com
SUMMARY:Riverpark Towers
DESCRIPTION:Poke Braddahs
URL:https://mvblfeast.com/event/riverpark-towers-6-2024-04-30/
LOCATION:Riverpark Towers\, 333 West San Carlos St\, San Jose\, CA\, 95110\, United States
END:VEVENT
BEGIN:VEVENT
DTSTART;TZID=America/Los_Angeles:20240501T100000
DTEND;TZID=America/Los_Angeles:20240501T140000
DTSTAMP:20260425T080215
CREATED:20240502T011240Z
LAST-MODIFIED:20240502T012101Z
UID:81886-1714557600-1714572000@mvblfeast.com
SUMMARY:SCU POD
DESCRIPTION:Akita Sushi
URL:https://mvblfeast.com/event/scu-pod-8/
LOCATION:Santa Clara University\, 500 El Camino Real\, Santa Clara\, CA\, 95050\, United States
END:VEVENT
BEGIN:VEVENT
DTSTART;TZID=America/Los_Angeles:20240502T113000
DTEND;TZID=America/Los_Angeles:20240502T133000
DTSTAMP:20260425T080215
CREATED:20240502T010849Z
LAST-MODIFIED:20240502T011711Z
UID:81869-1714649400-1714656600@mvblfeast.com
SUMMARY:Pacific Shores
DESCRIPTION:Mr. Rice Kebab
URL:https://mvblfeast.com/event/pacific-shores-12/
LOCATION:Pacific Shores\, 1100 Seaport Blvd\, Redwood City\, CA\, 94063\, United States
END:VEVENT
BEGIN:VEVENT
DTSTART;TZID=America/Los_Angeles:20240502T113000
DTEND;TZID=America/Los_Angeles:20240502T133000
DTSTAMP:20260425T080215
CREATED:20240502T011440Z
LAST-MODIFIED:20240502T012312Z
UID:81896-1714649400-1714656600@mvblfeast.com
SUMMARY:Quad POD
DESCRIPTION:Waffle Amore
URL:https://mvblfeast.com/event/quad-pod-13/
LOCATION:Quad POD\, 3005 Tasman Dr\, Santa Clara\, CA\, 95054\, United States
END:VEVENT
BEGIN:VEVENT
DTSTART;TZID=America/Los_Angeles:20240507T113000
DTEND;TZID=America/Los_Angeles:20240507T133000
DTSTAMP:20260425T080215
CREATED:20240502T010807Z
LAST-MODIFIED:20240502T011537Z
UID:81863-1715081400-1715088600@mvblfeast.com
SUMMARY:Pacific Shores
DESCRIPTION:Grillman
URL:https://mvblfeast.com/event/pacific-shores-11/
LOCATION:Pacific Shores\, 1100 Seaport Blvd\, Redwood City\, CA\, 94063\, United States
END:VEVENT
BEGIN:VEVENT
DTSTART;TZID=America/Los_Angeles:20240507T113000
DTEND;TZID=America/Los_Angeles:20240507T133000
DTSTAMP:20260425T080215
CREATED:20240502T011140Z
LAST-MODIFIED:20240502T011936Z
UID:81880-1715081400-1715088600@mvblfeast.com
SUMMARY:Riverpark Towers
DESCRIPTION:El Paisa
URL:https://mvblfeast.com/event/riverpark-towers-7/
LOCATION:Riverpark Towers\, 333 West San Carlos St\, San Jose\, CA\, 95110\, United States
END:VEVENT
END:VCALENDAR