BEGIN:VCALENDAR
VERSION:2.0
PRODID:-//Moveable Feast - ECPv6.15.13//NONSGML v1.0//EN
CALSCALE:GREGORIAN
METHOD:PUBLISH
X-WR-CALNAME:Moveable Feast
X-ORIGINAL-URL:https://mvblfeast.com
X-WR-CALDESC:Events for Moveable Feast
REFRESH-INTERVAL;VALUE=DURATION:PT1H
X-Robots-Tag:noindex
X-PUBLISHED-TTL:PT1H
BEGIN:VTIMEZONE
TZID:America/Los_Angeles
BEGIN:DAYLIGHT
TZOFFSETFROM:-0800
TZOFFSETTO:-0700
TZNAME:PDT
DTSTART:20240310T100000
END:DAYLIGHT
BEGIN:STANDARD
TZOFFSETFROM:-0700
TZOFFSETTO:-0800
TZNAME:PST
DTSTART:20241103T090000
END:STANDARD
BEGIN:DAYLIGHT
TZOFFSETFROM:-0800
TZOFFSETTO:-0700
TZNAME:PDT
DTSTART:20250309T100000
END:DAYLIGHT
BEGIN:STANDARD
TZOFFSETFROM:-0700
TZOFFSETTO:-0800
TZNAME:PST
DTSTART:20251102T090000
END:STANDARD
BEGIN:DAYLIGHT
TZOFFSETFROM:-0800
TZOFFSETTO:-0700
TZNAME:PDT
DTSTART:20260308T100000
END:DAYLIGHT
BEGIN:STANDARD
TZOFFSETFROM:-0700
TZOFFSETTO:-0800
TZNAME:PST
DTSTART:20261101T090000
END:STANDARD
END:VTIMEZONE
BEGIN:VEVENT
DTSTART;TZID=America/Los_Angeles:20250311T113000
DTEND;TZID=America/Los_Angeles:20250311T133000
DTSTAMP:20260425T094508
CREATED:20241219T011400Z
LAST-MODIFIED:20250307T022030Z
UID:82630-1741692600-1741699800@mvblfeast.com
SUMMARY:Riverpark Towers
DESCRIPTION:
URL:https://mvblfeast.com/event/riverpark-towers-14-2025-03-11/
LOCATION:Riverpark Towers\, 333 West San Carlos St\, San Jose\, CA\, 95110\, United States
ATTACH;FMTTYPE=image/webp:https://mvblfeast.com/wp-content/uploads/2024/12/riverparktowers.webp
END:VEVENT
BEGIN:VEVENT
DTSTART;TZID=America/Los_Angeles:20250311T113000
DTEND;TZID=America/Los_Angeles:20250311T133000
DTSTAMP:20260425T094508
CREATED:20250225T234419Z
LAST-MODIFIED:20250225T234419Z
UID:82935-1741692600-1741699800@mvblfeast.com
SUMMARY:Pacific Shores
DESCRIPTION:Waffle Roost
URL:https://mvblfeast.com/event/pacific-shores-25/
LOCATION:Pacific Shores\, 1100 Seaport Blvd\, Redwood City\, CA\, 94063\, United States
END:VEVENT
BEGIN:VEVENT
DTSTART;TZID=America/Los_Angeles:20250312T100000
DTEND;TZID=America/Los_Angeles:20250312T140000
DTSTAMP:20260425T094508
CREATED:20241220T001518Z
LAST-MODIFIED:20250226T002958Z
UID:82743-1741773600-1741788000@mvblfeast.com
SUMMARY:SCU
DESCRIPTION:I Love Cheesesteak
URL:https://mvblfeast.com/event/scu-8/2025-03-12/
LOCATION:Santa Clara University\, 500 El Camino Real\, Santa Clara\, CA\, 95050\, United States
END:VEVENT
BEGIN:VEVENT
DTSTART;TZID=America/Los_Angeles:20250313T113000
DTEND;TZID=America/Los_Angeles:20250313T133000
DTSTAMP:20260425T094508
CREATED:20250225T234441Z
LAST-MODIFIED:20250225T234441Z
UID:82936-1741865400-1741872600@mvblfeast.com
SUMMARY:Pacific Shores
DESCRIPTION:Fresh Catch Poke
URL:https://mvblfeast.com/event/pacific-shores-26/
LOCATION:Pacific Shores\, 1100 Seaport Blvd\, Redwood City\, CA\, 94063\, United States
END:VEVENT
BEGIN:VEVENT
DTSTART;TZID=America/Los_Angeles:20250313T113000
DTEND;TZID=America/Los_Angeles:20250313T133000
DTSTAMP:20260425T094508
CREATED:20250225T234459Z
LAST-MODIFIED:20250225T234459Z
UID:82937-1741865400-1741872600@mvblfeast.com
SUMMARY:Pacific Shores
DESCRIPTION:Grillman
URL:https://mvblfeast.com/event/pacific-shores-27/
LOCATION:Pacific Shores\, 1100 Seaport Blvd\, Redwood City\, CA\, 94063\, United States
END:VEVENT
BEGIN:VEVENT
DTSTART;TZID=America/Los_Angeles:20250318T113000
DTEND;TZID=America/Los_Angeles:20250318T133000
DTSTAMP:20260425T094508
CREATED:20241219T011400Z
LAST-MODIFIED:20241219T011400Z
UID:82631-1742297400-1742304600@mvblfeast.com
SUMMARY:Riverpark Towers
DESCRIPTION:
URL:https://mvblfeast.com/event/riverpark-towers-14-2025-03-18/
LOCATION:Riverpark Towers\, 333 West San Carlos St\, San Jose\, CA\, 95110\, United States
END:VEVENT
BEGIN:VEVENT
DTSTART;TZID=America/Los_Angeles:20250318T113000
DTEND;TZID=America/Los_Angeles:20250318T133000
DTSTAMP:20260425T094508
CREATED:20250225T235923Z
LAST-MODIFIED:20250225T235923Z
UID:82949-1742297400-1742304600@mvblfeast.com
SUMMARY:Parkside Towers
DESCRIPTION:El Paisa by Los Alegres
URL:https://mvblfeast.com/event/parkside-towers-25/
LOCATION:Parkside Towers\, 1031 E Hillsdale Blvd\, Foster City\, CA\, 94404\, United States
END:VEVENT
BEGIN:VEVENT
DTSTART;TZID=America/Los_Angeles:20250319T100000
DTEND;TZID=America/Los_Angeles:20250319T140000
DTSTAMP:20260425T094508
CREATED:20241220T001518Z
LAST-MODIFIED:20241220T001518Z
UID:82744-1742378400-1742392800@mvblfeast.com
SUMMARY:SCU
DESCRIPTION:
URL:https://mvblfeast.com/event/scu-8/2025-03-19/
LOCATION:Santa Clara University\, 500 El Camino Real\, Santa Clara\, CA\, 95050\, United States
END:VEVENT
BEGIN:VEVENT
DTSTART;TZID=America/Los_Angeles:20250320T113000
DTEND;TZID=America/Los_Angeles:20250320T133000
DTSTAMP:20260425T094508
CREATED:20250225T234529Z
LAST-MODIFIED:20250225T234529Z
UID:82938-1742470200-1742477400@mvblfeast.com
SUMMARY:Pacific Shores
DESCRIPTION:Yakitori Harue
URL:https://mvblfeast.com/event/pacific-shores-28/
LOCATION:Pacific Shores\, 1100 Seaport Blvd\, Redwood City\, CA\, 94063\, United States
END:VEVENT
BEGIN:VEVENT
DTSTART;TZID=America/Los_Angeles:20250325T113000
DTEND;TZID=America/Los_Angeles:20250325T133000
DTSTAMP:20260425T094508
CREATED:20250225T234606Z
LAST-MODIFIED:20250225T234606Z
UID:82939-1742902200-1742909400@mvblfeast.com
SUMMARY:Pacific Shores
DESCRIPTION:Twister/Rolling Duck
URL:https://mvblfeast.com/event/pacific-shores-29/
LOCATION:Pacific Shores\, 1100 Seaport Blvd\, Redwood City\, CA\, 94063\, United States
END:VEVENT
BEGIN:VEVENT
DTSTART;TZID=America/Los_Angeles:20250325T113000
DTEND;TZID=America/Los_Angeles:20250325T133000
DTSTAMP:20260425T094508
CREATED:20250226T000548Z
LAST-MODIFIED:20250226T000548Z
UID:82964-1742902200-1742909400@mvblfeast.com
SUMMARY:Riverpark Towers
DESCRIPTION:
URL:https://mvblfeast.com/event/riverpark-towers-14/
LOCATION:Riverpark Towers\, 333 West San Carlos St\, San Jose\, CA\, 95110\, United States
END:VEVENT
BEGIN:VEVENT
DTSTART;TZID=America/Los_Angeles:20250326T100000
DTEND;TZID=America/Los_Angeles:20250326T140000
DTSTAMP:20260425T094508
CREATED:20241220T001518Z
LAST-MODIFIED:20241220T001518Z
UID:82745-1742983200-1742997600@mvblfeast.com
SUMMARY:SCU
DESCRIPTION:
URL:https://mvblfeast.com/event/scu-8/2025-03-26/
LOCATION:Santa Clara University\, 500 El Camino Real\, Santa Clara\, CA\, 95050\, United States
END:VEVENT
BEGIN:VEVENT
DTSTART;TZID=America/Los_Angeles:20250327T113000
DTEND;TZID=America/Los_Angeles:20250327T133000
DTSTAMP:20260425T094508
CREATED:20250225T234629Z
LAST-MODIFIED:20250225T234629Z
UID:82940-1743075000-1743082200@mvblfeast.com
SUMMARY:Pacific Shores
DESCRIPTION:Mr. Rice Kebab
URL:https://mvblfeast.com/event/pacific-shores-30/
LOCATION:Pacific Shores\, 1100 Seaport Blvd\, Redwood City\, CA\, 94063\, United States
END:VEVENT
BEGIN:VEVENT
DTSTART;TZID=America/Los_Angeles:20250401T113000
DTEND;TZID=America/Los_Angeles:20250401T133000
DTSTAMP:20260425T094508
CREATED:20250327T223932Z
LAST-MODIFIED:20250327T223932Z
UID:83078-1743507000-1743514200@mvblfeast.com
SUMMARY:Pacific Shores
DESCRIPTION:Lilo’s Kitchen
URL:https://mvblfeast.com/event/pacific-shores-31/
LOCATION:Pacific Shores\, 1100 Seaport Blvd\, Redwood City\, CA\, 94063\, United States
END:VEVENT
BEGIN:VEVENT
DTSTART;TZID=America/Los_Angeles:20250401T113000
DTEND;TZID=America/Los_Angeles:20250401T133000
DTSTAMP:20260425T094508
CREATED:20250327T224638Z
LAST-MODIFIED:20250327T224638Z
UID:83098-1743507000-1743514200@mvblfeast.com
SUMMARY:Riverpark Towers
DESCRIPTION:Curveball
URL:https://mvblfeast.com/event/riverpark-towers-15/
LOCATION:Riverpark Towers\, 333 West San Carlos St\, San Jose\, CA\, 95110\, United States
END:VEVENT
BEGIN:VEVENT
DTSTART;TZID=America/Los_Angeles:20250402T100000
DTEND;TZID=America/Los_Angeles:20250402T140000
DTSTAMP:20260425T094508
CREATED:20241220T001518Z
LAST-MODIFIED:20250327T223436Z
UID:82746-1743588000-1743602400@mvblfeast.com
SUMMARY:SCU
DESCRIPTION:Fire and Rice
URL:https://mvblfeast.com/event/scu-8/2025-04-02/
LOCATION:Santa Clara University\, 500 El Camino Real\, Santa Clara\, CA\, 95050\, United States
END:VEVENT
BEGIN:VEVENT
DTSTART;TZID=America/Los_Angeles:20250403T113000
DTEND;TZID=America/Los_Angeles:20250403T133000
DTSTAMP:20260425T094508
CREATED:20250327T223953Z
LAST-MODIFIED:20250327T223953Z
UID:83079-1743679800-1743687000@mvblfeast.com
SUMMARY:Pacific Shores
DESCRIPTION:Curveball
URL:https://mvblfeast.com/event/pacific-shores-32/
LOCATION:Pacific Shores\, 1100 Seaport Blvd\, Redwood City\, CA\, 94063\, United States
END:VEVENT
BEGIN:VEVENT
DTSTART;TZID=America/Los_Angeles:20250403T113000
DTEND;TZID=America/Los_Angeles:20250403T133000
DTSTAMP:20260425T094508
CREATED:20250327T224651Z
LAST-MODIFIED:20250327T224651Z
UID:83099-1743679800-1743687000@mvblfeast.com
SUMMARY:Riverpark Towers
DESCRIPTION:Akita Sushi
URL:https://mvblfeast.com/event/riverpark-towers-16/
LOCATION:Riverpark Towers\, 333 West San Carlos St\, San Jose\, CA\, 95110\, United States
END:VEVENT
BEGIN:VEVENT
DTSTART;TZID=America/Los_Angeles:20250403T113000
DTEND;TZID=America/Los_Angeles:20250403T133000
DTSTAMP:20260425T094508
CREATED:20250327T225046Z
LAST-MODIFIED:20250327T225046Z
UID:83116-1743679800-1743687000@mvblfeast.com
SUMMARY:Stanford Research Park
DESCRIPTION:Mr. Rice Kebab
URL:https://mvblfeast.com/event/scu-8/2025-04-03/
LOCATION:Stanford Research Park\, 3215 Porter Dr\, Palo Alto\, CA\, 94304\, United States
END:VEVENT
BEGIN:VEVENT
DTSTART;TZID=America/Los_Angeles:20250408T113000
DTEND;TZID=America/Los_Angeles:20250408T133000
DTSTAMP:20260425T094508
CREATED:20250327T224006Z
LAST-MODIFIED:20250327T224006Z
UID:83080-1744111800-1744119000@mvblfeast.com
SUMMARY:Pacific Shores
DESCRIPTION:Akita Sushi
URL:https://mvblfeast.com/event/pacific-shores-33/
LOCATION:Pacific Shores\, 1100 Seaport Blvd\, Redwood City\, CA\, 94063\, United States
END:VEVENT
BEGIN:VEVENT
DTSTART;TZID=America/Los_Angeles:20250408T113000
DTEND;TZID=America/Los_Angeles:20250408T133000
DTSTAMP:20260425T094508
CREATED:20250327T224720Z
LAST-MODIFIED:20250327T224720Z
UID:83100-1744111800-1744119000@mvblfeast.com
SUMMARY:Riverpark Towers
DESCRIPTION:Old Greenwood BBQ
URL:https://mvblfeast.com/event/riverpark-towers-17/
LOCATION:Riverpark Towers\, 333 West San Carlos St\, San Jose\, CA\, 95110\, United States
END:VEVENT
BEGIN:VEVENT
DTSTART;TZID=America/Los_Angeles:20250409T100000
DTEND;TZID=America/Los_Angeles:20250409T140000
DTSTAMP:20260425T094508
CREATED:20241220T001518Z
LAST-MODIFIED:20250327T223447Z
UID:82747-1744192800-1744207200@mvblfeast.com
SUMMARY:SCU
DESCRIPTION:Oaxacan Kitchen
URL:https://mvblfeast.com/event/scu-8/2025-04-09/
LOCATION:Santa Clara University\, 500 El Camino Real\, Santa Clara\, CA\, 95050\, United States
END:VEVENT
BEGIN:VEVENT
DTSTART;TZID=America/Los_Angeles:20250410T113000
DTEND;TZID=America/Los_Angeles:20250410T133000
DTSTAMP:20260425T094508
CREATED:20250327T224024Z
LAST-MODIFIED:20250327T224024Z
UID:83081-1744284600-1744291800@mvblfeast.com
SUMMARY:Pacific Shores
DESCRIPTION:I Love Cheesesteak
URL:https://mvblfeast.com/event/pacific-shores-34/
LOCATION:Pacific Shores\, 1100 Seaport Blvd\, Redwood City\, CA\, 94063\, United States
END:VEVENT
BEGIN:VEVENT
DTSTART;TZID=America/Los_Angeles:20250410T113000
DTEND;TZID=America/Los_Angeles:20250410T133000
DTSTAMP:20260425T094508
CREATED:20250327T224742Z
LAST-MODIFIED:20250327T224742Z
UID:83101-1744284600-1744291800@mvblfeast.com
SUMMARY:Riverpark Towers
DESCRIPTION:Wonk’s Street Tacos
URL:https://mvblfeast.com/event/riverpark-towers-18/
LOCATION:Riverpark Towers\, 333 West San Carlos St\, San Jose\, CA\, 95110\, United States
END:VEVENT
BEGIN:VEVENT
DTSTART;TZID=America/Los_Angeles:20250410T113000
DTEND;TZID=America/Los_Angeles:20250410T133000
DTSTAMP:20260425T094508
CREATED:20250327T225059Z
LAST-MODIFIED:20250327T225059Z
UID:83117-1744284600-1744291800@mvblfeast.com
SUMMARY:Stanford Research Park
DESCRIPTION:Thai Thai
URL:https://mvblfeast.com/event/scu-8/2025-04-10/
LOCATION:Stanford Research Park\, 3215 Porter Dr\, Palo Alto\, CA\, 94304\, United States
END:VEVENT
BEGIN:VEVENT
DTSTART;TZID=America/Los_Angeles:20250415T113000
DTEND;TZID=America/Los_Angeles:20250415T133000
DTSTAMP:20260425T094508
CREATED:20250327T224046Z
LAST-MODIFIED:20250327T224046Z
UID:83082-1744716600-1744723800@mvblfeast.com
SUMMARY:Pacific Shores
DESCRIPTION:Picnic Basket
URL:https://mvblfeast.com/event/pacific-shores-35/
LOCATION:Pacific Shores\, 1100 Seaport Blvd\, Redwood City\, CA\, 94063\, United States
END:VEVENT
BEGIN:VEVENT
DTSTART;TZID=America/Los_Angeles:20250415T113000
DTEND;TZID=America/Los_Angeles:20250415T133000
DTSTAMP:20260425T094508
CREATED:20250327T224339Z
LAST-MODIFIED:20250327T224339Z
UID:83096-1744716600-1744723800@mvblfeast.com
SUMMARY:Parkside Towers
DESCRIPTION:Yakitori Harue
URL:https://mvblfeast.com/event/parkside-towers-26/
LOCATION:Parkside Towers\, 1031 E Hillsdale Blvd\, Foster City\, CA\, 94404\, United States
END:VEVENT
BEGIN:VEVENT
DTSTART;TZID=America/Los_Angeles:20250415T113000
DTEND;TZID=America/Los_Angeles:20250415T133000
DTSTAMP:20260425T094508
CREATED:20250327T224811Z
LAST-MODIFIED:20250327T224811Z
UID:83102-1744716600-1744723800@mvblfeast.com
SUMMARY:Riverpark Towers
DESCRIPTION:Chubbys Chick’n
URL:https://mvblfeast.com/event/riverpark-towers-19/
LOCATION:Riverpark Towers\, 333 West San Carlos St\, San Jose\, CA\, 95110\, United States
END:VEVENT
BEGIN:VEVENT
DTSTART;TZID=America/Los_Angeles:20250416T100000
DTEND;TZID=America/Los_Angeles:20250416T140000
DTSTAMP:20260425T094508
CREATED:20241220T001518Z
LAST-MODIFIED:20250327T223632Z
UID:82748-1744797600-1744812000@mvblfeast.com
SUMMARY:SCU
DESCRIPTION:I Love Cheesesteak
URL:https://mvblfeast.com/event/scu-8/2025-04-16/
LOCATION:Santa Clara University\, 500 El Camino Real\, Santa Clara\, CA\, 95050\, United States
END:VEVENT
BEGIN:VEVENT
DTSTART;TZID=America/Los_Angeles:20250417T113000
DTEND;TZID=America/Los_Angeles:20250417T133000
DTSTAMP:20260425T094508
CREATED:20250327T224113Z
LAST-MODIFIED:20250327T224113Z
UID:83083-1744889400-1744896600@mvblfeast.com
SUMMARY:Pacific Shores
DESCRIPTION:El Paisa by Los Alegres
URL:https://mvblfeast.com/event/pacific-shores-36/
LOCATION:Pacific Shores\, 1100 Seaport Blvd\, Redwood City\, CA\, 94063\, United States
END:VEVENT
END:VCALENDAR