BEGIN:VCALENDAR
VERSION:2.0
PRODID:-//Moveable Feast - ECPv6.15.13//NONSGML v1.0//EN
CALSCALE:GREGORIAN
METHOD:PUBLISH
X-ORIGINAL-URL:https://mvblfeast.com
X-WR-CALDESC:Events for Moveable Feast
REFRESH-INTERVAL;VALUE=DURATION:PT1H
X-Robots-Tag:noindex
X-PUBLISHED-TTL:PT1H
BEGIN:VTIMEZONE
TZID:America/Los_Angeles
BEGIN:DAYLIGHT
TZOFFSETFROM:-0800
TZOFFSETTO:-0700
TZNAME:PDT
DTSTART:20220313T100000
END:DAYLIGHT
BEGIN:STANDARD
TZOFFSETFROM:-0700
TZOFFSETTO:-0800
TZNAME:PST
DTSTART:20221106T090000
END:STANDARD
BEGIN:DAYLIGHT
TZOFFSETFROM:-0800
TZOFFSETTO:-0700
TZNAME:PDT
DTSTART:20230312T100000
END:DAYLIGHT
BEGIN:STANDARD
TZOFFSETFROM:-0700
TZOFFSETTO:-0800
TZNAME:PST
DTSTART:20231105T090000
END:STANDARD
BEGIN:DAYLIGHT
TZOFFSETFROM:-0800
TZOFFSETTO:-0700
TZNAME:PDT
DTSTART:20240310T100000
END:DAYLIGHT
BEGIN:STANDARD
TZOFFSETFROM:-0700
TZOFFSETTO:-0800
TZNAME:PST
DTSTART:20241103T090000
END:STANDARD
END:VTIMEZONE
BEGIN:VEVENT
DTSTART;TZID=America/Los_Angeles:20230621T113000
DTEND;TZID=America/Los_Angeles:20230621T133000
DTSTAMP:20260425T202657
CREATED:20230606T225114Z
LAST-MODIFIED:20230606T225114Z
UID:80379-1687347000-1687354200@mvblfeast.com
SUMMARY:PAL POD
DESCRIPTION:Old Greenwood BBQ
URL:https://mvblfeast.com/event/pal-pod-2/
LOCATION:PAL Pod\, 1800 Embarcadero Rd\, Palo Alto\, CA\, 94303\, United States
END:VEVENT
BEGIN:VEVENT
DTSTART;TZID=America/Los_Angeles:20230622T113000
DTEND;TZID=America/Los_Angeles:20230622T130000
DTSTAMP:20260425T202657
CREATED:20230131T222540Z
LAST-MODIFIED:20230606T222614Z
UID:77744-1687433400-1687438800@mvblfeast.com
SUMMARY:Pacific Shores
DESCRIPTION:Grillzilla the Dudes
URL:https://mvblfeast.com/event/pacific-shores-2023-06-22/
LOCATION:Pacific Shores\, 1100 Seaport Blvd\, Redwood City\, CA\, 94063\, United States
END:VEVENT
BEGIN:VEVENT
DTSTART;TZID=America/Los_Angeles:20230622T113000
DTEND;TZID=America/Los_Angeles:20230622T133000
DTSTAMP:20260425T202657
CREATED:20230606T221217Z
LAST-MODIFIED:20230606T225441Z
UID:80328-1687433400-1687440600@mvblfeast.com
SUMMARY:Quad POD
DESCRIPTION:Old Greenwood BBQ
URL:https://mvblfeast.com/event/quad-pod-2023-06-22/
LOCATION:Quad POD\, 3005 Tasman Dr\, Santa Clara\, CA\, 95054\, United States
END:VEVENT
BEGIN:VEVENT
DTSTART;TZID=America/Los_Angeles:20230622T170000
DTEND;TZID=America/Los_Angeles:20230622T210000
DTSTAMP:20260425T202657
CREATED:20230131T192825Z
LAST-MODIFIED:20230606T224501Z
UID:79130-1687453200-1687467600@mvblfeast.com
SUMMARY:Gordon Biersch Night Market
DESCRIPTION:Event Details releasing soon!\nDescription: Local Craft Beer\, Food Trucks\, Makers\, & Live Entertainment! \n333 Truck • Barya Kitchen • Chubby’s Chicken • I Love Cheesesteak • Luvs Brownies •  MC Sushi • Old Greenwood BBQ • Road Dogs • Thai Thai • Wonk’s Street Tacos
URL:https://mvblfeast.com/event/gordon-biersch-night-market-2023-05-11-2023-05-18-2023-06-22/
LOCATION:Gordon Biersch Brewing (SJ Japantown)\, 357 E Taylor St.\, San Jose\, CA\, 95112\, United States
CATEGORIES:Markets
END:VEVENT
BEGIN:VEVENT
DTSTART;TZID=America/Los_Angeles:20230627T113000
DTEND;TZID=America/Los_Angeles:20230627T130000
DTSTAMP:20260425T202657
CREATED:20230131T222540Z
LAST-MODIFIED:20230606T222632Z
UID:77745-1687865400-1687870800@mvblfeast.com
SUMMARY:Pacific Shores
DESCRIPTION:Mr. Andrew’s Catering
URL:https://mvblfeast.com/event/pacific-shores-2023-06-27/
LOCATION:Pacific Shores\, 1100 Seaport Blvd\, Redwood City\, CA\, 94063\, United States
END:VEVENT
BEGIN:VEVENT
DTSTART;TZID=America/Los_Angeles:20230627T113000
DTEND;TZID=America/Los_Angeles:20230627T133000
DTSTAMP:20260425T202657
CREATED:20230503T005922Z
LAST-MODIFIED:20230606T223439Z
UID:79782-1687865400-1687872600@mvblfeast.com
SUMMARY:Parkside Towers
DESCRIPTION:Hongry Kong
URL:https://mvblfeast.com/event/parkside-towers-2023-06-27/
LOCATION:Parkside Towers\, 1031 E Hillsdale Blvd\, Foster City\, CA\, 94404\, United States
END:VEVENT
BEGIN:VEVENT
DTSTART;TZID=America/Los_Angeles:20230628T113000
DTEND;TZID=America/Los_Angeles:20230628T133000
DTSTAMP:20260425T202657
CREATED:20230606T221827Z
LAST-MODIFIED:20230606T221827Z
UID:80360-1687951800-1687959000@mvblfeast.com
SUMMARY:Redwood Shores
DESCRIPTION:Twister/Rolling Duck
URL:https://mvblfeast.com/event/redwood-shores-2/
LOCATION:Redwood Shores\, 1300 Island Drive\, Redwood City\, CA\, 94065\, United States
CATEGORIES:Pop Ups
END:VEVENT
BEGIN:VEVENT
DTSTART;TZID=America/Los_Angeles:20230629T113000
DTEND;TZID=America/Los_Angeles:20230629T130000
DTSTAMP:20260425T202657
CREATED:20230131T222540Z
LAST-MODIFIED:20230606T222648Z
UID:77746-1688038200-1688043600@mvblfeast.com
SUMMARY:Pacific Shores
DESCRIPTION:Waffle Roost
URL:https://mvblfeast.com/event/pacific-shores-2023-06-29/
LOCATION:Pacific Shores\, 1100 Seaport Blvd\, Redwood City\, CA\, 94063\, United States
END:VEVENT
BEGIN:VEVENT
DTSTART;TZID=America/Los_Angeles:20230629T113000
DTEND;TZID=America/Los_Angeles:20230629T133000
DTSTAMP:20260425T202657
CREATED:20230606T221217Z
LAST-MODIFIED:20230606T225501Z
UID:80329-1688038200-1688045400@mvblfeast.com
SUMMARY:Quad POD
DESCRIPTION:Tlaxiaco’s Pizza
URL:https://mvblfeast.com/event/quad-pod-2023-06-29/
LOCATION:Quad POD\, 3005 Tasman Dr\, Santa Clara\, CA\, 95054\, United States
END:VEVENT
BEGIN:VEVENT
DTSTART;TZID=America/Los_Angeles:20230629T170000
DTEND;TZID=America/Los_Angeles:20230629T210000
DTSTAMP:20260425T202657
CREATED:20230131T192825Z
LAST-MODIFIED:20230606T224737Z
UID:79131-1688058000-1688072400@mvblfeast.com
SUMMARY:Gordon Biersch Night Market
DESCRIPTION:Event Details releasing soon!\nDescription: Local Craft Beer\, Food Trucks\, Makers\, & Live Entertainment! \n3 Brothers Kitchen • Capelo’s BBQ • Fresh Catch Poke • Oaxacan Kitchen • Pupusas & Mediterranean Food • Rocko’s Ice Cream Tacos • Sam’s Chowdermobile • T-MO Truck • Twister/Rolling Duck • Waffle Roost
URL:https://mvblfeast.com/event/gordon-biersch-night-market-2023-05-11-2023-05-18-2023-06-29/
LOCATION:Gordon Biersch Brewing (SJ Japantown)\, 357 E Taylor St.\, San Jose\, CA\, 95112\, United States
CATEGORIES:Markets
END:VEVENT
BEGIN:VEVENT
DTSTART;TZID=America/Los_Angeles:20230704T113000
DTEND;TZID=America/Los_Angeles:20230704T130000
DTSTAMP:20260425T202657
CREATED:20230131T222540Z
LAST-MODIFIED:20230627T222454Z
UID:77747-1688470200-1688475600@mvblfeast.com
SUMMARY:Pacific Shores
DESCRIPTION:
URL:https://mvblfeast.com/event/pacific-shores-2023-07-04/
LOCATION:Pacific Shores\, 1100 Seaport Blvd\, Redwood City\, CA\, 94063\, United States
END:VEVENT
BEGIN:VEVENT
DTSTART;TZID=America/Los_Angeles:20230706T113000
DTEND;TZID=America/Los_Angeles:20230706T130000
DTSTAMP:20260425T202657
CREATED:20230131T222540Z
LAST-MODIFIED:20230627T222608Z
UID:77748-1688643000-1688648400@mvblfeast.com
SUMMARY:Pacific Shores
DESCRIPTION:I Love Cheesesteak
URL:https://mvblfeast.com/event/pacific-shores-2023-07-06/
LOCATION:Pacific Shores\, 1100 Seaport Blvd\, Redwood City\, CA\, 94063\, United States
END:VEVENT
BEGIN:VEVENT
DTSTART;TZID=America/Los_Angeles:20230706T113000
DTEND;TZID=America/Los_Angeles:20230706T133000
DTSTAMP:20260425T202657
CREATED:20230606T221217Z
LAST-MODIFIED:20230627T234059Z
UID:80330-1688643000-1688650200@mvblfeast.com
SUMMARY:Quad POD
DESCRIPTION:Rincon del Cielo
URL:https://mvblfeast.com/event/quad-pod-2023-07-06/
LOCATION:Quad POD\, 3005 Tasman Dr\, Santa Clara\, CA\, 95054\, United States
END:VEVENT
BEGIN:VEVENT
DTSTART;TZID=America/Los_Angeles:20230706T113000
DTEND;TZID=America/Los_Angeles:20230706T133000
DTSTAMP:20260425T202657
CREATED:20230628T202814Z
LAST-MODIFIED:20230628T203301Z
UID:80595-1688643000-1688650200@mvblfeast.com
SUMMARY:Parkside Towers
DESCRIPTION:Lilo’s Kitchen
URL:https://mvblfeast.com/event/parkside-towers-2/
LOCATION:Parkside Towers\, 1031 E Hillsdale Blvd\, Foster City\, CA\, 94404\, United States
END:VEVENT
BEGIN:VEVENT
DTSTART;TZID=America/Los_Angeles:20230711T113000
DTEND;TZID=America/Los_Angeles:20230711T130000
DTSTAMP:20260425T202657
CREATED:20230131T222540Z
LAST-MODIFIED:20230802T001746Z
UID:77749-1689075000-1689080400@mvblfeast.com
SUMMARY:Pacific Shores
DESCRIPTION:Pre-order here: Lilo’s Kitchen
URL:https://mvblfeast.com/event/pacific-shores-2023-07-11/
LOCATION:Pacific Shores\, 1100 Seaport Blvd\, Redwood City\, CA\, 94063\, United States
END:VEVENT
BEGIN:VEVENT
DTSTART;TZID=America/Los_Angeles:20230711T113000
DTEND;TZID=America/Los_Angeles:20230711T133000
DTSTAMP:20260425T202657
CREATED:20230628T202228Z
LAST-MODIFIED:20230711T225558Z
UID:80547-1689075000-1689082200@mvblfeast.com
SUMMARY:Parkside Towers
DESCRIPTION:Sam’s Chowdermobile
URL:https://mvblfeast.com/event/parkside-towers-2-2023-07-11/
LOCATION:Parkside Towers\, 1031 E Hillsdale Blvd\, Foster City\, CA\, 94404\, United States
END:VEVENT
BEGIN:VEVENT
DTSTART;TZID=America/Los_Angeles:20230712T113000
DTEND;TZID=America/Los_Angeles:20230712T133000
DTSTAMP:20260425T202657
CREATED:20230131T235959Z
LAST-MODIFIED:20230628T201849Z
UID:77905-1689161400-1689168600@mvblfeast.com
SUMMARY:Redwood Shores
DESCRIPTION:Lilo’s Kitchen
URL:https://mvblfeast.com/event/redwood-shores-2023-07-12/
LOCATION:Redwood Shores\, 1300 Island Drive\, Redwood City\, CA\, 94065\, United States
CATEGORIES:Pop Ups
END:VEVENT
BEGIN:VEVENT
DTSTART;TZID=America/Los_Angeles:20230713T113000
DTEND;TZID=America/Los_Angeles:20230713T130000
DTSTAMP:20260425T202657
CREATED:20230131T222540Z
LAST-MODIFIED:20230627T222807Z
UID:77750-1689247800-1689253200@mvblfeast.com
SUMMARY:Pacific Shores
DESCRIPTION:Picnic Basket
URL:https://mvblfeast.com/event/pacific-shores-2023-07-13/
LOCATION:Pacific Shores\, 1100 Seaport Blvd\, Redwood City\, CA\, 94063\, United States
END:VEVENT
BEGIN:VEVENT
DTSTART;TZID=America/Los_Angeles:20230713T113000
DTEND;TZID=America/Los_Angeles:20230713T133000
DTSTAMP:20260425T202657
CREATED:20230606T221217Z
LAST-MODIFIED:20230627T234125Z
UID:80331-1689247800-1689255000@mvblfeast.com
SUMMARY:Quad POD
DESCRIPTION:Waffle Amore
URL:https://mvblfeast.com/event/quad-pod-2023-07-13/
LOCATION:Quad POD\, 3005 Tasman Dr\, Santa Clara\, CA\, 95054\, United States
END:VEVENT
BEGIN:VEVENT
DTSTART;TZID=America/Los_Angeles:20230713T113000
DTEND;TZID=America/Los_Angeles:20230713T133000
DTSTAMP:20260425T202657
CREATED:20230628T202814Z
LAST-MODIFIED:20230628T203317Z
UID:80597-1689247800-1689255000@mvblfeast.com
SUMMARY:Parkside Towers
DESCRIPTION:Mozzeria
URL:https://mvblfeast.com/event/parkside-towers-2-2023-07-13/
LOCATION:Parkside Towers\, 1031 E Hillsdale Blvd\, Foster City\, CA\, 94404\, United States
END:VEVENT
BEGIN:VEVENT
DTSTART;TZID=America/Los_Angeles:20230713T170000
DTEND;TZID=America/Los_Angeles:20230713T210000
DTSTAMP:20260425T202657
CREATED:20230131T192825Z
LAST-MODIFIED:20230711T235130Z
UID:79133-1689267600-1689282000@mvblfeast.com
SUMMARY:Gordon Biersch Night Market
DESCRIPTION:Local Craft Beer\, Food Trucks\, Makers\, & Live Entertainment! \nRincon del Cielo • Old Greenwood BBQ • Waffle Roost • Fresh Catch Poke • BBQ Kalbi • I Love Cheesesteak • Pupusa Lady • Tlaxiaco’s Pizza • 3 Brother’s Kitchen • Jolly’s Tea Cream
URL:https://mvblfeast.com/event/gordon-biersch-night-market-2023-05-11-2023-05-18-2023-07-13/
LOCATION:Gordon Biersch Brewing (SJ Japantown)\, 357 E Taylor St.\, San Jose\, CA\, 95112\, United States
CATEGORIES:Markets
END:VEVENT
BEGIN:VEVENT
DTSTART;TZID=America/Los_Angeles:20230714T170000
DTEND;TZID=America/Los_Angeles:20230714T210000
DTSTAMP:20260425T202657
CREATED:20230404T214105Z
LAST-MODIFIED:20230711T232820Z
UID:79195-1689354000-1689368400@mvblfeast.com
SUMMARY:Berryessa Night Market (@Garden at the Flea)
DESCRIPTION:Maktub Espresso Cafe • Chick N’ Bros • Fonseca’s Mexican Food • Cielito Lindo • Junior’s Roaster • Taqueria La Suprema • Poke Braddahs • Wetzels Pretzels Truck • Flor de Pineapple
URL:https://mvblfeast.com/event/berryessa-night-market-garden-at-the-flea-2023-07-14/
LOCATION:Garden at the Flea\, 1590 Berryessa Rd\, San Jose\, CA\, 95133\, United States
END:VEVENT
BEGIN:VEVENT
DTSTART;TZID=America/Los_Angeles:20230718T113000
DTEND;TZID=America/Los_Angeles:20230718T130000
DTSTAMP:20260425T202657
CREATED:20230131T222540Z
LAST-MODIFIED:20230627T225412Z
UID:77751-1689679800-1689685200@mvblfeast.com
SUMMARY:Pacific Shores
DESCRIPTION:Ceviche & Co
URL:https://mvblfeast.com/event/pacific-shores-2023-07-18/
LOCATION:Pacific Shores\, 1100 Seaport Blvd\, Redwood City\, CA\, 94063\, United States
END:VEVENT
BEGIN:VEVENT
DTSTART;TZID=America/Los_Angeles:20230718T113000
DTEND;TZID=America/Los_Angeles:20230718T133000
DTSTAMP:20260425T202657
CREATED:20230628T202228Z
LAST-MODIFIED:20230711T225621Z
UID:80548-1689679800-1689687000@mvblfeast.com
SUMMARY:Parkside Towers
DESCRIPTION:Old Greenwood BBQ
URL:https://mvblfeast.com/event/parkside-towers-2-2023-07-18/
LOCATION:Parkside Towers\, 1031 E Hillsdale Blvd\, Foster City\, CA\, 94404\, United States
END:VEVENT
BEGIN:VEVENT
DTSTART;TZID=America/Los_Angeles:20230718T113000
DTEND;TZID=America/Los_Angeles:20230718T133000
DTSTAMP:20260425T202657
CREATED:20230711T231233Z
LAST-MODIFIED:20230711T231233Z
UID:80622-1689679800-1689687000@mvblfeast.com
SUMMARY:Riverpark Towers
DESCRIPTION:Akita Sushi
URL:https://mvblfeast.com/event/riverpark-towers/
LOCATION:Riverpark Towers\, 333 West San Carlos St\, San Jose\, CA\, 95110\, United States
END:VEVENT
BEGIN:VEVENT
DTSTART;TZID=America/Los_Angeles:20230720T113000
DTEND;TZID=America/Los_Angeles:20230720T130000
DTSTAMP:20260425T202657
CREATED:20230131T222540Z
LAST-MODIFIED:20230627T222855Z
UID:77752-1689852600-1689858000@mvblfeast.com
SUMMARY:Pacific Shores
DESCRIPTION:Akita Sushi
URL:https://mvblfeast.com/event/pacific-shores-2023-07-20/
LOCATION:Pacific Shores\, 1100 Seaport Blvd\, Redwood City\, CA\, 94063\, United States
END:VEVENT
BEGIN:VEVENT
DTSTART;TZID=America/Los_Angeles:20230720T113000
DTEND;TZID=America/Los_Angeles:20230720T133000
DTSTAMP:20260425T202657
CREATED:20230627T234434Z
LAST-MODIFIED:20230628T201634Z
UID:80493-1689852600-1689859800@mvblfeast.com
SUMMARY:Quad POD
DESCRIPTION:Fire & Rice
URL:https://mvblfeast.com/event/quad-pod-2/
LOCATION:Quad POD\, 3005 Tasman Dr\, Santa Clara\, CA\, 95054\, United States
END:VEVENT
BEGIN:VEVENT
DTSTART;TZID=America/Los_Angeles:20230720T113000
DTEND;TZID=America/Los_Angeles:20230720T233000
DTSTAMP:20260425T202657
CREATED:20230628T203504Z
LAST-MODIFIED:20230628T203504Z
UID:80608-1689852600-1689895800@mvblfeast.com
SUMMARY:Parkside Towers
DESCRIPTION:Fresh Catch Poke
URL:https://mvblfeast.com/event/parkside-towers-3/
LOCATION:Parkside Towers\, 1031 E Hillsdale Blvd\, Foster City\, CA\, 94404\, United States
END:VEVENT
BEGIN:VEVENT
DTSTART;TZID=America/Los_Angeles:20230720T170000
DTEND;TZID=America/Los_Angeles:20230720T210000
DTSTAMP:20260425T202657
CREATED:20230131T192825Z
LAST-MODIFIED:20230711T235358Z
UID:79134-1689872400-1689886800@mvblfeast.com
SUMMARY:Gordon Biersch Night Market
DESCRIPTION:Local Craft Beer\, Food Trucks\, Makers\, & Live Entertainment! \n3 Hermanos Mexican Grill • Curveball • Waffle Amore • Poke Braddahs • Twister • Tlaxiaco’s Pizza • Sam’s Chowdermobile • Barya Kitchen • Flor de Pineapple • Luvs Brownies
URL:https://mvblfeast.com/event/gordon-biersch-night-market-2023-05-11-2023-05-18-2023-07-20/
LOCATION:Gordon Biersch Brewing (SJ Japantown)\, 357 E Taylor St.\, San Jose\, CA\, 95112\, United States
CATEGORIES:Markets
END:VEVENT
BEGIN:VEVENT
DTSTART;TZID=America/Los_Angeles:20230721T170000
DTEND;TZID=America/Los_Angeles:20230721T210000
DTSTAMP:20260425T202657
CREATED:20230404T214105Z
LAST-MODIFIED:20230711T234356Z
UID:79196-1689958800-1689973200@mvblfeast.com
SUMMARY:Berryessa Night Market (SPICY FOOD FEST)
DESCRIPTION:The Road House 48 • Fire & Rice • Maktub Espresso Cafe • Jolly’s Tea Cream • Barya • Los Kuyas • Chick N’ Bros • Akita Sushi • Cielito Lindo • La Patrona CMX • Junior’s Roaster • Taqueria La Suprema • Poke Braddahs • Sam’s Chowdermobile • Flor de Pineapple • ABVE the Basics • Pupusa Lady
URL:https://mvblfeast.com/event/berryessa-night-market-garden-at-the-flea-2023-07-21/
LOCATION:Garden at the Flea\, 1590 Berryessa Rd\, San Jose\, CA\, 95133\, United States
END:VEVENT
END:VCALENDAR