BEGIN:VCALENDAR
VERSION:2.0
PRODID:-//Moveable Feast - ECPv6.15.13//NONSGML v1.0//EN
CALSCALE:GREGORIAN
METHOD:PUBLISH
X-WR-CALNAME:Moveable Feast
X-ORIGINAL-URL:https://mvblfeast.com
X-WR-CALDESC:Events for Moveable Feast
REFRESH-INTERVAL;VALUE=DURATION:PT1H
X-Robots-Tag:noindex
X-PUBLISHED-TTL:PT1H
BEGIN:VTIMEZONE
TZID:America/Los_Angeles
BEGIN:DAYLIGHT
TZOFFSETFROM:-0800
TZOFFSETTO:-0700
TZNAME:PDT
DTSTART:20240310T100000
END:DAYLIGHT
BEGIN:STANDARD
TZOFFSETFROM:-0700
TZOFFSETTO:-0800
TZNAME:PST
DTSTART:20241103T090000
END:STANDARD
BEGIN:DAYLIGHT
TZOFFSETFROM:-0800
TZOFFSETTO:-0700
TZNAME:PDT
DTSTART:20250309T100000
END:DAYLIGHT
BEGIN:STANDARD
TZOFFSETFROM:-0700
TZOFFSETTO:-0800
TZNAME:PST
DTSTART:20251102T090000
END:STANDARD
BEGIN:DAYLIGHT
TZOFFSETFROM:-0800
TZOFFSETTO:-0700
TZNAME:PDT
DTSTART:20260308T100000
END:DAYLIGHT
BEGIN:STANDARD
TZOFFSETFROM:-0700
TZOFFSETTO:-0800
TZNAME:PST
DTSTART:20261101T090000
END:STANDARD
END:VTIMEZONE
BEGIN:VEVENT
DTSTART;TZID=America/Los_Angeles:20250805T113000
DTEND;TZID=America/Los_Angeles:20250826T133000
DTSTAMP:20260424T020604
CREATED:20250801T001747Z
LAST-MODIFIED:20250801T001747Z
UID:83519-1754393400-1756215000@mvblfeast.com
SUMMARY:Pacific Shores
DESCRIPTION:Picnic Basket
URL:https://mvblfeast.com/event/pacific-shores-62/
LOCATION:Pacific Shores\, 1100 Seaport Blvd\, Redwood City\, CA\, 94063\, United States
END:VEVENT
BEGIN:VEVENT
DTSTART;TZID=America/Los_Angeles:20250807T113000
DTEND;TZID=America/Los_Angeles:20250807T133000
DTSTAMP:20260424T020604
CREATED:20250801T001459Z
LAST-MODIFIED:20250801T001459Z
UID:83514-1754566200-1754573400@mvblfeast.com
SUMMARY:Pacific Shores
DESCRIPTION:Hongry Kong
URL:https://mvblfeast.com/event/pacific-shores-57/
LOCATION:Pacific Shores\, 1100 Seaport Blvd\, Redwood City\, CA\, 94063\, United States
END:VEVENT
BEGIN:VEVENT
DTSTART;TZID=America/Los_Angeles:20250807T113000
DTEND;TZID=America/Los_Angeles:20250807T133000
DTSTAMP:20260424T020604
CREATED:20250801T003317Z
LAST-MODIFIED:20250801T003317Z
UID:83543-1754566200-1754573400@mvblfeast.com
SUMMARY:Riverpark Towers
DESCRIPTION:Me Oi
URL:https://mvblfeast.com/event/riverpark-towers-45/
LOCATION:Riverpark Towers\, 333 West San Carlos St\, San Jose\, CA\, 95110\, United States
END:VEVENT
BEGIN:VEVENT
DTSTART;TZID=America/Los_Angeles:20250807T113000
DTEND;TZID=America/Los_Angeles:20250807T133000
DTSTAMP:20260424T020604
CREATED:20250801T003514Z
LAST-MODIFIED:20250801T003514Z
UID:83550-1754566200-1754573400@mvblfeast.com
SUMMARY:Stanford Research Park
DESCRIPTION:Oaxacan Kitchen
URL:https://mvblfeast.com/event/scu-8/2025-08-07/
LOCATION:Stanford Research Park\, 3215 Porter Dr\, Palo Alto\, CA\, 94304\, United States
END:VEVENT
END:VCALENDAR