BEGIN:VCALENDAR
VERSION:2.0
PRODID:-//Moveable Feast - ECPv6.15.13//NONSGML v1.0//EN
CALSCALE:GREGORIAN
METHOD:PUBLISH
X-ORIGINAL-URL:https://mvblfeast.com
X-WR-CALDESC:Events for Moveable Feast
REFRESH-INTERVAL;VALUE=DURATION:PT1H
X-Robots-Tag:noindex
X-PUBLISHED-TTL:PT1H
BEGIN:VTIMEZONE
TZID:America/Los_Angeles
BEGIN:DAYLIGHT
TZOFFSETFROM:-0800
TZOFFSETTO:-0700
TZNAME:PDT
DTSTART:20240310T100000
END:DAYLIGHT
BEGIN:STANDARD
TZOFFSETFROM:-0700
TZOFFSETTO:-0800
TZNAME:PST
DTSTART:20241103T090000
END:STANDARD
BEGIN:DAYLIGHT
TZOFFSETFROM:-0800
TZOFFSETTO:-0700
TZNAME:PDT
DTSTART:20250309T100000
END:DAYLIGHT
BEGIN:STANDARD
TZOFFSETFROM:-0700
TZOFFSETTO:-0800
TZNAME:PST
DTSTART:20251102T090000
END:STANDARD
BEGIN:DAYLIGHT
TZOFFSETFROM:-0800
TZOFFSETTO:-0700
TZNAME:PDT
DTSTART:20260308T100000
END:DAYLIGHT
BEGIN:STANDARD
TZOFFSETFROM:-0700
TZOFFSETTO:-0800
TZNAME:PST
DTSTART:20261101T090000
END:STANDARD
END:VTIMEZONE
BEGIN:VEVENT
DTSTART;TZID=America/Los_Angeles:20250715T110000
DTEND;TZID=America/Los_Angeles:20250715T133000
DTSTAMP:20260424T034837
CREATED:20250701T231930Z
LAST-MODIFIED:20250701T231930Z
UID:83351-1752577200-1752586200@mvblfeast.com
SUMMARY:Mission College
DESCRIPTION:WoKitchen
URL:https://mvblfeast.com/event/scu-8/2025-07-15/
LOCATION:Mission College\, 3000 Mission College Blvd\, Santa Clara\, CA\, 95054\, United States
END:VEVENT
BEGIN:VEVENT
DTSTART;TZID=America/Los_Angeles:20250715T113000
DTEND;TZID=America/Los_Angeles:20250715T133000
DTSTAMP:20260424T034837
CREATED:20250701T223958Z
LAST-MODIFIED:20250701T223958Z
UID:83282-1752579000-1752586200@mvblfeast.com
SUMMARY:Pacific Shores
DESCRIPTION:Rincon del Cielo
URL:https://mvblfeast.com/event/pacific-shores-50/
LOCATION:Pacific Shores\, 1100 Seaport Blvd\, Redwood City\, CA\, 94063\, United States
END:VEVENT
BEGIN:VEVENT
DTSTART;TZID=America/Los_Angeles:20250715T113000
DTEND;TZID=America/Los_Angeles:20250715T133000
DTSTAMP:20260424T034837
CREATED:20250701T224245Z
LAST-MODIFIED:20250701T224245Z
UID:83297-1752579000-1752586200@mvblfeast.com
SUMMARY:Parkside Towers
DESCRIPTION:Tacos el Cowboy
URL:https://mvblfeast.com/event/parkside-towers-27/
LOCATION:Parkside Towers\, 1031 E Hillsdale Blvd\, Foster City\, CA\, 94404\, United States
END:VEVENT
BEGIN:VEVENT
DTSTART;TZID=America/Los_Angeles:20250715T113000
DTEND;TZID=America/Los_Angeles:20250715T133000
DTSTAMP:20260424T034837
CREATED:20250701T224826Z
LAST-MODIFIED:20250701T224826Z
UID:83310-1752579000-1752586200@mvblfeast.com
SUMMARY:Riverpark Towers
DESCRIPTION:Wonk’s Street Tacos
URL:https://mvblfeast.com/event/riverpark-towers-38/
LOCATION:Riverpark Towers\, 333 West San Carlos St\, San Jose\, CA\, 95110\, United States
END:VEVENT
END:VCALENDAR