BEGIN:VCALENDAR
VERSION:2.0
PRODID:-//Moveable Feast - ECPv6.15.13//NONSGML v1.0//EN
CALSCALE:GREGORIAN
METHOD:PUBLISH
X-ORIGINAL-URL:https://mvblfeast.com
X-WR-CALDESC:Events for Moveable Feast
REFRESH-INTERVAL;VALUE=DURATION:PT1H
X-Robots-Tag:noindex
X-PUBLISHED-TTL:PT1H
BEGIN:VTIMEZONE
TZID:America/Los_Angeles
BEGIN:DAYLIGHT
TZOFFSETFROM:-0800
TZOFFSETTO:-0700
TZNAME:PDT
DTSTART:20240310T100000
END:DAYLIGHT
BEGIN:STANDARD
TZOFFSETFROM:-0700
TZOFFSETTO:-0800
TZNAME:PST
DTSTART:20241103T090000
END:STANDARD
BEGIN:DAYLIGHT
TZOFFSETFROM:-0800
TZOFFSETTO:-0700
TZNAME:PDT
DTSTART:20250309T100000
END:DAYLIGHT
BEGIN:STANDARD
TZOFFSETFROM:-0700
TZOFFSETTO:-0800
TZNAME:PST
DTSTART:20251102T090000
END:STANDARD
BEGIN:DAYLIGHT
TZOFFSETFROM:-0800
TZOFFSETTO:-0700
TZNAME:PDT
DTSTART:20260308T100000
END:DAYLIGHT
BEGIN:STANDARD
TZOFFSETFROM:-0700
TZOFFSETTO:-0800
TZNAME:PST
DTSTART:20261101T090000
END:STANDARD
END:VTIMEZONE
BEGIN:VEVENT
DTSTART;TZID=America/Los_Angeles:20250306T113000
DTEND;TZID=America/Los_Angeles:20250306T133000
DTSTAMP:20260424T102957
CREATED:20250225T234356Z
LAST-MODIFIED:20250225T234356Z
UID:82934-1741260600-1741267800@mvblfeast.com
SUMMARY:Pacific Shores
DESCRIPTION:Grillzillas
URL:https://mvblfeast.com/event/pacific-shores-24/
LOCATION:Pacific Shores\, 1100 Seaport Blvd\, Redwood City\, CA\, 94063\, United States
END:VEVENT
BEGIN:VEVENT
DTSTART;TZID=America/Los_Angeles:20250306T113000
DTEND;TZID=America/Los_Angeles:20250306T133000
DTSTAMP:20260424T102957
CREATED:20250226T003456Z
LAST-MODIFIED:20250226T003456Z
UID:82968-1741260600-1741267800@mvblfeast.com
SUMMARY:Stanford Research Park
DESCRIPTION:Mozzeria
URL:https://mvblfeast.com/event/scu-8/2025-03-06/
LOCATION:Stanford Research Park\, 3215 Porter Dr\, Palo Alto\, CA\, 94304\, United States
END:VEVENT
END:VCALENDAR