BEGIN:VCALENDAR
VERSION:2.0
PRODID:-//Moveable Feast - ECPv6.15.13//NONSGML v1.0//EN
CALSCALE:GREGORIAN
METHOD:PUBLISH
X-WR-CALNAME:Moveable Feast
X-ORIGINAL-URL:https://mvblfeast.com
X-WR-CALDESC:Events for Moveable Feast
REFRESH-INTERVAL;VALUE=DURATION:PT1H
X-Robots-Tag:noindex
X-PUBLISHED-TTL:PT1H
BEGIN:VTIMEZONE
TZID:America/Los_Angeles
BEGIN:DAYLIGHT
TZOFFSETFROM:-0800
TZOFFSETTO:-0700
TZNAME:PDT
DTSTART:20230312T100000
END:DAYLIGHT
BEGIN:STANDARD
TZOFFSETFROM:-0700
TZOFFSETTO:-0800
TZNAME:PST
DTSTART:20231105T090000
END:STANDARD
BEGIN:DAYLIGHT
TZOFFSETFROM:-0800
TZOFFSETTO:-0700
TZNAME:PDT
DTSTART:20240310T100000
END:DAYLIGHT
BEGIN:STANDARD
TZOFFSETFROM:-0700
TZOFFSETTO:-0800
TZNAME:PST
DTSTART:20241103T090000
END:STANDARD
BEGIN:DAYLIGHT
TZOFFSETFROM:-0800
TZOFFSETTO:-0700
TZNAME:PDT
DTSTART:20250309T100000
END:DAYLIGHT
BEGIN:STANDARD
TZOFFSETFROM:-0700
TZOFFSETTO:-0800
TZNAME:PST
DTSTART:20251102T090000
END:STANDARD
END:VTIMEZONE
BEGIN:VEVENT
DTSTART;TZID=America/Los_Angeles:20240928T110000
DTEND;TZID=America/Los_Angeles:20240928T180000
DTSTAMP:20260424T193757
CREATED:20240909T225903Z
LAST-MODIFIED:20240909T225903Z
UID:82478-1727521200-1727546400@mvblfeast.com
SUMMARY:Tully East Festival
DESCRIPTION:San Jose’s first ever Tully East Festival! This is a collaboration between Tully Road Eastridge Business Association\, San José Made and Moveable Feast. Happening on Sept. 28-29. Located outdoors at Eastridge Center (2200 Eastridge Loop\, San Jose\, CA 95122) near the Aloha Fun Center (view exact location here). Open from 11 AM to 6 PM each day. Free admission for attendees. Free on-site parking for attendees. All ages activities. Dog friendly. \n​ \nFeaturing over 150 makers\, artists\, food trucks\, food stalls\, specialty drinks vendors\, desserts makers and community booths. Plus live performances and all ages activities!
URL:https://mvblfeast.com/event/tully-east-festival/
LOCATION:CA
ATTACH;FMTTYPE=image/png:https://mvblfeast.com/wp-content/uploads/2024/09/Tully-East-Festival-2024-scaled.webp
END:VEVENT
END:VCALENDAR