BEGIN:VCALENDAR
VERSION:2.0
PRODID:-//Moveable Feast - ECPv6.15.13//NONSGML v1.0//EN
CALSCALE:GREGORIAN
METHOD:PUBLISH
X-ORIGINAL-URL:https://mvblfeast.com
X-WR-CALDESC:Events for Moveable Feast
REFRESH-INTERVAL;VALUE=DURATION:PT1H
X-Robots-Tag:noindex
X-PUBLISHED-TTL:PT1H
BEGIN:VTIMEZONE
TZID:America/Los_Angeles
BEGIN:DAYLIGHT
TZOFFSETFROM:-0800
TZOFFSETTO:-0700
TZNAME:PDT
DTSTART:20230312T100000
END:DAYLIGHT
BEGIN:STANDARD
TZOFFSETFROM:-0700
TZOFFSETTO:-0800
TZNAME:PST
DTSTART:20231105T090000
END:STANDARD
BEGIN:DAYLIGHT
TZOFFSETFROM:-0800
TZOFFSETTO:-0700
TZNAME:PDT
DTSTART:20240310T100000
END:DAYLIGHT
BEGIN:STANDARD
TZOFFSETFROM:-0700
TZOFFSETTO:-0800
TZNAME:PST
DTSTART:20241103T090000
END:STANDARD
BEGIN:DAYLIGHT
TZOFFSETFROM:-0800
TZOFFSETTO:-0700
TZNAME:PDT
DTSTART:20250309T100000
END:DAYLIGHT
BEGIN:STANDARD
TZOFFSETFROM:-0700
TZOFFSETTO:-0800
TZNAME:PST
DTSTART:20251102T090000
END:STANDARD
END:VTIMEZONE
BEGIN:VEVENT
DTSTART;TZID=America/Los_Angeles:20240312T113000
DTEND;TZID=America/Los_Angeles:20240312T133000
DTSTAMP:20260425T043726
CREATED:20240221T005944Z
LAST-MODIFIED:20240221T010127Z
UID:81486-1710243000-1710250200@mvblfeast.com
SUMMARY:Pacific Shores
DESCRIPTION:Lilo’s Kitchen
URL:https://mvblfeast.com/event/pacific-shores-5-2024-03-12/
LOCATION:Pacific Shores\, 1100 Seaport Blvd\, Redwood City\, CA\, 94063\, United States
END:VEVENT
BEGIN:VEVENT
DTSTART;TZID=America/Los_Angeles:20240312T113000
DTEND;TZID=America/Los_Angeles:20240312T133000
DTSTAMP:20260425T043726
CREATED:20240221T010659Z
LAST-MODIFIED:20240221T010812Z
UID:81507-1710243000-1710250200@mvblfeast.com
SUMMARY:Parkside Towers
DESCRIPTION:Fresh Catch
URL:https://mvblfeast.com/event/parkside-towers-17-2024-03-12/
LOCATION:Parkside Towers\, 1031 E Hillsdale Blvd\, Foster City\, CA\, 94404\, United States
END:VEVENT
BEGIN:VEVENT
DTSTART;TZID=America/Los_Angeles:20240312T113000
DTEND;TZID=America/Los_Angeles:20240312T133000
DTSTAMP:20260425T043726
CREATED:20240305T230317Z
LAST-MODIFIED:20240305T230436Z
UID:81549-1710243000-1710250200@mvblfeast.com
SUMMARY:Riverpark Towers
DESCRIPTION:Kabob Trolley
URL:https://mvblfeast.com/event/riverpark-towers-5-2024-03-12/
LOCATION:Riverpark Towers\, 333 West San Carlos St\, San Jose\, CA\, 95110\, United States
END:VEVENT
END:VCALENDAR