BEGIN:VCALENDAR
VERSION:2.0
PRODID:-//Moveable Feast - ECPv6.15.13//NONSGML v1.0//EN
CALSCALE:GREGORIAN
METHOD:PUBLISH
X-ORIGINAL-URL:https://mvblfeast.com
X-WR-CALDESC:Events for Moveable Feast
REFRESH-INTERVAL;VALUE=DURATION:PT1H
X-Robots-Tag:noindex
X-PUBLISHED-TTL:PT1H
BEGIN:VTIMEZONE
TZID:America/Los_Angeles
BEGIN:DAYLIGHT
TZOFFSETFROM:-0800
TZOFFSETTO:-0700
TZNAME:PDT
DTSTART:20220313T100000
END:DAYLIGHT
BEGIN:STANDARD
TZOFFSETFROM:-0700
TZOFFSETTO:-0800
TZNAME:PST
DTSTART:20221106T090000
END:STANDARD
BEGIN:DAYLIGHT
TZOFFSETFROM:-0800
TZOFFSETTO:-0700
TZNAME:PDT
DTSTART:20230312T100000
END:DAYLIGHT
BEGIN:STANDARD
TZOFFSETFROM:-0700
TZOFFSETTO:-0800
TZNAME:PST
DTSTART:20231105T090000
END:STANDARD
BEGIN:DAYLIGHT
TZOFFSETFROM:-0800
TZOFFSETTO:-0700
TZNAME:PDT
DTSTART:20240310T100000
END:DAYLIGHT
BEGIN:STANDARD
TZOFFSETFROM:-0700
TZOFFSETTO:-0800
TZNAME:PST
DTSTART:20241103T090000
END:STANDARD
END:VTIMEZONE
BEGIN:VEVENT
DTSTART;TZID=America/Los_Angeles:20230907T113000
DTEND;TZID=America/Los_Angeles:20230907T130000
DTSTAMP:20260425T140622
CREATED:20230131T222540Z
LAST-MODIFIED:20230831T044643Z
UID:77766-1694086200-1694091600@mvblfeast.com
SUMMARY:Pacific Shores
DESCRIPTION:Curveball
URL:https://mvblfeast.com/event/pacific-shores-2023-09-07/
LOCATION:Pacific Shores\, 1100 Seaport Blvd\, Redwood City\, CA\, 94063\, United States
END:VEVENT
BEGIN:VEVENT
DTSTART;TZID=America/Los_Angeles:20230907T113000
DTEND;TZID=America/Los_Angeles:20230907T133000
DTSTAMP:20260425T140622
CREATED:20230831T045428Z
LAST-MODIFIED:20230831T045428Z
UID:80819-1694086200-1694093400@mvblfeast.com
SUMMARY:Parkside Towers
DESCRIPTION:Twister/Rolling Duck
URL:https://mvblfeast.com/event/parkside-towers-11/
LOCATION:Parkside Towers\, 1031 E Hillsdale Blvd\, Foster City\, CA\, 94404\, United States
END:VEVENT
BEGIN:VEVENT
DTSTART;TZID=America/Los_Angeles:20230907T113000
DTEND;TZID=America/Los_Angeles:20230907T133000
DTSTAMP:20260425T140622
CREATED:20230831T045621Z
LAST-MODIFIED:20230831T045757Z
UID:80823-1694086200-1694093400@mvblfeast.com
SUMMARY:Quad Pod
DESCRIPTION:BBQ Kalbi
URL:https://mvblfeast.com/event/quad-pod-4/
LOCATION:Quad POD\, 3005 Tasman Dr\, Santa Clara\, CA\, 95054\, United States
END:VEVENT
BEGIN:VEVENT
DTSTART;TZID=America/Los_Angeles:20230907T170000
DTEND;TZID=America/Los_Angeles:20230907T210000
DTSTAMP:20260425T140622
CREATED:20230131T192825Z
LAST-MODIFIED:20230831T051010Z
UID:79141-1694106000-1694120400@mvblfeast.com
SUMMARY:Gordon Biersch Night Market
DESCRIPTION:Local Craft Beer\, Food Trucks\, Makers\, & Live Entertainment! \nOld Greenwood BBQ • Tlaxiaco’s Pizza • Poke Braddahs • 3 Brothers Kitchen • Flor de Pineapple • Wonk’s Street Tacos• Chubby’s Chicken • Waffle Roost • Junior’s Roaster • Jolly’s Teas Cream
URL:https://mvblfeast.com/event/gordon-biersch-night-market-2023-05-11-2023-05-18-2023-09-07/
LOCATION:Gordon Biersch Brewing (SJ Japantown)\, 357 E Taylor St.\, San Jose\, CA\, 95112\, United States
CATEGORIES:Markets
END:VEVENT
END:VCALENDAR