BEGIN:VCALENDAR
VERSION:2.0
PRODID:-//Moveable Feast - ECPv6.15.13//NONSGML v1.0//EN
CALSCALE:GREGORIAN
METHOD:PUBLISH
X-ORIGINAL-URL:https://mvblfeast.com
X-WR-CALDESC:Events for Moveable Feast
REFRESH-INTERVAL;VALUE=DURATION:PT1H
X-Robots-Tag:noindex
X-PUBLISHED-TTL:PT1H
BEGIN:VTIMEZONE
TZID:America/Los_Angeles
BEGIN:DAYLIGHT
TZOFFSETFROM:-0800
TZOFFSETTO:-0700
TZNAME:PDT
DTSTART:20220313T100000
END:DAYLIGHT
BEGIN:STANDARD
TZOFFSETFROM:-0700
TZOFFSETTO:-0800
TZNAME:PST
DTSTART:20221106T090000
END:STANDARD
BEGIN:DAYLIGHT
TZOFFSETFROM:-0800
TZOFFSETTO:-0700
TZNAME:PDT
DTSTART:20230312T100000
END:DAYLIGHT
BEGIN:STANDARD
TZOFFSETFROM:-0700
TZOFFSETTO:-0800
TZNAME:PST
DTSTART:20231105T090000
END:STANDARD
BEGIN:DAYLIGHT
TZOFFSETFROM:-0800
TZOFFSETTO:-0700
TZNAME:PDT
DTSTART:20240310T100000
END:DAYLIGHT
BEGIN:STANDARD
TZOFFSETFROM:-0700
TZOFFSETTO:-0800
TZNAME:PST
DTSTART:20241103T090000
END:STANDARD
END:VTIMEZONE
BEGIN:VEVENT
DTSTART;TZID=America/Los_Angeles:20230831T080000
DTEND;TZID=America/Los_Angeles:20230831T170000
DTSTAMP:20260425T140543
CREATED:20230802T012604Z
LAST-MODIFIED:20230802T012604Z
UID:80737-1693468800-1693501200@mvblfeast.com
SUMMARY:Parkside Towers
DESCRIPTION:Akita Sushi
URL:https://mvblfeast.com/event/parkside-towers-9/
LOCATION:Parkside Towers\, 1031 E Hillsdale Blvd\, Foster City\, CA\, 94404\, United States
END:VEVENT
BEGIN:VEVENT
DTSTART;TZID=America/Los_Angeles:20230831T113000
DTEND;TZID=America/Los_Angeles:20230831T130000
DTSTAMP:20260425T140543
CREATED:20230131T222540Z
LAST-MODIFIED:20230802T010515Z
UID:77764-1693481400-1693486800@mvblfeast.com
SUMMARY:Pacific Shores
DESCRIPTION:WoKitchen
URL:https://mvblfeast.com/event/pacific-shores-2023-08-31/
LOCATION:Pacific Shores\, 1100 Seaport Blvd\, Redwood City\, CA\, 94063\, United States
END:VEVENT
BEGIN:VEVENT
DTSTART;TZID=America/Los_Angeles:20230831T113000
DTEND;TZID=America/Los_Angeles:20230831T133000
DTSTAMP:20260425T140543
CREATED:20230802T011330Z
LAST-MODIFIED:20230802T011330Z
UID:80695-1693481400-1693488600@mvblfeast.com
SUMMARY:Quad POD
DESCRIPTION:Fire & Rice
URL:https://mvblfeast.com/event/quad-pod-3/
LOCATION:Quad POD\, 3005 Tasman Dr\, Santa Clara\, CA\, 95054\, United States
END:VEVENT
BEGIN:VEVENT
DTSTART;TZID=America/Los_Angeles:20230831T170000
DTEND;TZID=America/Los_Angeles:20230831T210000
DTSTAMP:20260425T140543
CREATED:20230131T192825Z
LAST-MODIFIED:20230802T235933Z
UID:79140-1693501200-1693515600@mvblfeast.com
SUMMARY:Gordon Biersch Night Market
DESCRIPTION:Local Craft Beer\, Food Trucks\, Makers\, & Live Entertainment! \nChick N’ Bros • Rincon del Cielo • T-MO • BBQ Kalbi • Waffle Amore • I Love Cheesesteak • Picnic Basket • Akita Sushi • Road Dogs • Jolly’s Tea Cream
URL:https://mvblfeast.com/event/gordon-biersch-night-market-2023-05-11-2023-05-18-2023-08-31/
LOCATION:Gordon Biersch Brewing (SJ Japantown)\, 357 E Taylor St.\, San Jose\, CA\, 95112\, United States
CATEGORIES:Markets
END:VEVENT
END:VCALENDAR