BEGIN:VCALENDAR
VERSION:2.0
PRODID:-//Moveable Feast - ECPv6.15.13//NONSGML v1.0//EN
CALSCALE:GREGORIAN
METHOD:PUBLISH
X-ORIGINAL-URL:https://mvblfeast.com
X-WR-CALDESC:Events for Moveable Feast
REFRESH-INTERVAL;VALUE=DURATION:PT1H
X-Robots-Tag:noindex
X-PUBLISHED-TTL:PT1H
BEGIN:VTIMEZONE
TZID:America/Los_Angeles
BEGIN:DAYLIGHT
TZOFFSETFROM:-0800
TZOFFSETTO:-0700
TZNAME:PDT
DTSTART:20220313T100000
END:DAYLIGHT
BEGIN:STANDARD
TZOFFSETFROM:-0700
TZOFFSETTO:-0800
TZNAME:PST
DTSTART:20221106T090000
END:STANDARD
BEGIN:DAYLIGHT
TZOFFSETFROM:-0800
TZOFFSETTO:-0700
TZNAME:PDT
DTSTART:20230312T100000
END:DAYLIGHT
BEGIN:STANDARD
TZOFFSETFROM:-0700
TZOFFSETTO:-0800
TZNAME:PST
DTSTART:20231105T090000
END:STANDARD
BEGIN:DAYLIGHT
TZOFFSETFROM:-0800
TZOFFSETTO:-0700
TZNAME:PDT
DTSTART:20240310T100000
END:DAYLIGHT
BEGIN:STANDARD
TZOFFSETFROM:-0700
TZOFFSETTO:-0800
TZNAME:PST
DTSTART:20241103T090000
END:STANDARD
END:VTIMEZONE
BEGIN:VEVENT
DTSTART;TZID=America/Los_Angeles:20230824T113000
DTEND;TZID=America/Los_Angeles:20230824T130000
DTSTAMP:20260425T153941
CREATED:20230131T222540Z
LAST-MODIFIED:20230802T010442Z
UID:77762-1692876600-1692882000@mvblfeast.com
SUMMARY:Pacific Shores
DESCRIPTION:Mr. Andrew’s Catering
URL:https://mvblfeast.com/event/pacific-shores-2023-08-24/
LOCATION:Pacific Shores\, 1100 Seaport Blvd\, Redwood City\, CA\, 94063\, United States
END:VEVENT
BEGIN:VEVENT
DTSTART;TZID=America/Los_Angeles:20230824T113000
DTEND;TZID=America/Los_Angeles:20230824T133000
DTSTAMP:20260425T153941
CREATED:20230627T234434Z
LAST-MODIFIED:20230802T011156Z
UID:80669-1692876600-1692883800@mvblfeast.com
SUMMARY:Quad POD
DESCRIPTION:Waffle Amore
URL:https://mvblfeast.com/event/quad-pod-2-2023-08-24/
LOCATION:Quad POD\, 3005 Tasman Dr\, Santa Clara\, CA\, 95054\, United States
END:VEVENT
BEGIN:VEVENT
DTSTART;TZID=America/Los_Angeles:20230824T113000
DTEND;TZID=America/Los_Angeles:20230824T133000
DTSTAMP:20260425T153941
CREATED:20230802T012417Z
LAST-MODIFIED:20230802T012503Z
UID:80728-1692876600-1692883800@mvblfeast.com
SUMMARY:Parkside Towers
DESCRIPTION:WoKitchen
URL:https://mvblfeast.com/event/parkside-towers-8-2023-08-24/
LOCATION:Parkside Towers\, 1031 E Hillsdale Blvd\, Foster City\, CA\, 94404\, United States
END:VEVENT
BEGIN:VEVENT
DTSTART;TZID=America/Los_Angeles:20230824T170000
DTEND;TZID=America/Los_Angeles:20230824T210000
DTSTAMP:20260425T153941
CREATED:20230131T192825Z
LAST-MODIFIED:20230802T235723Z
UID:79139-1692896400-1692910800@mvblfeast.com
SUMMARY:Gordon Biersch Night Market
DESCRIPTION:Local Craft Beer\, Food Trucks\, Makers\, & Live Entertainment! \nFresh Catch Poke • Grillzillas • Sam’s Chowdermobile • Takoz Mod Mex • Capelo’s BBQ • I Love Cheesesteak • Thai Thai • MC Sushi • Waffle Roost • Jolly’s Tea Cream
URL:https://mvblfeast.com/event/gordon-biersch-night-market-2023-05-11-2023-05-18-2023-08-24/
LOCATION:Gordon Biersch Brewing (SJ Japantown)\, 357 E Taylor St.\, San Jose\, CA\, 95112\, United States
CATEGORIES:Markets
END:VEVENT
END:VCALENDAR