BEGIN:VCALENDAR
VERSION:2.0
PRODID:-//Moveable Feast - ECPv6.15.13//NONSGML v1.0//EN
CALSCALE:GREGORIAN
METHOD:PUBLISH
X-ORIGINAL-URL:https://mvblfeast.com
X-WR-CALDESC:Events for Moveable Feast
REFRESH-INTERVAL;VALUE=DURATION:PT1H
X-Robots-Tag:noindex
X-PUBLISHED-TTL:PT1H
BEGIN:VTIMEZONE
TZID:America/Los_Angeles
BEGIN:DAYLIGHT
TZOFFSETFROM:-0800
TZOFFSETTO:-0700
TZNAME:PDT
DTSTART:20220313T100000
END:DAYLIGHT
BEGIN:STANDARD
TZOFFSETFROM:-0700
TZOFFSETTO:-0800
TZNAME:PST
DTSTART:20221106T090000
END:STANDARD
BEGIN:DAYLIGHT
TZOFFSETFROM:-0800
TZOFFSETTO:-0700
TZNAME:PDT
DTSTART:20230312T100000
END:DAYLIGHT
BEGIN:STANDARD
TZOFFSETFROM:-0700
TZOFFSETTO:-0800
TZNAME:PST
DTSTART:20231105T090000
END:STANDARD
BEGIN:DAYLIGHT
TZOFFSETFROM:-0800
TZOFFSETTO:-0700
TZNAME:PDT
DTSTART:20240310T100000
END:DAYLIGHT
BEGIN:STANDARD
TZOFFSETFROM:-0700
TZOFFSETTO:-0800
TZNAME:PST
DTSTART:20241103T090000
END:STANDARD
END:VTIMEZONE
BEGIN:VEVENT
DTSTART;TZID=America/Los_Angeles:20230810T113000
DTEND;TZID=America/Los_Angeles:20230810T130000
DTSTAMP:20260425T153941
CREATED:20230131T222540Z
LAST-MODIFIED:20230802T010343Z
UID:77758-1691667000-1691672400@mvblfeast.com
SUMMARY:Pacific Shores
DESCRIPTION:Cielito Lindo
URL:https://mvblfeast.com/event/pacific-shores-2023-08-10/
LOCATION:Pacific Shores\, 1100 Seaport Blvd\, Redwood City\, CA\, 94063\, United States
END:VEVENT
BEGIN:VEVENT
DTSTART;TZID=America/Los_Angeles:20230810T113000
DTEND;TZID=America/Los_Angeles:20230810T133000
DTSTAMP:20260425T153941
CREATED:20230627T234434Z
LAST-MODIFIED:20230802T011113Z
UID:80667-1691667000-1691674200@mvblfeast.com
SUMMARY:Quad POD
DESCRIPTION:Tlaxiaco’s Pizza
URL:https://mvblfeast.com/event/quad-pod-2-2023-08-10/
LOCATION:Quad POD\, 3005 Tasman Dr\, Santa Clara\, CA\, 95054\, United States
END:VEVENT
BEGIN:VEVENT
DTSTART;TZID=America/Los_Angeles:20230810T113000
DTEND;TZID=America/Los_Angeles:20230810T133000
DTSTAMP:20260425T153941
CREATED:20230802T011617Z
LAST-MODIFIED:20230802T011858Z
UID:80703-1691667000-1691674200@mvblfeast.com
SUMMARY:Parkside Towers
DESCRIPTION:Miss Subi
URL:https://mvblfeast.com/event/parkside-towers-5-2023-08-10/
LOCATION:Parkside Towers\, 1031 E Hillsdale Blvd\, Foster City\, CA\, 94404\, United States
END:VEVENT
BEGIN:VEVENT
DTSTART;TZID=America/Los_Angeles:20230810T170000
DTEND;TZID=America/Los_Angeles:20230810T210000
DTSTAMP:20260425T153941
CREATED:20230131T192825Z
LAST-MODIFIED:20230802T235304Z
UID:79137-1691686800-1691701200@mvblfeast.com
SUMMARY:Gordon Biersch Night Market
DESCRIPTION:Local Craft Beer\, Food Trucks\, Makers\, & Live Entertainment! \nCielito Lindo • Old Greenwood BBQ • BBQ Kalbi • Waffle Amore • Pupusa Lady • Poke Braddahs • Akita Sushi • Road Dogs • Junior’s Roaster • Jolly’s Tea Cream
URL:https://mvblfeast.com/event/gordon-biersch-night-market-2023-05-11-2023-05-18-2023-08-10/
LOCATION:Gordon Biersch Brewing (SJ Japantown)\, 357 E Taylor St.\, San Jose\, CA\, 95112\, United States
CATEGORIES:Markets
END:VEVENT
END:VCALENDAR