BEGIN:VCALENDAR
VERSION:2.0
PRODID:-//Moveable Feast - ECPv6.15.13//NONSGML v1.0//EN
CALSCALE:GREGORIAN
METHOD:PUBLISH
X-WR-CALNAME:Moveable Feast
X-ORIGINAL-URL:https://mvblfeast.com
X-WR-CALDESC:Events for Moveable Feast
REFRESH-INTERVAL;VALUE=DURATION:PT1H
X-Robots-Tag:noindex
X-PUBLISHED-TTL:PT1H
BEGIN:VTIMEZONE
TZID:America/Los_Angeles
BEGIN:DAYLIGHT
TZOFFSETFROM:-0800
TZOFFSETTO:-0700
TZNAME:PDT
DTSTART:20220313T100000
END:DAYLIGHT
BEGIN:STANDARD
TZOFFSETFROM:-0700
TZOFFSETTO:-0800
TZNAME:PST
DTSTART:20221106T090000
END:STANDARD
BEGIN:DAYLIGHT
TZOFFSETFROM:-0800
TZOFFSETTO:-0700
TZNAME:PDT
DTSTART:20230312T100000
END:DAYLIGHT
BEGIN:STANDARD
TZOFFSETFROM:-0700
TZOFFSETTO:-0800
TZNAME:PST
DTSTART:20231105T090000
END:STANDARD
BEGIN:DAYLIGHT
TZOFFSETFROM:-0800
TZOFFSETTO:-0700
TZNAME:PDT
DTSTART:20240310T100000
END:DAYLIGHT
BEGIN:STANDARD
TZOFFSETFROM:-0700
TZOFFSETTO:-0800
TZNAME:PST
DTSTART:20241103T090000
END:STANDARD
END:VTIMEZONE
BEGIN:VEVENT
DTSTART;TZID=America/Los_Angeles:20230728T170000
DTEND;TZID=America/Los_Angeles:20230728T210000
DTSTAMP:20260425T171913
CREATED:20230404T214105Z
LAST-MODIFIED:20230711T234739Z
UID:79197-1690563600-1690578000@mvblfeast.com
SUMMARY:Berryessa Night Market (@Garden at the Flea)
DESCRIPTION:Maktub Espresso Cafe • Barya • Chick N’ Bros • Chubby’s Chickn • Akita Sushi • Fonseca’s Mexican Food • Chula Puebla • Cielito Lindo • Junior’s Roaster • Taqueria La Suprema • Flor de Pineapple • ABVE the Basics
URL:https://mvblfeast.com/event/berryessa-night-market-garden-at-the-flea-2023-07-28/
LOCATION:Garden at the Flea\, 1590 Berryessa Rd\, San Jose\, CA\, 95133\, United States
END:VEVENT
END:VCALENDAR