BEGIN:VCALENDAR
VERSION:2.0
PRODID:-//Moveable Feast - ECPv6.15.13//NONSGML v1.0//EN
CALSCALE:GREGORIAN
METHOD:PUBLISH
X-ORIGINAL-URL:https://mvblfeast.com
X-WR-CALDESC:Events for Moveable Feast
REFRESH-INTERVAL;VALUE=DURATION:PT1H
X-Robots-Tag:noindex
X-PUBLISHED-TTL:PT1H
BEGIN:VTIMEZONE
TZID:America/Los_Angeles
BEGIN:DAYLIGHT
TZOFFSETFROM:-0800
TZOFFSETTO:-0700
TZNAME:PDT
DTSTART:20220313T100000
END:DAYLIGHT
BEGIN:STANDARD
TZOFFSETFROM:-0700
TZOFFSETTO:-0800
TZNAME:PST
DTSTART:20221106T090000
END:STANDARD
BEGIN:DAYLIGHT
TZOFFSETFROM:-0800
TZOFFSETTO:-0700
TZNAME:PDT
DTSTART:20230312T100000
END:DAYLIGHT
BEGIN:STANDARD
TZOFFSETFROM:-0700
TZOFFSETTO:-0800
TZNAME:PST
DTSTART:20231105T090000
END:STANDARD
BEGIN:DAYLIGHT
TZOFFSETFROM:-0800
TZOFFSETTO:-0700
TZNAME:PDT
DTSTART:20240310T100000
END:DAYLIGHT
BEGIN:STANDARD
TZOFFSETFROM:-0700
TZOFFSETTO:-0800
TZNAME:PST
DTSTART:20241103T090000
END:STANDARD
END:VTIMEZONE
BEGIN:VEVENT
DTSTART;TZID=America/Los_Angeles:20230518T170000
DTEND;TZID=America/Los_Angeles:20230518T210000
DTSTAMP:20260424T005542
CREATED:20230131T192825Z
LAST-MODIFIED:20230509T232308Z
UID:79125-1684429200-1684443600@mvblfeast.com
SUMMARY:Gordon Biersch Night Market
DESCRIPTION:Event Details releasing soon!\nDescription: Local Craft Beer\, Food Trucks\, Makers\, & Live Entertainment!
URL:https://mvblfeast.com/event/gordon-biersch-night-market-2023-05-11-2023-05-18/2023-05-18/
LOCATION:Gordon Biersch Brewing (SJ Japantown)\, 357 E Taylor St.\, San Jose\, CA\, 95112\, United States
CATEGORIES:Markets
END:VEVENT
END:VCALENDAR